{"text_format":"1","workbook":"xlsx","n_sheets":15,"sheets":["Introduction","1) Identif. aliments enrichis","2) Liste d'ident. aliments clés","3A) Menu d'aliments clés","3B-4B) CalcNutr (6-11)","5) Tableaux de bord (6-11mois)","3B-4B) Calc Nutr (12 à 23)","5) Tableaux de bord (12-23mois)","3B-4B) Calc Nutr (2 à 5 ans)","5) Tableaux de bord (2 à 5 ans)","Aliments courants TCA ","RBAMFE Nº1 (Détails)","RBAMFE Nº2 (Détails)","RBAMFE Nº3 (Détails)","RBAMFE Nº4 (Détails)"],"not_rendered":{"charts":0,"images":2,"macros":1,"external_links":0,"defined_names":0,"comments":0,"pivot_tables":0},"unopened":[],"bounds":{"document_bytes":16777216,"sheet_cells":100000,"rows_first":2000,"rows_last":500,"rows_between":2000,"halvings":0,"cell_chars":16384,"cell_head_chars":4096},"cells_cut":0,"cells_raw":0,"read":"whole","date_system":"1900"}

{"sheet":"Introduction","index":0,"n_rows":0,"n_cols":0,"rows_kept":0,"cut":false,"hidden":false,"merged":[]}

{"sheet":"1) Identif. aliments enrichis","index":1,"n_rows":35,"n_cols":15,"rows_kept":35,"cut":false,"hidden":false,"merged":[[23,0,25,0],[23,1,25,1],[23,2,25,2],[23,3,25,3],[23,4,25,4],[14,0,16,0],[14,1,16,1],[14,2,16,2],[14,3,16,3],[14,4,16,4],[7,0,8,0],[12,5,13,5],[12,6,12,9],[7,1,9,1],[9,6,9,10],[10,1,10,5],[11,0,11,14],[12,0,13,0],[12,1,13,1],[12,2,13,2],[12,14,13,14],[12,3,13,3],[12,4,13,4],[12,10,12,11],[12,12,12,13],[10,12,10,13],[1,0,1,9],[2,2,2,9],[3,7,3,8],[5,0,6,0],[5,1,6,1],[0,0,0,14],[32,4,34,4],[26,0,28,0],[26,1,28,1],[26,2,28,2],[26,3,28,3],[26,4,28,4],[29,1,31,1],[29,4,31,4],[29,0,31,0],[32,0,34,0],[32,1,34,1],[32,2,34,2],[32,3,34,3],[17,4,19,4],[20,1,22,1],[20,4,22,4],[29,2,31,2],[29,3,31,3],[20,2,22,2],[20,3,22,3],[17,0,19,0],[17,1,19,1],[17,2,19,2],[17,3,19,3],[20,0,22,0],[32,10,34,10],[32,11,34,11],[32,12,34,12],[32,13,34,13],[32,14,34,14],[13,15,25,15],[14,12,16,12],[14,13,16,13],[14,14,16,14],[20,14,22,14],[23,14,25,14],[17,12,19,12],[23,13,25,13],[23,12,25,12],[29,10,31,10],[29,11,31,11],[14,10,16,10],[17,10,19,10],[17,11,19,11],[14,11,16,11],[23,10,25,10],[23,11,25,11],[20,10,22,10],[20,11,22,11],[26,10,28,10],[26,11,28,11],[26,14,28,14],[17,13,19,13],[17,14,19,14],[29,12,31,12],[29,13,31,13],[29,14,31,14],[20,12,22,12],[20,13,22,13],[26,12,28,12],[26,13,28,13]]}
["Identification des aliments enrichis / suppléments"]
["Phase 0 : Définir la ou les populations spécifiques et le ou les nutriments concernés pour l'option 1 ou l'option 2"]
[null,null,"Menu des aliments clés (Option 1)"]
[null,null,null,null,null,null,null,"Gestion MAM"]
[null,null,null,null,null,null,null,null,"Calcul de nutrition ANJE (Option 2)"]
[0.1,"Cocher la case correspondant à la ou les population(s) cible(s) de ce FBD.","Adultes - Hommes","Adultes - Femmes","Adultes - FEA","Adolescents \n(14 à 18 ans)","Enfants \n(5 à 8 ans)","Enfants \n(2 à 5 ans)","Enfants \n(6 à 24 mois)","Autre \n(insérer ci-dessous)"]
[]
[0.2,"En plus des protéines, et par ordre de priorité des nutriments préoccupants, veuillez sélectionner les 1 à 3 nutriments les plus préoccupants","Protéines &","Sélectionnez Nb1 Micronutriment préoccupant","Sélectionner Nb2 Micronutriment préoccupant","Sélectionnez Nb3 Micronutriment préoccupant",null,null," "]
[null,null,"Protéines (g)",null,null,null,null," ",null,"x"]
[null,null,true,true,true,true]
[null,null,null,null,null,null,null,null,null,null,null,null,"*Note : Quelle proportion de la population a accès à ces aliments enrichis ? Il peut s'agir d'une évaluation subjective basée sur des données secondaires. "]
["Phase 1 : Identifier les aliments enrichis ou les suppléments existants dans votre contexte"]
["Nº","Nom de l'aliment / Marque","Population cible","Type d'aliment/supplément enrichi","Forme","Accessibilité","Trimestres de l'année",null,null,null,"Considérations liées à la durabilité",null,"Couverture des aliments ou compléments alimentaires enrichis",null,"Commentaires /Observations additionnels pour la sélection des aliments clés"]
[null,null,null,null,null,null,"Janvier-Mars","Avril-Juin","Juilet-Sept","Oct-Déc","Souhaité","Soutenu / promu par le gouvernement ?","Couverture de la population*","Source de données pour la couverture"]
[1,"Poudre de micronutriments multiples",null,null,null,"Disponibilité"]
[null,null,null,null,null,"Abordabilité"]
[null,null,null,null,null,"Origine"]
[2,"[insérer le nom de l'aliment/complément enrichi]",null,null,null,"Disponibilité"]
[null,null,null,null,null,"Abordabilité"]
[null,null,null,null,null,"Origine"]
[3,"[insérer le nom de l'aliment/complément enrichi]",null,null,null,"Disponibilité"]
[null,null,null,null,null,"Abordabilité"]
[null,null,null,null,null,"Origine"]
[4,"[insérer le nom de l'aliment/complément enrichi]",null,null,null,"Disponibilité"]
[null,null,null,null,null,"Abordabilité"]
[null,null,null,null,null,"Origine"]
[5,"[insérer le nom de l'aliment/complément enrichi]",null,null,null,"Disponibilité"]
[null,null,null,null,null,"Abordabilité"]
[null,null,null,null,null,"Origine"]
[6,"[insérer le nom de l'aliment/complément enrichi]",null,null,null,"Disponibilité"]
[null,null,null,null,null,"Abordabilité"]
[null,null,null,null,null,"Origine"]
[7,"[insérer le nom de l'aliment/complément enrichi]",null,null,null,"Disponibilité"]
[null,null,null,null,null,"Abordabilité"]
[null,null,null,null,null,"Origine"]

{"sheet":"2) Liste d'ident. aliments clés","index":2,"n_rows":115,"n_cols":30,"rows_kept":115,"cut":false,"hidden":false,"merged":[[102,0,104,0],[102,1,104,1],[102,2,104,2],[88,0,90,0],[88,1,90,1],[92,3,94,3],[71,3,73,3],[71,0,73,0],[71,1,73,1],[81,3,83,3],[81,0,83,0],[81,1,83,1],[92,1,94,1],[92,2,94,2],[95,3,97,3],[95,0,97,0],[95,1,97,1],[85,3,87,3],[85,0,87,0],[95,2,97,2],[92,0,94,0],[99,0,101,0],[99,1,101,1],[99,2,101,2],[111,8,111,10],[106,5,106,7],[106,8,106,10],[107,8,107,10],[102,5,102,7],[102,8,102,10],[108,8,108,10],[109,8,109,10],[103,5,103,7],[103,8,103,10],[104,5,104,7],[104,8,104,10],[99,3,101,3],[109,0,111,0],[109,1,111,1],[109,2,111,2],[102,3,104,3],[106,11,106,13],[106,14,106,16],[110,11,110,13],[110,14,110,16],[111,11,111,13],[111,14,111,16],[106,3,108,3],[106,0,108,0],[106,1,108,1],[106,2,108,2],[107,5,107,7],[108,5,108,7],[109,5,109,7],[109,3,111,3],[110,5,110,7],[102,11,102,13],[102,14,102,16],[110,8,110,10],[111,5,111,7],[102,17,104,17],[104,11,104,13],[104,14,104,16],[109,11,109,13],[109,14,109,16],[109,27,111,27],[102,28,104,28],[109,22,111,22],[109,23,111,23],[109,24,111,24],[109,28,111,28],[109,17,111,17],[109,18,111,18],[109,19,111,19],[109,20,111,20],[109,21,111,21],[109,25,111,25],[109,26,111,26],[108,11,108,13],[108,14,108,16],[107,11,107,13],[107,14,107,16],[102,29,104,29],[102,20,104,20],[102,21,104,21],[102,22,104,22],[102,23,104,23],[102,24,104,24],[102,25,104,25],[102,26,104,26],[106,20,108,20],[106,21,108,21],[106,22,108,22],[109,29,111,29],[103,11,103,13],[103,14,103,16],[106,27,108,27],[106,28,108,28],[106,29,108,29],[95,26,97,26],[99,25,101,25],[99,26,101,26],[99,27,101,27],[99,28,101,28],[99,29,101,29],[99,18,101,18],[95,18,97,18],[95,19,97,19],[95,20,97,20],[95,21,97,21],[95,22,97,22],[102,27,104,27],[102,18,104,18],[102,19,104,19],[95,29,97,29],[99,22,101,22],[99,23,101,23],[99,24,101,24],[95,27,97,27],[95,28,97,28],[92,29,94,29],[106,17,108,17],[106,18,108,18],[106,19,108,19],[106,23,108,23],[106,24,108,24],[106,25,108,25],[106,26,108,26],[92,19,94,19],[92,20,94,20],[92,21,94,21],[92,22,94,22],[92,23,94,23],[92,24,94,24],[92,25,94,25],[99,19,101,19],[99,20,101,20],[99,21,101,21],[92,27,94,27],[92,28,94,28],[92,26,94,26],[86,5,86,7],[99,5,99,7],[99,8,99,10],[99,11,99,13],[99,14,99,16],[97,8,97,10],[97,11,97,13],[97,14,97,16],[99,17,101,17],[101,11,101,13],[101,14,101,16],[100,8,100,10],[100,11,100,13],[100,14,100,16],[101,8,101,10],[100,5,100,7],[101,5,101,7],[88,17,90,17],[87,14,87,16],[88,14,88,16],[88,18,90,18],[88,8,88,10],[89,8,89,10],[95,23,97,23],[83,14,83,16],[92,5,92,7],[93,5,93,7],[96,11,96,13],[96,14,96,16],[96,5,96,7],[97,5,97,7],[95,5,95,7],[94,5,94,7],[87,5,87,7],[88,5,88,7],[84,5,84,7],[92,11,92,13],[92,14,92,16],[83,11,83,13],[83,8,83,10],[84,8,84,10],[84,11,84,13],[84,14,84,16],[81,17,83,17],[95,24,97,24],[95,25,97,25],[90,8,90,10],[85,11,85,13],[85,22,87,22],[85,23,87,23],[85,24,87,24],[95,11,95,13],[95,14,95,16],[95,17,97,17],[93,8,93,10],[93,11,93,13],[94,8,94,10],[94,11,94,13],[94,14,94,16],[95,8,95,10],[96,8,96,10],[92,17,94,17],[92,18,94,18],[93,14,93,16],[92,8,92,10],[90,11,90,13],[90,14,90,16],[85,25,87,25],[60,0,62,0],[60,1,62,1],[60,2,62,2],[81,2,83,2],[28,5,28,7],[35,3,37,3],[35,0,37,0],[35,1,37,1],[35,2,37,2],[67,5,67,7],[68,5,68,7],[69,5,69,7],[71,5,71,7],[63,3,65,3],[63,0,65,0],[63,1,65,1],[67,1,69,1],[67,2,69,2],[67,3,69,3],[67,0,69,0],[32,0,34,0],[32,1,34,1],[28,0,30,0],[28,1,30,1],[88,2,90,2],[71,2,73,2],[74,3,76,3],[74,0,76,0],[74,1,76,1],[74,2,76,2],[78,3,80,3],[78,0,80,0],[78,1,80,1],[78,2,80,2],[85,1,87,1],[85,2,87,2],[88,3,90,3],[12,3,14,3],[12,0,14,0],[12,1,14,1],[12,2,14,2],[53,8,53,10],[80,5,80,7],[81,5,81,7],[82,5,82,7],[83,5,83,7],[28,2,30,2],[63,2,65,2],[60,3,62,3],[68,8,68,10],[69,8,69,10],[74,8,74,10],[81,8,81,10],[82,8,82,10],[32,3,34,3],[32,2,34,2],[29,5,29,7],[30,5,30,7],[28,3,30,3],[32,5,32,7],[33,5,33,7],[17,5,17,7],[19,5,19,7],[25,3,27,3],[25,0,27,0],[25,1,27,1],[25,2,27,2],[26,5,26,7],[27,5,27,7],[23,5,23,7],[24,5,24,7],[25,5,25,7],[19,3,21,3],[6,0,8,0],[6,1,8,1],[9,3,11,3],[9,0,11,0],[9,1,11,1],[9,2,11,2],[3,0,4,0],[3,1,4,1],[3,3,4,3],[5,2,5,4],[3,2,4,2],[3,4,4,4],[34,5,34,7],[34,8,34,10],[55,5,55,7],[35,5,35,7],[32,8,32,10],[45,8,45,10],[46,8,46,10],[37,5,37,7],[37,8,37,10],[38,8,38,10],[39,8,39,10],[40,8,40,10],[42,8,42,10],[43,8,43,10],[44,8,44,10],[47,8,47,10],[35,8,35,10],[36,5,36,7],[36,8,36,10],[49,5,49,7],[50,5,50,7],[41,5,41,7],[41,8,41,10],[33,8,33,10],[57,0,59,0],[57,1,59,1],[57,2,59,2],[57,3,59,3],[59,5,59,7],[54,8,54,10],[55,8,55,10],[48,8,48,10],[49,8,49,10],[50,8,50,10],[51,8,51,10],[52,8,52,10],[49,1,51,1],[56,8,56,10],[53,3,55,3],[53,1,55,1],[53,2,55,2],[57,5,57,7],[57,8,57,10],[51,5,51,7],[52,5,52,7],[53,5,53,7],[54,5,54,7],[49,3,51,3],[56,5,56,7],[53,0,55,0],[42,0,44,0],[56,2,56,4],[49,0,51,0],[49,2,51,2],[46,5,46,7],[47,5,47,7],[38,3,40,3],[39,5,39,7],[40,5,40,7],[42,5,42,7],[43,5,43,7],[44,5,44,7],[38,5,38,7],[45,3,47,3],[45,0,47,0],[45,1,47,1],[45,2,47,2],[45,5,45,7],[48,5,48,7],[42,3,44,3],[42,1,44,1],[42,2,44,2],[41,11,41,13],[41,14,41,16],[42,11,42,13],[42,14,42,16],[38,0,40,0],[38,1,40,1],[38,2,40,2],[52,11,52,13],[52,14,52,16],[43,11,43,13],[53,11,53,13],[53,14,53,16],[54,11,54,13],[58,11,58,13],[59,11,59,13],[53,18,55,18],[43,14,43,16],[44,11,44,13],[44,14,44,16],[55,11,55,13],[53,19,55,19],[53,20,55,20],[53,21,55,21],[53,22,55,22],[53,23,55,23],[53,24,55,24],[57,25,59,25],[54,14,54,16],[58,14,58,16],[53,17,55,17],[57,19,59,19],[57,20,59,20],[57,21,59,21],[57,22,59,22],[57,23,59,23],[59,14,59,16],[55,14,55,16],[57,18,59,18],[60,29,62,29],[60,17,62,17],[60,18,62,18],[60,19,62,19],[60,20,62,20],[60,21,62,21],[60,22,62,22],[60,23,62,23],[56,11,56,13],[56,14,56,16],[57,11,57,13],[57,14,57,16],[57,17,59,17],[57,27,59,27],[57,29,59,29],[60,24,62,24],[60,25,62,25],[60,26,62,26],[60,27,62,27],[60,28,62,28],[57,26,59,26],[60,14,60,16],[57,24,59,24],[57,28,59,28],[53,29,55,29],[45,22,47,22],[32,29,34,29],[33,11,33,13],[33,14,33,16],[38,17,40,17],[38,18,40,18],[38,19,40,19],[40,11,40,13],[40,14,40,16],[35,18,37,18],[35,19,37,19],[32,22,34,22],[32,23,34,23],[32,24,34,24],[32,25,34,25],[32,26,34,26],[32,27,34,27],[32,28,34,28],[37,11,37,13],[37,14,37,16],[34,11,34,13],[34,14,34,16],[32,18,34,18],[38,29,40,29],[42,29,44,29],[38,20,40,20],[38,21,40,21],[38,22,40,22],[38,23,40,23],[35,29,37,29],[35,20,37,20],[35,21,37,21],[35,22,37,22],[35,23,37,23],[35,27,37,27],[35,28,37,28],[35,25,37,25],[38,24,40,24],[25,29,27,29],[25,20,27,20],[25,21,27,21],[25,22,27,22],[25,23,27,23],[25,24,27,24],[25,25,27,25],[25,26,27,26],[28,29,30,29],[25,28,27,28],[28,28,30,28],[28,17,30,17],[28,18,30,18],[28,19,30,19],[38,27,40,27],[32,17,34,17],[32,11,32,13],[32,14,32,16],[35,17,37,17],[36,11,36,13],[28,27,30,27],[28,20,30,20],[28,21,30,21],[28,22,30,22],[28,23,30,23],[28,24,30,24],[28,25,30,25],[28,26,30,26],[32,19,34,19],[38,26,40,26],[35,26,37,26],[29,11,29,13],[29,14,29,16],[38,11,38,13],[38,14,38,16],[27,14,27,16],[30,11,30,13],[30,14,30,16],[28,8,28,10],[29,8,29,10],[39,11,39,13],[39,14,39,16],[36,14,36,16],[35,11,35,13],[35,14,35,16],[28,11,28,13],[28,14,28,16],[49,26,51,26],[49,27,51,27],[49,28,51,28],[49,29,51,29],[49,18,51,18],[49,19,51,19],[49,20,51,20],[49,21,51,21],[49,22,51,22],[49,23,51,23],[49,24,51,24],[45,29,47,29],[46,11,46,13],[46,14,46,16],[45,11,45,13],[45,14,45,16],[45,17,47,17],[45,18,47,18],[45,19,47,19],[45,20,47,20],[45,21,47,21],[47,11,47,13],[47,14,47,16],[45,28,47,28],[53,28,55,28],[32,20,34,20],[32,21,34,21],[42,17,44,17],[42,18,44,18],[42,19,44,19],[42,27,44,27],[42,28,44,28],[42,20,44,20],[42,21,44,21],[42,22,44,22],[42,23,44,23],[42,24,44,24],[42,25,44,25],[42,26,44,26],[38,25,40,25],[45,23,47,23],[45,24,47,24],[45,25,47,25],[45,26,47,26],[45,27,47,27],[49,17,51,17],[35,24,37,24],[49,25,51,25],[22,29,24,29],[22,18,24,18],[22,19,24,19],[22,20,24,20],[22,21,24,21],[22,22,24,22],[22,23,24,23],[22,24,24,24],[22,0,24,0],[22,1,24,1],[22,2,24,2],[22,5,22,7],[22,8,22,10],[22,11,22,13],[22,14,22,16],[22,17,24,17],[22,26,24,26],[22,27,24,27],[22,28,24,28],[24,8,24,10],[24,11,24,13],[24,14,24,16],[19,27,21,27],[23,8,23,10],[23,11,23,13],[23,14,23,16],[19,25,21,25],[18,5,18,7],[15,3,17,3],[20,8,20,10],[20,11,20,13],[21,5,21,7],[21,8,21,10],[15,19,17,19],[22,3,24,3],[22,25,24,25],[19,21,21,21],[19,22,21,22],[19,14,19,16],[19,18,21,18],[19,19,21,19],[19,20,21,20],[19,17,21,17],[16,8,16,10],[17,8,17,10],[15,5,15,7],[3,29,4,29],[15,0,17,0],[15,1,17,1],[15,2,17,2],[19,0,21,0],[19,1,21,1],[19,2,21,2],[9,29,11,29],[9,20,11,20],[9,21,11,21],[9,22,11,22],[9,23,11,23],[9,24,11,24],[9,25,11,25],[9,26,11,26],[10,8,10,10],[10,11,10,13],[9,8,9,10],[11,8,11,10],[9,27,11,27],[9,28,11,28],[9,11,9,13],[6,2,8,2],[19,29,21,29],[3,27,4,27],[19,8,19,10],[19,11,19,13],[20,14,20,16],[21,14,21,16],[15,29,17,29],[15,21,17,21],[15,22,17,22],[15,23,17,23],[15,24,17,24],[15,25,17,25],[15,26,17,26],[15,27,17,27],[15,14,15,16],[15,17,17,17],[15,18,17,18],[12,17,14,17],[12,18,14,18],[12,27,14,27],[12,28,14,28],[12,8,12,10],[12,29,14,29],[6,27,8,27],[6,28,8,28],[53,26,55,26],[53,27,55,27],[38,28,40,28],[25,27,27,27],[6,29,8,29],[2,2,2,4],[2,5,2,6],[2,9,2,10],[2,23,2,27],[6,3,8,3],[7,11,7,13],[7,14,7,16],[8,11,8,13],[8,14,8,16],[4,11,4,13],[4,14,4,16],[5,11,5,13],[5,14,5,16],[6,11,6,13],[6,14,6,16],[6,17,8,17],[4,5,4,7],[4,8,4,10],[5,5,5,7],[3,28,4,28],[88,27,90,27],[88,28,90,28],[88,20,90,20],[88,21,90,21],[88,22,90,22],[88,23,90,23],[88,24,90,24],[88,25,90,25],[88,26,90,26],[71,26,73,26],[71,27,73,27],[15,20,17,20],[12,25,14,25],[12,26,14,26],[3,23,3,26],[15,28,17,28],[19,23,21,23],[19,24,21,24],[19,26,21,26],[19,28,21,28],[12,20,14,20],[12,21,14,21],[53,25,55,25],[12,23,14,23],[12,24,14,24],[13,8,13,10],[13,11,13,13],[14,8,14,10],[14,11,14,13],[13,14,13,16],[14,14,14,16],[9,19,11,19],[10,14,10,16],[9,18,11,18],[12,19,14,19],[12,22,14,22],[6,25,8,25],[6,26,8,26],[6,18,8,18],[6,19,8,19],[6,21,8,21],[6,22,8,22],[6,23,8,23],[6,5,6,7],[6,24,8,24],[9,5,9,7],[10,5,10,7],[11,5,11,7],[12,5,12,7],[13,5,13,7],[20,5,20,7],[21,11,21,13],[3,17,3,22],[6,20,8,20],[6,8,6,10],[7,8,7,10],[11,11,11,13],[11,14,11,16],[12,11,12,13],[12,14,12,16],[9,14,9,16],[9,17,11,17],[8,8,8,10],[5,8,5,10],[3,5,3,16],[7,5,7,7],[8,5,8,7],[14,5,14,7],[16,5,16,7],[58,8,58,10],[65,8,65,10],[63,17,65,17],[63,18,65,18],[63,19,65,19],[64,14,64,16],[65,11,65,13],[65,14,65,16],[62,8,62,10],[63,14,63,16],[61,11,61,13],[63,11,63,13],[59,8,59,10],[60,8,60,10],[61,8,61,10],[64,8,64,10],[64,11,64,13],[63,8,63,10],[63,27,65,27],[63,28,65,28],[63,29,65,29],[63,20,65,20],[63,21,65,21],[63,22,65,22],[63,23,65,23],[63,24,65,24],[63,25,65,25],[63,26,65,26],[81,18,83,18],[74,23,76,23],[74,24,76,24],[74,25,76,25],[71,29,73,29],[85,14,85,16],[86,14,86,16],[71,25,73,25],[78,27,80,27],[78,28,80,28],[74,29,76,29],[74,21,76,21],[74,22,76,22],[74,26,76,26],[74,27,76,27],[73,14,73,16],[71,28,73,28],[74,28,76,28],[82,14,82,16],[80,14,80,16],[81,14,81,16],[81,19,83,19],[78,25,80,25],[78,29,80,29],[67,23,69,23],[67,24,69,24],[67,25,69,25],[67,26,69,26],[78,26,80,26],[71,22,73,22],[71,23,73,23],[71,24,73,24],[67,27,69,27],[67,28,69,28],[78,22,80,22],[78,23,80,23],[78,24,80,24],[74,11,74,13],[72,14,72,16],[72,8,72,10],[73,8,73,10],[67,11,67,13],[67,14,67,16],[71,8,71,10],[71,11,71,13],[72,11,72,13],[73,11,73,13],[78,19,80,19],[78,20,80,20],[78,21,80,21],[67,8,67,10],[78,11,78,13],[70,11,70,13],[68,11,68,13],[69,11,69,13],[77,8,77,10],[77,11,77,13],[73,5,73,7],[81,11,81,13],[77,5,77,7],[67,29,69,29],[67,20,69,20],[67,21,69,21],[67,22,69,22],[71,20,73,20],[71,21,73,21],[74,20,76,20],[69,14,69,16],[71,14,71,16],[71,17,73,17],[71,18,73,18],[71,19,73,19],[74,14,74,16],[74,17,76,17],[74,19,76,19],[74,18,76,18],[70,14,70,16],[67,17,69,17],[67,18,69,18],[67,19,69,19],[68,14,68,16],[82,11,82,13],[80,11,80,13],[75,5,75,7],[76,5,76,7],[78,5,78,7],[79,5,79,7],[78,17,80,17],[79,14,79,16],[79,8,79,10],[79,11,79,13],[78,8,78,10],[80,8,80,10],[75,8,75,10],[75,11,75,13],[76,8,76,10],[76,11,76,13],[78,14,78,16],[75,14,75,16],[76,14,76,16],[77,14,77,16],[81,27,83,27],[81,28,83,28],[81,20,83,20],[81,21,83,21],[81,22,83,22],[81,23,83,23],[81,24,83,24],[81,25,83,25],[81,26,83,26],[1,17,2,17],[1,18,2,18],[1,19,2,19],[1,20,2,20],[18,8,18,10],[18,11,18,13],[18,14,18,16],[31,8,31,10],[31,11,31,13],[31,14,31,16],[15,8,15,10],[15,11,15,13],[16,11,16,13],[17,11,17,13],[16,14,16,16],[17,14,17,16],[25,8,25,10],[25,11,25,13],[25,14,25,16],[25,17,27,17],[25,19,27,19],[25,18,27,18],[30,8,30,10],[27,11,27,13],[70,5,70,7],[70,8,70,10],[26,11,26,13],[26,14,26,16],[61,14,61,16],[62,11,62,13],[62,14,62,16],[60,11,60,13],[58,5,58,7],[51,14,51,16],[50,11,50,13],[50,14,50,16],[48,11,48,13],[26,8,26,10],[27,8,27,10],[31,5,31,7],[60,5,60,7],[48,14,48,16],[49,11,49,13],[49,14,49,16],[51,11,51,13],[63,5,63,7],[64,5,64,7],[65,5,65,7],[72,5,72,7],[74,5,74,7],[85,29,87,29],[88,29,90,29],[85,19,87,19],[85,20,87,20],[85,21,87,21],[86,8,86,10],[89,5,89,7],[87,11,87,13],[88,11,88,13],[90,5,90,7],[86,11,86,13],[85,8,85,10],[87,8,87,10],[85,27,87,27],[85,28,87,28],[88,19,90,19],[85,5,85,7],[89,11,89,13],[89,14,89,16],[85,26,87,26],[85,17,87,17],[85,18,87,18],[81,29,83,29],[78,18,80,18],[61,5,61,7],[62,5,62,7],[1,21,2,21],[1,22,2,22],[0,2,0,16],[1,2,1,16],[105,5,105,7],[105,8,105,10],[105,11,105,13],[105,14,105,16],[91,5,91,7],[91,8,91,10],[91,11,91,13],[91,14,91,16],[98,5,98,7],[98,8,98,10],[98,11,98,13],[98,14,98,16],[66,5,66,7],[66,8,66,10],[66,11,66,13],[66,14,66,16]]}
[null,null,"Liste d'identification des aliments clés"]
[null,null,"Phase 2 : Dresser une liste d'aliments clés diversifiés, couvrant tous les groupes d'aliments, avec votre équipe pluridisciplinaire. ",null,null,null,null,null,null,null,null,null,null,null,null,null,null,"*Aliments qui répondent aux divers goûts et besoins de la population, en fonction de leurs préférences gustatives et de leur identité culturelle.","*Aliments qui s'adaptent aux changements climatiques (par exemple, la sécheresse) dans un contexte spécifique. ","*Facilité de transformation des aliments crus en ingrédients prêts à l'emploi. ","*Nécessite peu d'intrants agricoles, tels que des fertilisants, de l'eau, des pesticides, etc. ","*L'impact de la production accrue de ces aliments sur l'augmentation de la charge de travail des femmes. ","*La sécurité des aliments dans le contexte de la préparation des aliments à la maison après la récolte (par exemple, les aflatoxines), la préparation des aliments à la maison (au niveau du ménage) et les mélanges complémentaires."]
[null,null,"Cherchez-vous à créer un menu d'aliments clés (processus simplifié) ou à créer une recommandation basée sur les aliments à l'aide du calculateur nutritionnel ?",null,null,"Menu des aliments clés (Option 1)",null,null,null,"Calculateur nutritionnel (Option 2)",null,null,null,null,null,null,null,null,null,null,null,null,null,"MENU DES SÉLECTIONS D'ALIMENTS CLÉS (3A)",null,null,null,null,"SÉLECTIONS DE CALCULS NUTRITIONNELS (3B)"]
["Nº","Nom de l'aliment","Variété/Nom local","Forme des aliments","Origine des aliments","Mois de l'année",null,null,null,null,null,null,null,null,null,null,null,"Considérations liées à la durabilité \n*(descriptions à la ligne 2)",null,null,null,null,null,"Saisir la composition alimentaire des protéines et les trois principaux nutriments préoccupants pour les aliments clés, par 100 grammes (Phase 3A).",null,null,null,"Portion moyenne pour le groupe alimentaire sélectionné (grammes)","Liste restreinte des 10 principaux aliments pour le calculateur nutritionnel uniquement (Phase 3B)","Supplémentaire \nCommentaires/Observations\npour la sélection des aliments clés"]
[null,null,null,null,null,"Janvier-Mars",null,null,"Avril-Juin",null,null,"Juil-Sept",null,null,"Oct-Déc",null,null,"Désirabilité/adéquation culturelle","Résilience climatique","Facilité de production/transformation","Faible besoin en intrants agricoles","Charge de travail des femmes","Sécurité des aliments","Protéines \n(g)",{"$f":"IFERROR(__xludf.DUMMYFUNCTION(\"FILTER('1) ID Fortified foods'!D9:F9,'1) ID Fortified foods'!D10:F10=true)\"),\"Folate (mcg)\")","v":"Folate (mcg)"},{"$f":"IFERROR(__xludf.DUMMYFUNCTION(\"\"\"COMPUTED_VALUE\"\"\"),\"Calcium (mg)\")","v":"Calcium (mg)"},{"$f":"IFERROR(__xludf.DUMMYFUNCTION(\"\"\"COMPUTED_VALUE\"\"\"),\"Iron (mg)\")","v":"Iron (mg)"}]
[null,null,"1. Céréales, racines blanches, tubercules, plantains (DAMF)"]
[1]
[]
[]
[2]
[]
[]
[3]
[]
[]
[4]
[]
[]
[null,null,"2. Légumineuses (haricots, pois, lentilles) DAMF"]
[5]
[]
[]
[6]
[]
[]
[7]
[]
[]
[8]
[]
[]
[null,null,"3. Fruits à coque et graines (DAMF)"]
[9]
[]
[]
[10]
[]
[]
[11]
[]
[]
[null,null,"4.1 Lait"]
[12]
[]
[]
[13]
[]
[]
[null,null,"4.2 Lait en poudre"]
[14]
[]
[]
[null,null,"4.3 Yaourt"]
[15]
[]
[]
[null,null,"5. Viande, volaille, poisson (DAMF)"]
[16]
[]
[]
[17]
[]
[]
[18]
[]
[]
[null,null,"6. Œufs (DAMF)"]
[19]
[]
[]
[null,null,"7.1 (FRAIS) Légumes à feuilles foncées (DAMF)"]
[20]
[]
[]
[21]
[]
[]
[null,null,"7.2 (SÉCHÉ) Légumes à feuilles vertes foncées"]
[22]
[]
[]
[23]
[]
[]
[null,null,"8.1 Fruits riches en vitamine A (DAMF)"]
[24]
[]
[]
[25]
[]
[]
[null,null,"8.2 Légumes riches en vitamine A (DAMF)"]
[26]
[]
[]
[27]
[]
[]
[null,null,"9. Autres légumes (DAMF)"]
[28]
[]
[]
[29]
[]
[]
[null,null,"10. Autres fruits (DAMF)"]
[30]
[]
[]
[31]
[]
[]
[]
[null,null,null,null,null,null,null,null,null,null,null,null,null,null,null,null,null,null,null,null,null,null,null,null,null,null,null,null,"Oui"]
[null,null,null,null,null,null,null,null,null,null,null,null,null,null,null,null,null,null,null,null,null,null,null,null,null,null,null,null,"Non"]

{"sheet":"3A) Menu d'aliments clés","index":3,"n_rows":37,"n_cols":56,"rows_kept":37,"cut":false,"hidden":false,"merged":[[20,31,21,31],[19,41,20,41],[21,16,22,16],[23,51,23,55],[33,51,33,55],[35,51,36,51],[14,42,14,45],[14,52,14,55],[16,51,16,55],[14,32,14,35],[21,51,22,51],[27,51,28,51],[29,51,29,55],[31,51,32,51],[8,21,15,25],[11,6,12,6],[11,16,12,16],[11,31,12,31],[14,17,14,20],[0,0,0,52],[2,0,2,7],[2,8,2,18],[4,7,4,10],[4,17,4,20],[4,32,4,35],[4,21,7,25],[1,6,1,55]]}
["Menu des aliments clés (Option 1)"]
[null,null,null,null,null,null,"Phase 3A :  Passer en revue le menu des aliments clés, qui est organisé en fonction des trois principaux nutriments concernés, par portion. "]
["Les 3 nutriments les plus préoccupants ",null,null,null,null,null,null,null,{"$f":"IFERROR(__xludf.DUMMYFUNCTION(\"join(\"\", \"\",FILTER('1) ID Fortified foods'!D9:F9,'1) ID Fortified foods'!D10:F10=true))\"),\"Folate (mcg), Calcium (mg), Iron (mg)\")","v":"Folate (mcg), Calcium (mg), Iron (mg)"}]
[]
[null,null,null,null,null,null,null,"Nutriments par portion",null,null,null,null,null,null,null,null,null,"Nutriments par portion",null,null,null,"Choisissez 3 à 4 groupes d'aliments (légumes, fruits, féculents, protéines) par repas pour améliorer l'adéquation en nutriments. \nNous suggérons d'intégrer ces divers groupes d'aliments dans les repas de façon régulière tout au long de la semaine (par exemple, 2 à 4 fois par semaine).",null,null,null,null,null,null,null,null,null,null,"Nutriments par portion"]
[null,"Légumes","Protéines (g)",{"$f":"IFERROR(__xludf.DUMMYFUNCTION(\"FILTER('1) ID Fortified foods'!D9:F9,'1) ID Fortified foods'!D10:F10=true)\"),\"Folate (mcg)\")","v":"Folate (mcg)"},{"$f":"IFERROR(__xludf.DUMMYFUNCTION(\"\"\"COMPUTED_VALUE\"\"\"),\"Calcium (mg)\")","v":"Calcium (mg)"},{"$f":"IFERROR(__xludf.DUMMYFUNCTION(\"\"\"COMPUTED_VALUE\"\"\"),\"Iron (mg)\")","v":"Iron (mg)"},"Légumes","Protéines (g)",{"$f":"IFERROR(__xludf.DUMMYFUNCTION(\"FILTER('1) ID Fortified foods'!D9:F9,'1) ID Fortified foods'!D10:F10=true)\"),\"Folate (mcg)\")","v":"Folate (mcg)"},{"$f":"IFERROR(__xludf.DUMMYFUNCTION(\"\"\"COMPUTED_VALUE\"\"\"),\"Calcium (mg)\")","v":"Calcium (mg)"},{"$f":"IFERROR(__xludf.DUMMYFUNCTION(\"\"\"COMPUTED_VALUE\"\"\"),\"Iron (mg)\")","v":"Iron (mg)"},"Légumes à feuilles vertes foncées","Protéines (g)",{"$f":"IFERROR(__xludf.DUMMYFUNCTION(\"FILTER('1) ID Fortified foods'!D9:F9,'1) ID Fortified foods'!D10:F10=true)\"),\"Folate (mcg)\")","v":"Folate (mcg)"},{"$f":"IFERROR(__xludf.DUMMYFUNCTION(\"\"\"COMPUTED_VALUE\"\"\"),\"Calcium (mg)\")","v":"Calcium (mg)"},{"$f":"IFERROR(__xludf.DUMMYFUNCTION(\"\"\"COMPUTED_VALUE\"\"\"),\"Iron (mg)\")","v":"Iron (mg)"},"Légumes à feuilles vertes foncées","Protéines (g)",{"$f":"IFERROR(__xludf.DUMMYFUNCTION(\"FILTER('1) ID Fortified foods'!D9:F9,'1) ID Fortified foods'!D10:F10=true)\"),\"Folate (mcg)\")","v":"Folate (mcg)"},{"$f":"IFERROR(__xludf.DUMMYFUNCTION(\"\"\"COMPUTED_VALUE\"\"\"),\"Calcium (mg)\")","v":"Calcium (mg)"},{"$f":"IFERROR(__xludf.DUMMYFUNCTION(\"\"\"COMPUTED_VALUE\"\"\"),\"Iron (mg)\")","v":"Iron (mg)"},null,null,null,null,null,"Céréales, racines blanches, tubercules, plantains","Protéines (g)",{"$f":"IFERROR(__xludf.DUMMYFUNCTION(\"FILTER('1) ID Fortified foods'!D9:F9,'1) ID Fortified foods'!D10:F10=true)\"),\"Folate (mcg)\")","v":"Folate (mcg)"},{"$f":"IFERROR(__xludf.DUMMYFUNCTION(\"\"\"COMPUTED_VALUE\"\"\"),\"Calcium (mg)\")","v":"Calcium (mg)"},{"$f":"IFERROR(__xludf.DUMMYFUNCTION(\"\"\"COMPUTED_VALUE\"\"\"),\"Iron (mg)\")","v":"Iron (mg)"},"Céréales, racines blanches, tubercules, plantains","Protéines (g)",{"$f":"IFERROR(__xludf.DUMMYFUNCTION(\"FILTER('1) ID Fortified foods'!D9:F9,'1) ID Fortified foods'!D10:F10=true)\"),\"Folate (mcg)\")","v":"Folate (mcg)"},{"$f":"IFERROR(__xludf.DUMMYFUNCTION(\"\"\"COMPUTED_VALUE\"\"\"),\"Calcium (mg)\")","v":"Calcium (mg)"},{"$f":"IFERROR(__xludf.DUMMYFUNCTION(\"\"\"COMPUTED_VALUE\"\"\"),\"Iron (mg)\")","v":"Iron (mg)"}]
[null,{"$f":"'2) Liste d''ident. aliments clés'!B100","v":0},{"$f":"('2) Liste d''ident. aliments clés'!X100/100)*'2) Liste d''ident. aliments clés'!$AB$100","v":0},{"$f":"('2) Liste d''ident. aliments clés'!Y100/100)*'2) Liste d''ident. aliments clés'!$AB$100","v":0},{"$f":"('2) Liste d''ident. aliments clés'!Z100/100)*'2) Liste d''ident. aliments clés'!$AB$100","v":0},{"$f":"('2) Liste d''ident. aliments clés'!AA100/100)*'2) Liste d''ident. aliments clés'!$AB$100","v":0},{"$f":"_xlfn.SORTBY(B7:F10,D7:D10,-1,E7:E10,-1,F7:F10,-1)","v":0},0,0,0,0,{"$f":"'2) Liste d''ident. aliments clés'!B72","v":0},{"$f":"('2) Liste d''ident. aliments clés'!X72/100)*'2) Liste d''ident. aliments clés'!$AB$72","v":0},{"$f":"('2) Liste d''ident. aliments clés'!Y72/100)*'2) Liste d''ident. aliments clés'!$AB$72","v":0},{"$f":"('2) Liste d''ident. aliments clés'!Z72/100)*'2) Liste d''ident. aliments clés'!$AB$72","v":0},{"$f":"('2) Liste d''ident. aliments clés'!AA72/100)*'2) Liste d''ident. aliments clés'!$AB$72","v":0},{"$f":"_xlfn.SORTBY(L7:P10,N7:N10,-1,O7:O10,-1,P7:P10,-1)","v":0},0,0,0,0,null,null,null,null,null,{"$f":"'2) Liste d''ident. aliments clés'!B7","v":0},{"$f":"('2) Liste d''ident. aliments clés'!X7/100)*'2) Liste d''ident. aliments clés'!$AB$7","v":0},{"$f":"('2) Liste d''ident. aliments clés'!Y7/100)*'2) Liste d''ident. aliments clés'!$AB$7","v":0},{"$f":"('2) Liste d''ident. aliments clés'!Z7/100)*'2) Liste d''ident. aliments clés'!$AB$7","v":0},{"$f":"('2) Liste d''ident. aliments clés'!AA7/100)*'2) Liste d''ident. aliments clés'!$AB$7","v":0},{"$f":"_xlfn.SORTBY(AA7:AE10,AC7:AC10,-1,AD7:AD10,-1,AE7:AE10,-1)","v":0},0,0,0,0]
[null,{"$f":"'2) Liste d''ident. aliments clés'!B103","v":0},{"$f":"('2) Liste d''ident. aliments clés'!X103/100)*'2) Liste d''ident. aliments clés'!$AB$103","v":0},{"$f":"('2) Liste d''ident. aliments clés'!Y103/100)*'2) Liste d''ident. aliments clés'!$AB$103","v":0},{"$f":"('2) Liste d''ident. aliments clés'!Z103/100)*'2) Liste d''ident. aliments clés'!$AB$103","v":0},{"$f":"('2) Liste d''ident. aliments clés'!AA103/100)*'2) Liste d''ident. aliments clés'!$AB$103","v":0},0,0,0,0,0,{"$f":"'2) Liste d''ident. aliments clés'!B75","v":0},{"$f":"('2) Liste d''ident. aliments clés'!X75/100)*'2) Liste d''ident. aliments clés'!$AB$75","v":0},{"$f":"('2) Liste d''ident. aliments clés'!Y75/100)*'2) Liste d''ident. aliments clés'!$AB$75","v":0},{"$f":"('2) Liste d''ident. aliments clés'!Z75/100)*'2) Liste d''ident. aliments clés'!$AB$75","v":0},{"$f":"('2) Liste d''ident. aliments clés'!AA75/100)*'2) Liste d''ident. aliments clés'!$AB$75","v":0},0,0,0,0,0,null,null,null,null,null,{"$f":"'2) Liste d''ident. aliments clés'!B10","v":0},{"$f":"('2) Liste d''ident. aliments clés'!X10/100)*'2) Liste d''ident. aliments clés'!$AB$10","v":0},{"$f":"('2) Liste d''ident. aliments clés'!Y10/100)*'2) Liste d''ident. aliments clés'!$AB$10","v":0},{"$f":"('2) Liste d''ident. aliments clés'!Z10/100)*'2) Liste d''ident. aliments clés'!$AB$10","v":0},{"$f":"('2) Liste d''ident. aliments clés'!AA10/100)*'2) Liste d''ident. aliments clés'!$AB$10","v":0},0,0,0,0,0]
[null,{"$f":"'2) Liste d''ident. aliments clés'!B93","v":0},{"$f":"('2) Liste d''ident. aliments clés'!X93/100)*'2) Liste d''ident. aliments clés'!$AB$93","v":0},{"$f":"('2) Liste d''ident. aliments clés'!Y93/100)*'2) Liste d''ident. aliments clés'!$AB$93","v":0},{"$f":"('2) Liste d''ident. aliments clés'!Z93/100)*'2) Liste d''ident. aliments clés'!$AB$93","v":0},{"$f":"('2) Liste d''ident. aliments clés'!AA93/100)*'2) Liste d''ident. aliments clés'!$AB$93","v":0},0,0,0,0,0,{"$f":"'2) Liste d''ident. aliments clés'!B79","v":0},{"$f":"('2) Liste d''ident. aliments clés'!X79/100)*'2) Liste d''ident. aliments clés'!$AB$79","v":0},{"$f":"('2) Liste d''ident. aliments clés'!Y79/100)*'2) Liste d''ident. aliments clés'!$AB$79","v":0},{"$f":"('2) Liste d''ident. aliments clés'!Z79/100)*'2) Liste d''ident. aliments clés'!$AB$79","v":0},{"$f":"('2) Liste d''ident. aliments clés'!AA79/100)*'2) Liste d''ident. aliments clés'!$AB$79","v":0},0,0,0,0,0,null,null,null,null,null,{"$f":"'2) Liste d''ident. aliments clés'!B13","v":0},{"$f":"('2) Liste d''ident. aliments clés'!X13/100)*'2) Liste d''ident. aliments clés'!$AB$13","v":0},{"$f":"('2) Liste d''ident. aliments clés'!Y13/100)*'2) Liste d''ident. aliments clés'!$AB$13","v":0},{"$f":"('2) Liste d''ident. aliments clés'!Z13/100)*'2) Liste d''ident. aliments clés'!$AB$13","v":0},{"$f":"('2) Liste d''ident. aliments clés'!AA13/100)*'2) Liste d''ident. aliments clés'!$AB$13","v":0},0,0,0,0,0]
[null,{"$f":"'2) Liste d''ident. aliments clés'!B96","v":0},{"$f":"('2) Liste d''ident. aliments clés'!X96/100)*'2) Liste d''ident. aliments clés'!$AB$96","v":0},{"$f":"('2) Liste d''ident. aliments clés'!Y96/100)*'2) Liste d''ident. aliments clés'!$AB$96","v":0},{"$f":"('2) Liste d''ident. aliments clés'!Z96/100)*'2) Liste d''ident. aliments clés'!$AB$96","v":0},{"$f":"('2) Liste d''ident. aliments clés'!AA96/100)*'2) Liste d''ident. aliments clés'!$AB$96","v":0},0,0,0,0,0,{"$f":"'2) Liste d''ident. aliments clés'!B82","v":0},{"$f":"('2) Liste d''ident. aliments clés'!X82/100)*'2) Liste d''ident. aliments clés'!$AB$82","v":0},{"$f":"('2) Liste d''ident. aliments clés'!Y82/100)*'2) Liste d''ident. aliments clés'!$AB$82","v":0},{"$f":"('2) Liste d''ident. aliments clés'!Z82/100)*'2) Liste d''ident. aliments clés'!$AB$82","v":0},{"$f":"('2) Liste d''ident. aliments clés'!AA82/100)*'2) Liste d''ident. aliments clés'!$AB$82","v":0},0,0,0,0,0,null,null,null,null,null,{"$f":"'2) Liste d''ident. aliments clés'!B16","v":0},{"$f":"('2) Liste d''ident. aliments clés'!X16/100)*'2) Liste d''ident. aliments clés'!$AB$16","v":0},{"$f":"('2) Liste d''ident. aliments clés'!Y16/100)*'2) Liste d''ident. aliments clés'!$AB$16","v":0},{"$f":"('2) Liste d''ident. aliments clés'!Z16/100)*'2) Liste d''ident. aliments clés'!$AB$16","v":0},{"$f":"('2) Liste d''ident. aliments clés'!AA16/100)*'2) Liste d''ident. aliments clés'!$AB$16","v":0},0,0,0,0,0]
[]
[null,null,null,null,null,null,"Portion moyenne par repas en grammes (g)","Enfant de moins de 2 ans","Enfant de moins de 5 ans","Adultes","FEA",null,null,null,null,null,"Portion moyenne par repas en grammes (g)","Enfant de moins de 2 ans","Enfant de moins de 5 ans","Adultes","FEA",null,null,null,null,null,null,null,null,null,null,"Portion moyenne par repas en grammes (g)","Enfant de moins de 2 ans","Enfant de moins de 5 ans","Adultes","FEA"]
[null,null,null,null,null,null,null,40,55,75,100,null,null,null,null,null,null,10,15,30,50,null,null,null,null,null,null,null,null,null,null,null,60,80,150,175]
[]
[null,null,null,null,null,null,null,null,null,null,null,null,null,null,null,null,null,"Nutriments par portion",null,null,null,null,null,null,null,null,null,null,null,null,null,null,"Nutriments par portion",null,null,null,null,null,null,null,null,null,"Nutriments par portion",null,null,null,null,null,null,null,null,null,"Nutriments par portion"]
[null,null,null,null,null,null,null,null,null,null,null,"Fruits","Protéines (g)",{"$f":"IFERROR(__xludf.DUMMYFUNCTION(\"FILTER('1) ID Fortified foods'!D9:F9,'1) ID Fortified foods'!D10:F10=true)\"),\"Folate (mcg)\")","v":"Folate (mcg)"},{"$f":"IFERROR(__xludf.DUMMYFUNCTION(\"\"\"COMPUTED_VALUE\"\"\"),\"Calcium (mg)\")","v":"Calcium (mg)"},{"$f":"IFERROR(__xludf.DUMMYFUNCTION(\"\"\"COMPUTED_VALUE\"\"\"),\"Iron (mg)\")","v":"Iron (mg)"},"Fruits","Protéines (g)",{"$f":"IFERROR(__xludf.DUMMYFUNCTION(\"FILTER('1) ID Fortified foods'!D9:F9,'1) ID Fortified foods'!D10:F10=true)\"),\"Folate (mcg)\")","v":"Folate (mcg)"},{"$f":"IFERROR(__xludf.DUMMYFUNCTION(\"\"\"COMPUTED_VALUE\"\"\"),\"Calcium (mg)\")","v":"Calcium (mg)"},{"$f":"IFERROR(__xludf.DUMMYFUNCTION(\"\"\"COMPUTED_VALUE\"\"\"),\"Iron (mg)\")","v":"Iron (mg)"},null,null,null,null,null,"Légumineuses (haricots, pois, lentilles)","Protéines (g)",{"$f":"IFERROR(__xludf.DUMMYFUNCTION(\"FILTER('1) ID Fortified foods'!D9:F9,'1) ID Fortified foods'!D10:F10=true)\"),\"Folate (mcg)\")","v":"Folate (mcg)"},{"$f":"IFERROR(__xludf.DUMMYFUNCTION(\"\"\"COMPUTED_VALUE\"\"\"),\"Calcium (mg)\")","v":"Calcium (mg)"},{"$f":"IFERROR(__xludf.DUMMYFUNCTION(\"\"\"COMPUTED_VALUE\"\"\"),\"Iron (mg)\")","v":"Iron (mg)"},"Légumineuses (haricots, pois, lentilles)","Protéines (g)",{"$f":"IFERROR(__xludf.DUMMYFUNCTION(\"FILTER('1) ID Fortified foods'!D9:F9,'1) ID Fortified foods'!D10:F10=true)\"),\"Folate (mcg)\")","v":"Folate (mcg)"},{"$f":"IFERROR(__xludf.DUMMYFUNCTION(\"\"\"COMPUTED_VALUE\"\"\"),\"Calcium (mg)\")","v":"Calcium (mg)"},{"$f":"IFERROR(__xludf.DUMMYFUNCTION(\"\"\"COMPUTED_VALUE\"\"\"),\"Iron (mg)\")","v":"Iron (mg)"},"Fruits à coque et graines","Protéines (g)",{"$f":"IFERROR(__xludf.DUMMYFUNCTION(\"FILTER('1) ID Fortified foods'!D9:F9,'1) ID Fortified foods'!D10:F10=true)\"),\"Folate (mcg)\")","v":"Folate (mcg)"},{"$f":"IFERROR(__xludf.DUMMYFUNCTION(\"\"\"COMPUTED_VALUE\"\"\"),\"Calcium (mg)\")","v":"Calcium (mg)"},{"$f":"IFERROR(__xludf.DUMMYFUNCTION(\"\"\"COMPUTED_VALUE\"\"\"),\"Iron (mg)\")","v":"Iron (mg)"},"Fruits à coque et graines","Protéines (g)",{"$f":"IFERROR(__xludf.DUMMYFUNCTION(\"FILTER('1) ID Fortified foods'!D9:F9,'1) ID Fortified foods'!D10:F10=true)\"),\"Folate (mcg)\")","v":"Folate (mcg)"},{"$f":"IFERROR(__xludf.DUMMYFUNCTION(\"\"\"COMPUTED_VALUE\"\"\"),\"Calcium (mg)\")","v":"Calcium (mg)"},{"$f":"IFERROR(__xludf.DUMMYFUNCTION(\"\"\"COMPUTED_VALUE\"\"\"),\"Iron (mg)\")","v":"Iron (mg)"},"Aliments d'origine animale \n(y compris le poisson, les œufs, le lait, le fromage)","Protéines (g)",{"$f":"IFERROR(__xludf.DUMMYFUNCTION(\"FILTER('1) ID Fortified foods'!D9:F9,'1) ID Fortified foods'!D10:F10=true)\"),\"Folate (mcg)\")","v":"Folate (mcg)"},{"$f":"IFERROR(__xludf.DUMMYFUNCTION(\"\"\"COMPUTED_VALUE\"\"\"),\"Calcium (mg)\")","v":"Calcium (mg)"},{"$f":"IFERROR(__xludf.DUMMYFUNCTION(\"\"\"COMPUTED_VALUE\"\"\"),\"Iron (mg)\")","v":"Iron (mg)"},"Aliments d'origine animale ","Protéines (g)",{"$f":"IFERROR(__xludf.DUMMYFUNCTION(\"FILTER('1) ID Fortified foods'!D9:F9,'1) ID Fortified foods'!D10:F10=true)\"),\"Folate (mcg)\")","v":"Folate (mcg)"},{"$f":"IFERROR(__xludf.DUMMYFUNCTION(\"\"\"COMPUTED_VALUE\"\"\"),\"Calcium (mg)\")","v":"Calcium (mg)"},{"$f":"IFERROR(__xludf.DUMMYFUNCTION(\"\"\"COMPUTED_VALUE\"\"\"),\"Iron (mg)\")","v":"Iron (mg)"}]
[null,null,null,null,null,null,null,null,null,null,null,{"$f":"'2) Liste d''ident. aliments clés'!B86","v":0},{"$f":"('2) Liste d''ident. aliments clés'!X86/100)*'2) Liste d''ident. aliments clés'!$AB$86","v":0},{"$f":"('2) Liste d''ident. aliments clés'!Y86/100)*'2) Liste d''ident. aliments clés'!$AB$86","v":0},{"$f":"('2) Liste d''ident. aliments clés'!Z86/100)*'2) Liste d''ident. aliments clés'!$AB$86","v":0},{"$f":"('2) Liste d''ident. aliments clés'!AA86/100)*'2) Liste d''ident. aliments clés'!$AB$86","v":0},{"$f":"_xlfn.SORTBY(L17:P20,N17:N20,-1,O17:O20,-1,P17:P20,-1)","v":0},0,0,0,0,null,null,null,null,null,{"$f":"'2) Liste d''ident. aliments clés'!B20","v":0},{"$f":"('2) Liste d''ident. aliments clés'!X20/100)*'2) Liste d''ident. aliments clés'!$AB$20","v":0},{"$f":"('2) Liste d''ident. aliments clés'!Y20/100)*'2) Liste d''ident. aliments clés'!$AB$20","v":0},{"$f":"('2) Liste d''ident. aliments clés'!Z20/100)*'2) Liste d''ident. aliments clés'!$AB$20","v":0},{"$f":"('2) Liste d''ident. aliments clés'!AA20/100)*'2) Liste d''ident. aliments clés'!$AB$20","v":0},{"$f":"_xlfn.SORTBY(AA17:AE20,AC17:AC20,-1,AD17:AD20,-1,AE17:AE20,-1)","v":0},0,0,0,0,{"$f":"'2) Liste d''ident. aliments clés'!B33","v":0},{"$f":"'2) Liste d''ident. aliments clés'!X33","v":0},{"$f":"'2) Liste d''ident. aliments clés'!Y33","v":0},{"$f":"'2) Liste d''ident. aliments clés'!Z33","v":0},{"$f":"'2) Liste d''ident. aliments clés'!AA33","v":0},{"$f":"_xlfn.SORTBY(AK17:AO19,AM17:AM19,-1,AN17:AN19,-1,AO17:AO19,-1)","v":0},0,0,0,0,"Viande",null,null,null,null,"Viande et fruits de mer"]
[null,null,null,null,null,null,null,null,null,null,null,{"$f":"'2) Liste d''ident. aliments clés'!B89","v":0},{"$f":"('2) Liste d''ident. aliments clés'!X89/100)*'2) Liste d''ident. aliments clés'!$AB$89","v":0},{"$f":"('2) Liste d''ident. aliments clés'!Y89/100)*'2) Liste d''ident. aliments clés'!$AB$89","v":0},{"$f":"('2) Liste d''ident. aliments clés'!Z89/100)*'2) Liste d''ident. aliments clés'!$AB$89","v":0},{"$f":"('2) Liste d''ident. aliments clés'!AA89/100)*'2) Liste d''ident. aliments clés'!$AB$89","v":0},0,0,0,0,0,null,null,null,null,null,{"$f":"'2) Liste d''ident. aliments clés'!B23","v":0},{"$f":"('2) Liste d''ident. aliments clés'!X23/100)*'2) Liste d''ident. aliments clés'!$AB$23","v":0},{"$f":"('2) Liste d''ident. aliments clés'!Y23/100)*'2) Liste d''ident. aliments clés'!$AB$23","v":0},{"$f":"('2) Liste d''ident. aliments clés'!Z23/100)*'2) Liste d''ident. aliments clés'!$AB$23","v":0},{"$f":"('2) Liste d''ident. aliments clés'!AA23/100)*'2) Liste d''ident. aliments clés'!$AB$23","v":0},0,0,0,0,0,{"$f":"'2) Liste d''ident. aliments clés'!B36","v":0},{"$f":"'2) Liste d''ident. aliments clés'!X36","v":0},{"$f":"'2) Liste d''ident. aliments clés'!Y36","v":0},{"$f":"'2) Liste d''ident. aliments clés'!Z36","v":0},{"$f":"'2) Liste d''ident. aliments clés'!AA36","v":0},0,0,0,0,0,{"$f":"'2) Liste d''ident. aliments clés'!B58","v":0},{"$f":"('2) Liste d''ident. aliments clés'!X58/100)*'2) Liste d''ident. aliments clés'!$AB$58","v":0},{"$f":"('2) Liste d''ident. aliments clés'!Y58/100)*'2) Liste d''ident. aliments clés'!$AB$58","v":0},{"$f":"('2) Liste d''ident. aliments clés'!Z58/100)*'2) Liste d''ident. aliments clés'!$AB$58","v":0},{"$f":"('2) Liste d''ident. aliments clés'!AA58/100)*'2) Liste d''ident. aliments clés'!$AB$58","v":0},{"$f":"_xlfn.SORTBY(AU18:AY20,AW18:AW20,-1,AX18:AX20,-1,AY18:AY20,-1)","v":0},0,0,0,0]
[null,null,null,null,null,null,null,null,null,null,null,{"$f":"'2) Liste d''ident. aliments clés'!B107","v":0},{"$f":"('2) Liste d''ident. aliments clés'!X107/100)*'2) Liste d''ident. aliments clés'!$AB$107","v":0},{"$f":"('2) Liste d''ident. aliments clés'!Y107/100)*'2) Liste d''ident. aliments clés'!$AB$107","v":0},{"$f":"('2) Liste d''ident. aliments clés'!Z107/100)*'2) Liste d''ident. aliments clés'!$AB$107","v":0},{"$f":"('2) Liste d''ident. aliments clés'!AA107/100)*'2) Liste d''ident. aliments clés'!$AB$107","v":0},0,0,0,0,0,null,null,null,null,null,{"$f":"'2) Liste d''ident. aliments clés'!B26","v":0},{"$f":"('2) Liste d''ident. aliments clés'!X26/100)*'2) Liste d''ident. aliments clés'!$AB$26","v":0},{"$f":"('2) Liste d''ident. aliments clés'!Y26/100)*'2) Liste d''ident. aliments clés'!$AB$26","v":0},{"$f":"('2) Liste d''ident. aliments clés'!Z26/100)*'2) Liste d''ident. aliments clés'!$AB$26","v":0},{"$f":"('2) Liste d''ident. aliments clés'!AA26/100)*'2) Liste d''ident. aliments clés'!$AB$26","v":0},0,0,0,0,0,{"$f":"'2) Liste d''ident. aliments clés'!B39","v":0},{"$f":"'2) Liste d''ident. aliments clés'!X39","v":0},{"$f":"'2) Liste d''ident. aliments clés'!Y39","v":0},{"$f":"'2) Liste d''ident. aliments clés'!Z39","v":0},{"$f":"'2) Liste d''ident. aliments clés'!AA39","v":0},0,0,0,0,0,{"$f":"'2) Liste d''ident. aliments clés'!B61","v":0},{"$f":"('2) Liste d''ident. aliments clés'!X61/100)*'2) Liste d''ident. aliments clés'!$AA$61","v":0},{"$f":"('2) Liste d''ident. aliments clés'!Y61/100)*'2) Liste d''ident. aliments clés'!$AA$61","v":0},{"$f":"('2) Liste d''ident. aliments clés'!Z61/100)*'2) Liste d''ident. aliments clés'!$AA$61","v":0},{"$f":"('2) Liste d''ident. aliments clés'!AA61/100)*'2) Liste d''ident. aliments clés'!$AA$61","v":0},0,0,0,0,0]
[null,null,null,null,null,null,null,null,null,null,null,{"$f":"'2) Liste d''ident. aliments clés'!B110","v":0},{"$f":"('2) Liste d''ident. aliments clés'!X110/100)*'2) Liste d''ident. aliments clés'!$AB$110","v":0},{"$f":"('2) Liste d''ident. aliments clés'!Y110/100)*'2) Liste d''ident. aliments clés'!$AB$110","v":0},{"$f":"('2) Liste d''ident. aliments clés'!Z110/100)*'2) Liste d''ident. aliments clés'!$AB$110","v":0},{"$f":"('2) Liste d''ident. aliments clés'!AA110/100)*'2) Liste d''ident. aliments clés'!$AB$110","v":0},0,0,0,0,0,null,null,null,null,null,{"$f":"'2) Liste d''ident. aliments clés'!B29","v":0},{"$f":"('2) Liste d''ident. aliments clés'!X29/100)*'2) Liste d''ident. aliments clés'!$AB$29","v":0},{"$f":"('2) Liste d''ident. aliments clés'!Y29/100)*'2) Liste d''ident. aliments clés'!$AB$29","v":0},{"$f":"('2) Liste d''ident. aliments clés'!Z29/100)*'2) Liste d''ident. aliments clés'!$AB$29","v":0},{"$f":"('2) Liste d''ident. aliments clés'!AA29/100)*'2) Liste d''ident. aliments clés'!$AB$29","v":0},0,0,0,0,0,null,null,null,null,null,"Portion moyenne par repas en grammes (g)","Enfant de moins de 2 ans","Enfant de moins de 5 ans","Adultes","FEA",{"$f":"'2) Liste d''ident. aliments clés'!B64","v":0},{"$f":"('2) Liste d''ident. aliments clés'!X64/100)*'2) Liste d''ident. aliments clés'!$AB$64","v":0},{"$f":"('2) Liste d''ident. aliments clés'!Y64/100)*'2) Liste d''ident. aliments clés'!$AB$64","v":0},{"$f":"('2) Liste d''ident. aliments clés'!Z64/100)*'2) Liste d''ident. aliments clés'!$AB$64","v":0},{"$f":"('2) Liste d''ident. aliments clés'!AA64/100)*'2) Liste d''ident. aliments clés'!$AB$64","v":0},0,0,0,0,0]
[null,null,null,null,null,null,null,null,null,null,null,null,null,null,null,null,null,null,null,null,null,null,null,null,null,null,null,null,null,null,null,"Portion moyenne par repas en grammes (g)","Enfant de moins de 2 ans","Enfant de moins de 5 ans","Adultes","FEA",null,null,null,null,null,null,10,15,30,40]
[null,null,null,null,null,null,null,null,null,null,null,null,null,null,null,null,"Portion moyenne par repas en grammes (g)","Enfant de moins de 2 ans","Enfant de moins de 5 ans","Adultes","FEA",null,null,null,null,null,null,null,null,null,null,null,40,70,125,150,null,null,null,null,null,null,null,null,null,null,null,null,null,null,null,"Portion moyenne par repas en grammes (g)","Enfant de moins de 2 ans","Enfant de moins de 5 ans","Adultes","FEA"]
[null,null,null,null,null,null,null,null,null,null,null,null,null,null,null,null,null,40,60,80,100,null,null,null,null,null,null,null,null,null,null,null,null,null,null,null,null,null,null,null,null,null,null,null,null,null,null,null,null,null,null,null,30,45,75,100]
[null,null,null,null,null,null,null,null,null,null,null,null,null,null,null,null,null,null,null,null,null,null,null,null,null,null,null,null,null,null,null,null,null,null,null,null,null,null,null,null,null,null,null,null,null,null,"Lait (frais, en poudre)",null,null,null,null,"Lait (frais, en poudre)"]
[null,null,null,null,null,null,null,null,null,null,null,null,null,null,null,null,null,null,null,null,null,null,null,null,null,null,null,null,null,null,null,null,null,null,null,null,null,null,null,null,null,null,null,null,null,null,{"$f":"'2) Liste d''ident. aliments clés'!B43","v":0},{"$f":"('2) Liste d''ident. aliments clés'!X43/100)*'2) Liste d''ident. aliments clés'!$AB$43","v":0},{"$f":"('2) Liste d''ident. aliments clés'!Y43/100)*'2) Liste d''ident. aliments clés'!$AB$43","v":0},{"$f":"('2) Liste d''ident. aliments clés'!Z43/100)*'2) Liste d''ident. aliments clés'!$AB$43","v":0},{"$f":"('2) Liste d''ident. aliments clés'!AA43/100)*'2) Liste d''ident. aliments clés'!$AB$43","v":0},{"$f":"_xlfn.SORTBY(AU25:AY27,AW25:AW27,-1,AX25:AX27,-1,AY25:AY27,-1)","v":0},0,0,0,0]
[null,null,null,null,null,null,null,null,null,null,null,null,null,null,null,null,null,null,null,null,null,null,null,null,null,null,null,null,null,null,null,null,null,null,null,null,null,null,null,null,null,null,null,null,null,null,{"$f":"'2) Liste d''ident. aliments clés'!B46","v":0},{"$f":"('2) Liste d''ident. aliments clés'!X46/100)*'2) Liste d''ident. aliments clés'!$AB$46","v":0},{"$f":"('2) Liste d''ident. aliments clés'!Y46/100)*'2) Liste d''ident. aliments clés'!$AB$46","v":0},{"$f":"('2) Liste d''ident. aliments clés'!Z46/100)*'2) Liste d''ident. aliments clés'!$AB$46","v":0},{"$f":"('2) Liste d''ident. aliments clés'!AA46/100)*'2) Liste d''ident. aliments clés'!$AB$46","v":0},0,0,0,0,0]
[null,null,null,null,null,null,null,null,null,null,null,null,null,null,null,null,null,null,null,null,null,null,null,null,null,null,null,null,null,null,null,null,null,null,null,null,null,null,null,null,null,null,null,null,null,null,{"$f":"'2) Liste d''ident. aliments clés'!B50","v":0},{"$f":"('2) Liste d''ident. aliments clés'!X50/100)*'2) Liste d''ident. aliments clés'!$AB$50","v":0},{"$f":"('2) Liste d''ident. aliments clés'!Y50/100)*'2) Liste d''ident. aliments clés'!$AB$50","v":0},{"$f":"('2) Liste d''ident. aliments clés'!Z50/100)*'2) Liste d''ident. aliments clés'!$AB$50","v":0},{"$f":"('2) Liste d''ident. aliments clés'!AA50/100)*'2) Liste d''ident. aliments clés'!$AB$50","v":0},0,0,0,0,0]
[null,null,null,null,null,null,null,null,null,null,null,null,null,null,null,null,null,null,null,null,null,null,null,null,null,null,null,null,null,null,null,null,null,null,null,null,null,null,null,null,null,null,null,null,null,null,null,null,null,null,null,"Portion moyenne par repas en grammes (g)","Enfant de moins de 2 ans","Enfant de moins de 5 ans","Adultes","FEA"]
[null,null,null,null,null,null,null,null,null,null,null,null,null,null,null,null,null,null,null,null,null,null,null,null,null,null,null,null,null,null,null,null,null,null,null,null,null,null,null,null,null,null,null,null,null,null,null,null,null,null,null,null,80,120,250,250]
[null,null,null,null,null,null,null,null,null,null,null,null,null,null,null,null,null,null,null,null,null,null,null,null,null,null,null,null,null,null,null,null,null,null,null,null,null,null,null,null,null,null,null,null,null,null,"Fromage",null,null,null,null,"Yaourt"]
[null,null,null,null,null,null,null,null,null,null,null,null,null,null,null,null,null,null,null,null,null,null,null,null,null,null,null,null,null,null,null,null,null,null,null,null,null,null,null,null,null,null,null,null,null,null,{"$f":"'2) Liste d''ident. aliments clés'!B54","v":0},{"$f":"('2) Liste d''ident. aliments clés'!X54/100)*'2) Liste d''ident. aliments clés'!$AB$54","v":0},{"$f":"('2) Liste d''ident. aliments clés'!Y54/100)*'2) Liste d''ident. aliments clés'!$AB$54","v":0},{"$f":"('2) Liste d''ident. aliments clés'!Z54/100)*'2) Liste d''ident. aliments clés'!$AB$54","v":0},{"$f":"('2) Liste d''ident. aliments clés'!AA54/100)*'2) Liste d''ident. aliments clés'!$AB$54","v":0},{"$f":"AU31","v":0},{"$f":"AV31","v":0},0,0,0]
[null,null,null,null,null,null,null,null,null,null,null,null,null,null,null,null,null,null,null,null,null,null,null,null,null,null,null,null,null,null,null,null,null,null,null,null,null,null,null,null,null,null,null,null,null,null,null,null,null,null,null,"Portion moyenne par repas en grammes (g)","Enfant de moins de 2 ans","Enfant de moins de 5 ans","Adultes","FEA"]
[null,null,null,null,null,null,null,null,null,null,null,null,null,null,null,null,null,null,null,null,null,null,null,null,null,null,null,null,null,null,null,null,null,null,null,null,null,null,null,null,null,null,null,null,null,null,null,null,null,null,null,null,50,80,170,200]
[null,null,null,null,null,null,null,null,null,null,null,null,null,null,null,null,null,null,null,null,null,null,null,null,null,null,null,null,null,null,null,null,null,null,null,null,null,null,null,null,null,null,null,null,null,null,"Œufs",null,null,null,null,"Œufs"]
[null,null,null,null,null,null,null,null,null,null,null,null,null,null,null,null,null,null,null,null,null,null,null,null,null,null,null,null,null,null,null,null,null,null,null,null,null,null,null,null,null,null,null,null,null,null,{"$f":"IFERROR(__xludf.DUMMYFUNCTION(\"FILTER('2) Key Foods ID List'!$B$7:$B$112,'2) Key Foods ID List'!$H$7:$H$112=\"\"6. Eggs (MDD-W)\"\")\"),\"Eggs\")","v":"Eggs"},{"$f":"('2) Liste d''ident. aliments clés'!X68/100)*'2) Liste d''ident. aliments clés'!$AB$68","v":0},{"$f":"('2) Liste d''ident. aliments clés'!Y68/100)*'2) Liste d''ident. aliments clés'!$AB$68","v":0},{"$f":"('2) Liste d''ident. aliments clés'!Z68/100)*'2) Liste d''ident. aliments clés'!$AB$68","v":0},{"$f":"('2) Liste d''ident. aliments clés'!AA68/100)*'2) Liste d''ident. aliments clés'!$AB$68","v":0},{"$f":"AU35","v":"Eggs"},{"$f":"AV35","v":0},0,0,0]
[null,null,null,null,null,null,null,null,null,null,null,null,null,null,null,null,null,null,null,null,null,null,null,null,null,null,null,null,null,null,null,null,null,null,null,null,null,null,null,null,null,null,null,null,null,null,null,null,null,null,null,"Portion moyenne par repas en grammes (g)","Enfant de moins de 2 ans","Enfant de moins de 5 ans","Adultes","FEA"]
[null,null,null,null,null,null,null,null,null,null,null,null,null,null,null,null,null,null,null,null,null,null,null,null,null,null,null,null,null,null,null,null,null,null,null,null,null,null,null,null,null,null,null,null,null,null,null,null,null,null,null,null,25,50,50,70]

{"sheet":"3B-4B) CalcNutr (6-11)","index":4,"n_rows":56,"n_cols":15,"rows_kept":56,"cut":false,"hidden":false,"merged":[[55,2,55,5],[38,0,38,1],[39,0,39,1],[39,7,39,11],[40,0,40,1],[40,7,40,9],[40,10,40,11],[37,0,37,11],[17,0,17,1],[0,0,0,14],[1,0,1,14],[3,4,3,8],[4,0,4,9],[16,0,16,14],[2,0,2,3]]}
["6 à 11 mois : Calculateur nutritionnel (Option 2)"]
["Phase 3B : Dresser la liste des ingrédients potentiels\nDressez la liste de tous les ingrédients potentiels pour chaque recommandation alimentaire.  Si deux formes différentes du même ingrédient sont utilisées (par exemple, frais, séché), elles doivent être ajoutées et analysées indépendamment l'une de l'autre. Le sel, le sucre et les multivitamines sont ajoutés dans la colonne M-O à la Phase 4. "]
["Estimation de la taille des portions (par repas) pour une population spécifique"]
[1,"Taper la taille approximative d'une portion de repas (en grammes) pour une population spécifique",90,"grammes de nourriture par repas (portion)","GRAMMES D'ALIMENTS NÉCESSAIRES PAR JOUR RECOMMANDATIONS pour un enfant de moins de 2 ans : \n137 à 187 grammes de nourriture/jour de 6 à 8 mois\n206 à 281 grammes de nourriture/jour de 9 à 11 mois"]
["Ingrédients"]
["Nº","Nom commun","Nom local \n(si différent)","Nom scientifique","Forme ","Source de composition nutritionnelle\nLien INFOODS",null,"Lien hypertexte"]
[1,{"$error":"#VALUE!"},"Sorgho","Pennisetum glaucum","farine","Tables de composition des aliments en Zambie",null,"https://www.nfnc.org.zm/download/zambia-food-composition-tables-4th-edition/?wpdmdl=1500&refresh=63d248a846b6e1674725544 "]
[2]
[3]
[4]
[5]
[6]
[7]
[8]
[9]
[10]
["Phase 4 : Saisir la composition nutritionnelle de chaque ingrédient.\nVeuillez saisir les données sur la composition des aliments exactement telles qu'elles apparaissent dans la table de composition des aliments (TCA) le plus proche de votre contexte géographique.  \nTous les aliments doivent être indiqués en quantités de 100 grammes (g). "]
["Ingrédient (par 100 g)",null,{"$error":"#VALUE!"},{"$f":"B8","v":0},{"$f":"B9","v":0},{"$f":"B10","v":0},{"$f":"B11","v":0},{"$f":"B12","v":0},{"$f":"B13","v":0},{"$f":"B14","v":0},{"$f":"B15","v":0},{"$f":"B16","v":0},"Sucre","Sel","Micronutriments en poudre (par 100g)"]
[null,"Énergie (kcal, ou calories)"]
[null,"Protéines (g)"]
[null,"Matières grasses totales (g)"]
[null,"Glucides (g)"]
[null,"Fibres (g)"]
[null,"Sucre (g)"]
[null,"Calcium [Ca] (mg)"]
[null,"Fer [Fe] (mg)"]
[null,"Magnésium [Mg] (mg)"]
[null,"Potassium [K] (mg)"]
[null,"Sodium [Na] (mg)"]
[null,"Zinc [Zn] (mg)"]
[null,"Vitamine A EAR (mcg)"]
[null,"Thiamine [Vit B1] (mg)"]
[null,"Riboflavine [Vit B2] (mg)"]
[null,"Equiv. Niacine [Vit B3] (mg)"]
[null,"Folate EFA (mcg)"]
[null,"Vitamine B12 (mcg)"]
[null,"Vitamine C (mg)"]
["Phase 4B : Élaborer des recommandations basées sur l'alimentation (RBA) ou des mélanges à base de farines enrichies (MFE)\nSaisir le nom, sélectionner la méthode de préparation et ajouter la quantité totale de chaque ingrédient (en grammes) pour un maximum de 4 RBA ou mélanges à base de farine enrichie.\nMax. 10 ingrédients par RBA. Du sucre, du sel et un mélange de vitamines sont ajoutés en plus. "]
["RBA ou MFE Nº",null,1,2,3,4]
["Ajouter la RBA / le nom du mélange à base de farine enrichie",null,"RBA Nº1","RBA Nº2","RBA Nº3","RBA Nº4",null,"TAILLE ESTIMÉE DE LA PORTION CLÉ\nPortion moyenne par groupe d'aliments"]
["Sélectionner la méthode de préparation",null,"Bouillie (<10 min)","Bouillie (<10 min)","Bouillie (<10 min)",null,null,"GROUPE ALIMENTAIRE",null,null,"2023-06-11"]
[1,{"$f":"B7","v":{"$error":"#VALUE!"}},null,null,null,null,null,null,null,null,"grammes","unité"]
[2,{"$f":"B8","v":0},null,null,null,null,null,"1. Céréales, racines blanches, tubercules, plantains (DAMF)",null,null,40,"1/4 tasse"]
[3,{"$f":"B9","v":0},null,null,null,null,null,"2. Légumineuses (haricots, pois, lentilles) DAMF",null,null,20,"1/3 tasse"]
[4,{"$f":"B10","v":0},null,null,null,null,null,"3. Fruits à coque et graines (DAMF)",null,null,10,"1 cs."]
[5,0,null,null,null,null,null,"4.1 Lait, produits laitiers (DAMF)",null,null,60,"1/4 tasse"]
[6,0,null,null,null,null,null,"4.2 Lait en poudre",null,null,10,"1,25 cs."]
[7,0,null,null,null,null,null,"4.2 Fromages",null,null,10,"1,25 cs."]
[8,0,null,null,null,null,null,"5. Viande, volaille, poisson (DAMF)",null,null,20,"2 cs."]
[9,0,null,null,null,null,null,"6. Œufs (DAMF)",null,null,25,"1/2 œuf"]
[10,0,null,null,null,null,null,"7.1 (FRAIS) Légumes à feuilles foncées (DAMF)",null,null,10,"1/4 tasse"]
["+","SUCRE AJOUTÉ (g)",null,null,null,null,null,"7.2 (SÉCHÉ) Légumes à feuilles foncées",null,null,5,"1 cs."]
["+","SEL AJOUTÉ (g)",null,null,null,null,null,"8. Fruits et légumes riches en vitamine A (DAMF)",null,null,30,"2 cs."]
["+",{"$f":"O18","v":"Micronutriments en poudre (par 100g)"},null,null,null,null,null,"9. Autres légumes (DAMF)",null,null,30,"2 cs."]
[null,"POIDS TOTAL RBA",{"$f":"_xlfn.CONCAT(SUM(C42:C54),\" grams\")","v":"0 grams"},{"$f":"_xlfn.CONCAT(SUM(D42:D54),\" grams\")","v":"0 grams"},{"$f":"_xlfn.CONCAT(SUM(E42:E54),\" grams\")","v":"0 grams"},{"$f":"_xlfn.CONCAT(SUM(F42:F54),\" grams\")","v":"0 grams"},null,"10. Autres fruits (DAMF)",null,null,30,"2 cs."]
[null,"Taille des portions pour une population spécifique",{"$f":"_xlfn.CONCAT(C4,\" grams\")","v":"90 grams"}]

{"sheet":"5) Tableaux de bord (6-11mois)","index":5,"n_rows":37,"n_cols":17,"rows_kept":37,"cut":false,"hidden":false,"merged":[[34,7,34,8],[35,7,35,8],[24,10,24,11],[25,10,25,11],[26,10,26,11],[27,10,27,11],[28,10,28,11],[29,10,29,11],[30,10,30,11],[31,10,31,11],[32,10,32,11],[33,10,33,11],[34,10,34,11],[35,10,35,11],[29,7,29,8],[30,7,30,8],[31,7,31,8],[32,7,32,8],[33,7,33,8],[24,7,24,8],[25,7,25,8],[26,7,26,8],[27,7,27,8],[28,7,28,8],[34,1,34,2],[35,1,35,2],[24,4,24,5],[25,4,25,5],[26,4,26,5],[27,4,27,5],[28,4,28,5],[29,4,29,5],[30,4,30,5],[31,4,31,5],[32,4,32,5],[33,4,33,5],[34,4,34,5],[35,4,35,5],[29,1,29,2],[30,1,30,2],[31,1,31,2],[32,1,32,2],[33,1,33,2],[24,1,24,2],[25,1,25,2],[26,1,26,2],[27,1,27,2],[28,1,28,2],[0,13,0,16],[23,1,23,3],[23,4,23,6],[23,7,23,9],[23,10,23,12],[0,1,0,3],[0,4,0,6],[0,7,0,9],[0,10,0,12],[22,1,22,2],[22,4,22,5],[22,7,22,8],[22,10,22,11]]}
["TABLEAU DE BORD pour \n6 à 11 mois",{"$f":"'3B-4B) CalcNutr (6-11)'!C40","v":"RBA Nº1"},null,null,{"$f":"'3B-4B) CalcNutr (6-11)'!D40","v":"RBA Nº2"},null,null,{"$f":"'3B-4B) CalcNutr (6-11)'!E40","v":"RBA Nº3"},null,null,{"$f":"'3B-4B) CalcNutr (6-11)'!F40","v":"RBA Nº4"},null,null,"DOSE JOURNALIÈRE PAR PORTION (référence)"]
["Nutriments","RBA préparée / MFE (avec facteur de rétention)","Enfants \n(6 à 11 mois)\n% VJ","Enfants \n(6 à 12 mois)\n% VJ","RBA préparée / MFE (avec facteur de rétention)","Enfants \n(6 à 11 mois)\n% VJ","Enfants \n(6 à 12 mois)\n% VJ","RBA préparée / MFE (avec facteur de rétention)","Enfants \n(6 à 11 mois)\n% VJ","Enfants \n(6 à 12 mois)\n% VJ","RBA préparée / MFE (avec facteur de rétention)","Enfants \n(6 à 11 mois)\n% VJ","Enfants\n (6 à 12 mois)\n% VJ","MMS+ avec huile","MMS++","SQ-LNS","Poudre de micronutriments multiples \n(sachet de 5g)"]
["Énergie (kcal, ou calories)",{"$f":"'RBAMFE Nº1 (Détails)'!C36","v":0},{"$f":"'RBAMFE Nº1 (Détails)'!Q36","v":0},{"$f":"'RBAMFE Nº1 (Détails)'!S36","v":0},{"$f":"'RBAMFE Nº2 (Détails)'!C36","v":0},{"$f":"'RBAMFE Nº2 (Détails)'!Q36","v":0},{"$f":"'RBAMFE Nº2 (Détails)'!S36","v":0},{"$f":"'RBAMFE Nº3 (Détails)'!C36","v":0},{"$f":"'RBAMFE Nº3 (Détails)'!H36","v":0},{"$f":"'RBAMFE Nº3 (Détails)'!J36","v":0},{"$f":"'RBAMFE Nº4 (Détails)'!C36","v":0},{"$f":"'RBAMFE Nº4 (Détails)'!Q36","v":0},{"$f":"'RBAMFE Nº4 (Détails)'!S36","v":0},601,563,"550 à 620"]
["Protéines (g)",{"$f":"'RBAMFE Nº1 (Détails)'!C37","v":0},{"$f":"'RBAMFE Nº1 (Détails)'!Q37","v":0},{"$f":"'RBAMFE Nº1 (Détails)'!S37","v":0},{"$f":"'RBAMFE Nº2 (Détails)'!C37","v":0},{"$f":"'RBAMFE Nº2 (Détails)'!Q37","v":0},{"$f":"'RBAMFE Nº2 (Détails)'!S37","v":0},{"$f":"'RBAMFE Nº3 (Détails)'!C37","v":0},{"$f":"'RBAMFE Nº3 (Détails)'!H37","v":0},{"$f":"'RBAMFE Nº3 (Détails)'!J37","v":0},{"$f":"'RBAMFE Nº4 (Détails)'!C37","v":0},{"$f":"'RBAMFE Nº4 (Détails)'!Q37","v":0},{"$f":"'RBAMFE Nº4 (Détails)'!S37","v":0},13.3,21,"2023-12-16"]
["Matières grasses totales (g)",{"$f":"'RBAMFE Nº1 (Détails)'!C38","v":0},{"$f":"'RBAMFE Nº1 (Détails)'!Q38","v":0},{"$f":"'RBAMFE Nº1 (Détails)'!S38","v":0},{"$f":"'RBAMFE Nº2 (Détails)'!C38","v":0},{"$f":"'RBAMFE Nº2 (Détails)'!Q38","v":0},{"$f":"'RBAMFE Nº2 (Détails)'!S38","v":0},{"$f":"'RBAMFE Nº3 (Détails)'!C38","v":0},{"$f":"'RBAMFE Nº3 (Détails)'!H38","v":0},{"$f":"'RBAMFE Nº3 (Détails)'!J38","v":0},{"$f":"'RBAMFE Nº4 (Détails)'!C38","v":0},{"$f":"'RBAMFE Nº4 (Détails)'!Q38","v":0},{"$f":"'RBAMFE Nº4 (Détails)'!S38","v":0},26.5,13,"40 à 53"]
["Glucides (g)",{"$f":"'RBAMFE Nº1 (Détails)'!C39","v":0},{"$f":"'RBAMFE Nº1 (Détails)'!Q39","v":0},{"$f":"'RBAMFE Nº1 (Détails)'!S39","v":0},{"$f":"'RBAMFE Nº2 (Détails)'!C39","v":0},{"$f":"'RBAMFE Nº2 (Détails)'!Q39","v":0},{"$f":"'RBAMFE Nº2 (Détails)'!S39","v":0},{"$f":"'RBAMFE Nº3 (Détails)'!C39","v":0},{"$f":"'RBAMFE Nº3 (Détails)'!H39","v":0},{"$f":"'RBAMFE Nº3 (Détails)'!J39","v":0},{"$f":"'RBAMFE Nº4 (Détails)'!C39","v":0},{"$f":"'RBAMFE Nº4 (Détails)'!Q39","v":0},{"$f":"'RBAMFE Nº4 (Détails)'!S39","v":0},51,null,"0 à 8"]
["Fibres (g)",{"$f":"'RBAMFE Nº1 (Détails)'!C40","v":0},{"$f":"'RBAMFE Nº1 (Détails)'!Q40","v":0},{"$f":"'RBAMFE Nº1 (Détails)'!S40","v":"NA"},{"$f":"'RBAMFE Nº2 (Détails)'!C40","v":0},{"$f":"'RBAMFE Nº2 (Détails)'!Q40","v":0},{"$f":"'RBAMFE Nº2 (Détails)'!S40","v":"NA"},{"$f":"'RBAMFE Nº3 (Détails)'!C40","v":0},{"$f":"'RBAMFE Nº3 (Détails)'!H40","v":0},{"$f":"'RBAMFE Nº3 (Détails)'!J40","v":"NA"},{"$f":"'RBAMFE Nº4 (Détails)'!C40","v":0},{"$f":"'RBAMFE Nº4 (Détails)'!Q40","v":0},{"$f":"'RBAMFE Nº4 (Détails)'!S40","v":"NA"},3.7]
["Sucre (g)",{"$f":"'RBAMFE Nº1 (Détails)'!C41","v":0},{"$f":"'RBAMFE Nº1 (Détails)'!Q41","v":"NA"},{"$f":"'RBAMFE Nº1 (Détails)'!S41","v":"NA"},{"$f":"'RBAMFE Nº2 (Détails)'!C41","v":0},{"$f":"'RBAMFE Nº2 (Détails)'!Q41","v":"NA"},{"$f":"'RBAMFE Nº2 (Détails)'!S41","v":"NA"},{"$f":"'RBAMFE Nº3 (Détails)'!C41","v":0},{"$f":"'RBAMFE Nº3 (Détails)'!H41","v":"NA"},{"$f":"'RBAMFE Nº3 (Détails)'!J41","v":"NA"},{"$f":"'RBAMFE Nº4 (Détails)'!C41","v":0},{"$f":"'RBAMFE Nº4 (Détails)'!Q41","v":"NA"},{"$f":"'RBAMFE Nº4 (Détails)'!S41","v":"NA"},2,null,"0 à 8"]
["Calcium [Ca] (mg)",{"$f":"'RBAMFE Nº1 (Détails)'!C42","v":0},{"$f":"'RBAMFE Nº1 (Détails)'!Q42","v":0},{"$f":"'RBAMFE Nº1 (Détails)'!S42","v":0},{"$f":"'RBAMFE Nº2 (Détails)'!C42","v":0},{"$f":"'RBAMFE Nº2 (Détails)'!Q42","v":0},{"$f":"'RBAMFE Nº2 (Détails)'!S42","v":0},{"$f":"'RBAMFE Nº3 (Détails)'!C42","v":0},{"$f":"'RBAMFE Nº3 (Détails)'!H42","v":0},{"$f":"'RBAMFE Nº3 (Détails)'!J42","v":0},{"$f":"'RBAMFE Nº4 (Détails)'!C42","v":0},{"$f":"'RBAMFE Nº4 (Détails)'!Q42","v":0},{"$f":"'RBAMFE Nº4 (Détails)'!S42","v":0},381,579,"1 400 à 1 960"]
["Fer [Fe] (mg)",{"$f":"'RBAMFE Nº1 (Détails)'!C43","v":0},{"$f":"'RBAMFE Nº1 (Détails)'!Q43","v":0},{"$f":"'RBAMFE Nº1 (Détails)'!S43","v":0},{"$f":"'RBAMFE Nº2 (Détails)'!C43","v":0},{"$f":"'RBAMFE Nº2 (Détails)'!Q43","v":0},{"$f":"'RBAMFE Nº2 (Détails)'!S43","v":0},{"$f":"'RBAMFE Nº3 (Détails)'!C43","v":0},{"$f":"'RBAMFE Nº3 (Détails)'!H43","v":0},{"$f":"'RBAMFE Nº3 (Détails)'!J43","v":0},{"$f":"'RBAMFE Nº4 (Détails)'!C43","v":0},{"$f":"'RBAMFE Nº4 (Détails)'!Q43","v":0},{"$f":"'RBAMFE Nº4 (Détails)'!S43","v":0},7.8,15,"30 à 42",12.5]
["Magnésium [Mg] (mg)",{"$f":"'RBAMFE Nº1 (Détails)'!C44","v":0},{"$f":"'RBAMFE Nº1 (Détails)'!Q44","v":0},{"$f":"'RBAMFE Nº1 (Détails)'!S44","v":0},{"$f":"'RBAMFE Nº2 (Détails)'!C44","v":0},{"$f":"'RBAMFE Nº2 (Détails)'!Q44","v":0},{"$f":"'RBAMFE Nº2 (Détails)'!S44","v":0},{"$f":"'RBAMFE Nº3 (Détails)'!C44","v":0},{"$f":"'RBAMFE Nº3 (Détails)'!H44","v":0},{"$f":"'RBAMFE Nº3 (Détails)'!J44","v":0},{"$f":"'RBAMFE Nº4 (Détails)'!C44","v":0},{"$f":"'RBAMFE Nº4 (Détails)'!Q44","v":0},{"$f":"'RBAMFE Nº4 (Détails)'!S44","v":0},60.7,190,"200 à 280"]
["Potassium [K] (mg)",{"$f":"'RBAMFE Nº1 (Détails)'!C45","v":0},{"$f":"'RBAMFE Nº1 (Détails)'!Q45","v":0},{"$f":"'RBAMFE Nº1 (Détails)'!S45","v":0},{"$f":"'RBAMFE Nº2 (Détails)'!C45","v":0},{"$f":"'RBAMFE Nº2 (Détails)'!Q45","v":0},{"$f":"'RBAMFE Nº2 (Détails)'!S45","v":0},{"$f":"'RBAMFE Nº3 (Détails)'!C45","v":0},{"$f":"'RBAMFE Nº3 (Détails)'!H45","v":0},{"$f":"'RBAMFE Nº3 (Détails)'!J45","v":0},{"$f":"'RBAMFE Nº4 (Détails)'!C45","v":0},{"$f":"'RBAMFE Nº4 (Détails)'!Q45","v":0},{"$f":"'RBAMFE Nº4 (Détails)'!S45","v":0},457,1426,"1 000 à 1 400"]
["Sodium [Na] (mg)",{"$f":"'RBAMFE Nº1 (Détails)'!C46","v":0},{"$f":"'RBAMFE Nº1 (Détails)'!Q46","v":0},{"$f":"'RBAMFE Nº1 (Détails)'!S46","v":0},{"$f":"'RBAMFE Nº2 (Détails)'!C46","v":0},{"$f":"'RBAMFE Nº2 (Détails)'!Q46","v":0},{"$f":"'RBAMFE Nº2 (Détails)'!S46","v":0},{"$f":"'RBAMFE Nº3 (Détails)'!C46","v":0},{"$f":"'RBAMFE Nº3 (Détails)'!H46","v":0},{"$f":"'RBAMFE Nº3 (Détails)'!J46","v":0},{"$f":"'RBAMFE Nº4 (Détails)'!C46","v":0},{"$f":"'RBAMFE Nº4 (Détails)'!Q46","v":0},{"$f":"'RBAMFE Nº4 (Détails)'!S46","v":0},3.7]
["Zinc [Zn] (mg)",{"$f":"'RBAMFE Nº1 (Détails)'!C47","v":0},{"$f":"'RBAMFE Nº1 (Détails)'!Q47","v":0},{"$f":"'RBAMFE Nº1 (Détails)'!S47","v":0},{"$f":"'RBAMFE Nº2 (Détails)'!C47","v":0},{"$f":"'RBAMFE Nº2 (Détails)'!Q47","v":0},{"$f":"'RBAMFE Nº2 (Détails)'!S47","v":0},{"$f":"'RBAMFE Nº3 (Détails)'!C47","v":0},{"$f":"'RBAMFE Nº3 (Détails)'!H47","v":0},{"$f":"'RBAMFE Nº3 (Détails)'!J47","v":0},{"$f":"'RBAMFE Nº4 (Détails)'!C47","v":0},{"$f":"'RBAMFE Nº4 (Détails)'!Q47","v":0},{"$f":"'RBAMFE Nº4 (Détails)'!S47","v":0},4.88,11,"40 à 56",5]
["Vitamine A EAR (mcg)",{"$f":"'RBAMFE Nº1 (Détails)'!C48","v":0},{"$f":"'RBAMFE Nº1 (Détails)'!Q48","v":0},{"$f":"'RBAMFE Nº1 (Détails)'!S48","v":0},{"$f":"'RBAMFE Nº2 (Détails)'!C48","v":0},{"$f":"'RBAMFE Nº2 (Détails)'!Q48","v":0},{"$f":"'RBAMFE Nº2 (Détails)'!S48","v":0},{"$f":"'RBAMFE Nº3 (Détails)'!C48","v":0},{"$f":"'RBAMFE Nº3 (Détails)'!H48","v":0},{"$f":"'RBAMFE Nº3 (Détails)'!J48","v":0},{"$f":"'RBAMFE Nº4 (Détails)'!C48","v":0},{"$f":"'RBAMFE Nº4 (Détails)'!Q48","v":0},{"$f":"'RBAMFE Nº4 (Détails)'!S48","v":0},4074,714,"2 000 à 3 390",300]
["Thiamine [Vitamine B1] (mg)",{"$f":"'RBAMFE Nº1 (Détails)'!C49","v":0},{"$f":"'RBAMFE Nº1 (Détails)'!Q49","v":0},{"$f":"'RBAMFE Nº1 (Détails)'!S49","v":0},{"$f":"'RBAMFE Nº2 (Détails)'!C49","v":0},{"$f":"'RBAMFE Nº2 (Détails)'!Q49","v":0},{"$f":"'RBAMFE Nº2 (Détails)'!S49","v":0},{"$f":"'RBAMFE Nº3 (Détails)'!C49","v":0},{"$f":"'RBAMFE Nº3 (Détails)'!H49","v":0},{"$f":"'RBAMFE Nº3 (Détails)'!J49","v":0},{"$f":"'RBAMFE Nº4 (Détails)'!C49","v":0},{"$f":"'RBAMFE Nº4 (Détails)'!Q49","v":0},{"$f":"'RBAMFE Nº4 (Détails)'!S49","v":0},0.36,0.8,"1,5 à 3,8"]
["Riboflavine [Vitamine B2] (mg)",{"$f":"'RBAMFE Nº1 (Détails)'!C50","v":0},{"$f":"'RBAMFE Nº1 (Détails)'!Q50","v":0},{"$f":"'RBAMFE Nº1 (Détails)'!S50","v":0},{"$f":"'RBAMFE Nº2 (Détails)'!C50","v":0},{"$f":"'RBAMFE Nº2 (Détails)'!Q50","v":0},{"$f":"'RBAMFE Nº2 (Détails)'!S50","v":0},{"$f":"'RBAMFE Nº3 (Détails)'!C50","v":0},{"$f":"'RBAMFE Nº3 (Détails)'!H50","v":0},{"$f":"'RBAMFE Nº3 (Détails)'!J50","v":0},{"$f":"'RBAMFE Nº4 (Détails)'!C50","v":0},{"$f":"'RBAMFE Nº4 (Détails)'!Q50","v":0},{"$f":"'RBAMFE Nº4 (Détails)'!S50","v":0},1.2,1.2,"2023-02-03"]
["Equiv. Niacine [Vitamine B3] (mg)",{"$f":"'RBAMFE Nº1 (Détails)'!C51","v":0},{"$f":"'RBAMFE Nº1 (Détails)'!Q51","v":0},{"$f":"'RBAMFE Nº1 (Détails)'!S51","v":0},{"$f":"'RBAMFE Nº2 (Détails)'!C51","v":0},{"$f":"'RBAMFE Nº2 (Détails)'!Q51","v":0},{"$f":"'RBAMFE Nº2 (Détails)'!S51","v":0},{"$f":"'RBAMFE Nº3 (Détails)'!C51","v":0},{"$f":"'RBAMFE Nº3 (Détails)'!H51","v":0},{"$f":"'RBAMFE Nº3 (Détails)'!J51","v":0},{"$f":"'RBAMFE Nº4 (Détails)'!C51","v":0},{"$f":"'RBAMFE Nº4 (Détails)'!Q51","v":0},{"$f":"'RBAMFE Nº4 (Détails)'!S51","v":0},6.75,11,"20 à 28,8"]
["Folate EFA (mcg)",{"$f":"'RBAMFE Nº1 (Détails)'!C52","v":0},{"$f":"'RBAMFE Nº1 (Détails)'!Q52","v":0},{"$f":"'RBAMFE Nº1 (Détails)'!S52","v":0},{"$f":"'RBAMFE Nº2 (Détails)'!C52","v":0},{"$f":"'RBAMFE Nº2 (Détails)'!Q52","v":0},{"$f":"'RBAMFE Nº2 (Détails)'!S52","v":0},{"$f":"'RBAMFE Nº3 (Détails)'!C52","v":0},{"$f":"'RBAMFE Nº3 (Détails)'!H52","v":0},{"$f":"'RBAMFE Nº3 (Détails)'!J52","v":0},{"$f":"'RBAMFE Nº4 (Détails)'!C52","v":0},{"$f":"'RBAMFE Nº4 (Détails)'!Q52","v":0},{"$f":"'RBAMFE Nº4 (Détails)'!S52","v":0},156,3.1,"667 à 1 044"]
["Vitamine B12 (mcg)",{"$f":"'RBAMFE Nº1 (Détails)'!C53","v":0},{"$f":"'RBAMFE Nº1 (Détails)'!Q53","v":0},{"$f":"'RBAMFE Nº1 (Détails)'!S53","v":0},{"$f":"'RBAMFE Nº2 (Détails)'!C53","v":0},{"$f":"'RBAMFE Nº2 (Détails)'!Q53","v":0},{"$f":"'RBAMFE Nº2 (Détails)'!S53","v":0},{"$f":"'RBAMFE Nº3 (Détails)'!C53","v":0},{"$f":"'RBAMFE Nº3 (Détails)'!H53","v":0},{"$f":"'RBAMFE Nº3 (Détails)'!J53","v":0},{"$f":"'RBAMFE Nº4 (Détails)'!C53","v":0},{"$f":"'RBAMFE Nº4 (Détails)'!Q53","v":0},{"$f":"'RBAMFE Nº4 (Détails)'!S53","v":0},1.5,3.3,"2,5 à 4,2"]
["Vitamine C (mg)",{"$f":"'RBAMFE Nº1 (Détails)'!C54","v":0},{"$f":"'RBAMFE Nº1 (Détails)'!Q54","v":0},{"$f":"'RBAMFE Nº1 (Détails)'!S54","v":0},{"$f":"'RBAMFE Nº2 (Détails)'!C54","v":0},{"$f":"'RBAMFE Nº2 (Détails)'!Q54","v":0},{"$f":"'RBAMFE Nº2 (Détails)'!S54","v":0},{"$f":"'RBAMFE Nº3 (Détails)'!C54","v":0},{"$f":"'RBAMFE Nº3 (Détails)'!H54","v":0},{"$f":"'RBAMFE Nº3 (Détails)'!J54","v":0},{"$f":"'RBAMFE Nº4 (Détails)'!C54","v":0},{"$f":"'RBAMFE Nº4 (Détails)'!Q54","v":0},{"$f":"'RBAMFE Nº4 (Détails)'!S54","v":0},68,145,"75 à 169",50]
[null,null,"= >30% Valeur journalière par repas",null,null,"= >30% Valeur journalière par repas",null,null,"= >30% Valeur journalière par repas",null,null,"= >30% Valeur journalière par repas","= >30% Valeur journalière par repas"]
[null,{"$f":"'3B-4B) CalcNutr (6-11)'!C40","v":"RBA Nº1"},null,null,{"$f":"'3B-4B) CalcNutr (6-11)'!D40","v":"RBA Nº2"},null,null,{"$f":"'3B-4B) CalcNutr (6-11)'!E40","v":"RBA Nº3"},null,null,{"$f":"'3B-4B) CalcNutr (6-11)'!F40","v":"RBA Nº4"}]
["Ingrédients : ","Quantité (grammes)",null,null,"Quantité (grammes)",null,null,"Quantité (grammes)",null,null,"Quantité (grammes)"]
["Millet",{"$f":"IF('3B-4B) CalcNutr (6-11)'!C42>0,'3B-4B) CalcNutr (6-11)'!C42,0)","v":0},null,null,{"$f":"IF('3B-4B) CalcNutr (6-11)'!D42>0,'3B-4B) CalcNutr (6-11)'!D42,0)","v":0},null,null,{"$f":"IF('3B-4B) CalcNutr (6-11)'!E42>0,'3B-4B) CalcNutr (6-11)'!E42,0)","v":0},null,null,{"$f":"IF('3B-4B) CalcNutr (6-11)'!F42>0,'3B-4B) CalcNutr (6-11)'!F42,0)","v":0}]
[{"$f":"'3B-4B) CalcNutr (6-11)'!B8","v":0},{"$f":"IF('3B-4B) CalcNutr (6-11)'!C43>0,'3B-4B) CalcNutr (6-11)'!C43,0)","v":0},null,null,{"$f":"IF('3B-4B) CalcNutr (6-11)'!D43>0,'3B-4B) CalcNutr (6-11)'!D43,0)","v":0},null,null,{"$f":"IF('3B-4B) CalcNutr (6-11)'!E43>0,'3B-4B) CalcNutr (6-11)'!E43,0)","v":0},null,null,{"$f":"IF('3B-4B) CalcNutr (6-11)'!F43>0,'3B-4B) CalcNutr (6-11)'!F43,0)","v":0}]
[{"$f":"'3B-4B) CalcNutr (6-11)'!B9","v":0},{"$f":"IF('3B-4B) CalcNutr (6-11)'!C44>0,'3B-4B) CalcNutr (6-11)'!C44,0)","v":0},null,null,{"$f":"IF('3B-4B) CalcNutr (6-11)'!D44>0,'3B-4B) CalcNutr (6-11)'!D44,0)","v":0},null,null,{"$f":"IF('3B-4B) CalcNutr (6-11)'!E44>0,'3B-4B) CalcNutr (6-11)'!E44,0)","v":0},null,null,{"$f":"IF('3B-4B) CalcNutr (6-11)'!F44>0,'3B-4B) CalcNutr (6-11)'!F44,0)","v":0}]
[{"$f":"'3B-4B) CalcNutr (6-11)'!B10","v":0},{"$f":"IF('3B-4B) CalcNutr (6-11)'!C45>0,'3B-4B) CalcNutr (6-11)'!C45,0)","v":0},null,null,{"$f":"IF('3B-4B) CalcNutr (6-11)'!D45>0,'3B-4B) CalcNutr (6-11)'!D45,0)","v":0},null,null,{"$f":"IF('3B-4B) CalcNutr (6-11)'!E45>0,'3B-4B) CalcNutr (6-11)'!E45,0)","v":0},null,null,{"$f":"IF('3B-4B) CalcNutr (6-11)'!F45>0,'3B-4B) CalcNutr (6-11)'!F45,0)","v":0}]
[{"$f":"'3B-4B) CalcNutr (6-11)'!B11","v":0},{"$f":"IF('3B-4B) CalcNutr (6-11)'!C46>0,'3B-4B) CalcNutr (6-11)'!C46,0)","v":0},null,null,{"$f":"IF('3B-4B) CalcNutr (6-11)'!D46>0,'3B-4B) CalcNutr (6-11)'!D46,0)","v":0},null,null,{"$f":"IF('3B-4B) CalcNutr (6-11)'!E46>0,'3B-4B) CalcNutr (6-11)'!E46,0)","v":0},null,null,{"$f":"IF('3B-4B) CalcNutr (6-11)'!F46>0,'3B-4B) CalcNutr (6-11)'!F46,0)","v":0}]
[{"$f":"'3B-4B) CalcNutr (6-11)'!B12","v":0},{"$f":"IF('3B-4B) CalcNutr (6-11)'!C47>0,'3B-4B) CalcNutr (6-11)'!C47,0)","v":0},null,null,{"$f":"IF('3B-4B) CalcNutr (6-11)'!D47>0,'3B-4B) CalcNutr (6-11)'!D47,0)","v":0},null,null,{"$f":"IF('3B-4B) CalcNutr (6-11)'!E47>0,'3B-4B) CalcNutr (6-11)'!E47,0)","v":0},null,null,{"$f":"IF('3B-4B) CalcNutr (6-11)'!F47>0,'3B-4B) CalcNutr (6-11)'!F47,0)","v":0}]
[{"$f":"'3B-4B) CalcNutr (6-11)'!B13","v":0},{"$f":"IF('3B-4B) CalcNutr (6-11)'!C48>0,'3B-4B) CalcNutr (6-11)'!C48,0)","v":0},null,null,{"$f":"IF('3B-4B) CalcNutr (6-11)'!D48>0,'3B-4B) CalcNutr (6-11)'!D48,0)","v":0},null,null,{"$f":"IF('3B-4B) CalcNutr (6-11)'!E48>0,'3B-4B) CalcNutr (6-11)'!E48,0)","v":0},null,null,{"$f":"IF('3B-4B) CalcNutr (6-11)'!F48>0,'3B-4B) CalcNutr (6-11)'!F48,0)","v":0}]
[{"$f":"'3B-4B) CalcNutr (6-11)'!B14","v":0},{"$f":"IF('3B-4B) CalcNutr (6-11)'!C49>0,'3B-4B) CalcNutr (6-11)'!C49,0)","v":0},null,null,{"$f":"IF('3B-4B) CalcNutr (6-11)'!D49>0,'3B-4B) CalcNutr (6-11)'!D49,0)","v":0},null,null,{"$f":"IF('3B-4B) CalcNutr (6-11)'!E49>0,'3B-4B) CalcNutr (6-11)'!E49,0)","v":0},null,null,{"$f":"IF('3B-4B) CalcNutr (6-11)'!F49>0,'3B-4B) CalcNutr (6-11)'!F49,0)","v":0}]
[{"$f":"'3B-4B) CalcNutr (6-11)'!B15","v":0},{"$f":"IF('3B-4B) CalcNutr (6-11)'!C50>0,'3B-4B) CalcNutr (6-11)'!C50,0)","v":0},null,null,{"$f":"IF('3B-4B) CalcNutr (6-11)'!D50>0,'3B-4B) CalcNutr (6-11)'!D50,0)","v":0},null,null,{"$f":"IF('3B-4B) CalcNutr (6-11)'!E50>0,'3B-4B) CalcNutr (6-11)'!E50,0)","v":0},null,null,{"$f":"IF('3B-4B) CalcNutr (6-11)'!F50>0,'3B-4B) CalcNutr (6-11)'!F50,0)","v":0}]
[{"$f":"'3B-4B) CalcNutr (6-11)'!B52","v":"SUCRE AJOUTÉ (g)"},{"$f":"IF('3B-4B) CalcNutr (6-11)'!C51>0,'3B-4B) CalcNutr (6-11)'!C51,0)","v":0},null,null,{"$f":"IF('3B-4B) CalcNutr (6-11)'!D51>0,'3B-4B) CalcNutr (6-11)'!D51,0)","v":0},null,null,{"$f":"IF('3B-4B) CalcNutr (6-11)'!E51>0,'3B-4B) CalcNutr (6-11)'!E51,0)","v":0},null,null,{"$f":"IF('3B-4B) CalcNutr (6-11)'!F51>0,'3B-4B) CalcNutr (6-11)'!F51,0)","v":0}]
[{"$f":"'3B-4B) CalcNutr (6-11)'!B53","v":"SEL AJOUTÉ (g)"},{"$f":"IF('3B-4B) CalcNutr (6-11)'!C52>0,'3B-4B) CalcNutr (6-11)'!C52,0)","v":0},null,null,{"$f":"IF('3B-4B) CalcNutr (6-11)'!D52>0,'3B-4B) CalcNutr (6-11)'!D52,0)","v":0},null,null,{"$f":"IF('3B-4B) CalcNutr (6-11)'!E52>0,'3B-4B) CalcNutr (6-11)'!E52,0)","v":0},null,null,{"$f":"IF('3B-4B) CalcNutr (6-11)'!F52>0,'3B-4B) CalcNutr (6-11)'!F52,0)","v":0}]
[{"$f":"'3B-4B) CalcNutr (6-11)'!B54","v":"Micronutriments en poudre (par 100g)"},{"$f":"IF('3B-4B) CalcNutr (6-11)'!C53>0,'3B-4B) CalcNutr (6-11)'!C53,0)","v":0},null,null,{"$f":"IF('3B-4B) CalcNutr (6-11)'!D53>0,'3B-4B) CalcNutr (6-11)'!D53,0)","v":0},null,null,{"$f":"IF('3B-4B) CalcNutr (6-11)'!E53>0,'3B-4B) CalcNutr (6-11)'!E53,0)","v":0},null,null,{"$f":"IF('3B-4B) CalcNutr (6-11)'!F53>0,'3B-4B) CalcNutr (6-11)'!F53,0)","v":0}]
["TOTAL",{"$f":"SUM(B25:B36)","v":0},"grammes",null,{"$f":"SUM(E25:E36)","v":0},"grammes",null,{"$f":"SUM(H25:H36)","v":0},"grammes",null,{"$f":"SUM(K25:K36)","v":0},"grammes"]

{"sheet":"3B-4B) Calc Nutr (12 à 23)","index":6,"n_rows":56,"n_cols":15,"rows_kept":56,"cut":false,"hidden":false,"merged":[[40,0,40,1],[40,7,40,9],[40,10,40,11],[55,2,55,5],[11,5,11,6],[12,5,12,6],[13,5,13,6],[16,0,16,14],[17,0,17,1],[37,0,37,5],[38,0,38,1],[39,0,39,1],[39,7,39,11],[9,5,9,6],[14,5,14,6],[15,5,15,6],[6,5,6,6],[7,5,7,6],[8,5,8,6],[10,5,10,6],[0,0,0,14],[3,4,3,8],[4,0,4,9],[5,5,5,6],[1,0,1,9]]}
["12 à 23 mois : Calculateur nutritionnel (Option 2)"]
["Phase 3B : Dresser la liste des ingrédients potentiels\nDressez la liste de tous les ingrédients potentiels pour chaque recommandation alimentaire.  Si deux formes différentes du même ingrédient sont utilisées (par exemple, frais, séché), elles doivent être ajoutées et analysées indépendamment l'une de l'autre. Le sel, le sucre et les multivitamines sont ajoutés dans la colonne M-O à la Phase 4. "]
["Estimation de la taille des portions (par repas) pour une population spécifique"]
[1,"Taper la taille approximative d'une portion de repas (en grammes) pour une population spécifique",150,"grammes de nourriture par repas (portion)","GRAMMES D'ALIMENTS NÉCESSAIRES PAR JOUR RECOMMANDATIONS pour un enfant de moins de 2 ans : \n378 à 515 grammes de nourriture/jour de 12 à 24 mois"]
["Ingrédients"]
["Nº","Nom commun","Nom local \n(si différent)","Nom scientifique","Forme ","Source de composition nutritionnelle\nLien INFOODS",null,"Lien hypertexte"]
[1,{"$f":"'3B-4B) CalcNutr (6-11)'!B7","v":{"$error":"#VALUE!"}},{"$f":"'3B-4B) CalcNutr (6-11)'!C7","v":"Sorgho"},{"$f":"'3B-4B) CalcNutr (6-11)'!D7","v":"Pennisetum glaucum"},{"$f":"'3B-4B) CalcNutr (6-11)'!E7","v":"farine"},{"$f":"'3B-4B) CalcNutr (6-11)'!F7","v":"Tables de composition des aliments en Zambie"},null,"https://www.nfnc.org.zm/download/zambia-food-composition-tables-4th-edition/?wpdmdl=1500&refresh=63d248a846b6e1674725544"]
[2,{"$f":"'3B-4B) CalcNutr (6-11)'!B8","v":0},{"$f":"'3B-4B) CalcNutr (6-11)'!C8","v":0},{"$f":"'3B-4B) CalcNutr (6-11)'!D8","v":0},{"$f":"'3B-4B) CalcNutr (6-11)'!E8","v":0},{"$f":"'3B-4B) CalcNutr (6-11)'!F8","v":0},null,{"$f":"'3B-4B) CalcNutr (6-11)'!H8","v":0}]
[3,{"$f":"'3B-4B) CalcNutr (6-11)'!B9","v":0},{"$f":"'3B-4B) CalcNutr (6-11)'!C9","v":0},{"$f":"'3B-4B) CalcNutr (6-11)'!D9","v":0},{"$f":"'3B-4B) CalcNutr (6-11)'!E9","v":0},{"$f":"'3B-4B) CalcNutr (6-11)'!F9","v":0},null,{"$f":"'3B-4B) CalcNutr (6-11)'!H9","v":0}]
[4,{"$f":"'3B-4B) CalcNutr (6-11)'!B10","v":0},{"$f":"'3B-4B) CalcNutr (6-11)'!C10","v":0},{"$f":"'3B-4B) CalcNutr (6-11)'!D10","v":0},{"$f":"'3B-4B) CalcNutr (6-11)'!E10","v":0},{"$f":"'3B-4B) CalcNutr (6-11)'!F10","v":0},null,{"$f":"'3B-4B) CalcNutr (6-11)'!H10","v":0}]
[5,{"$f":"'3B-4B) CalcNutr (6-11)'!B11","v":0},{"$f":"'3B-4B) CalcNutr (6-11)'!C11","v":0},{"$f":"'3B-4B) CalcNutr (6-11)'!D11","v":0},{"$f":"'3B-4B) CalcNutr (6-11)'!E11","v":0},{"$f":"'3B-4B) CalcNutr (6-11)'!F11","v":0},null,{"$f":"'3B-4B) CalcNutr (6-11)'!H11","v":0}]
[6,{"$f":"'3B-4B) CalcNutr (6-11)'!B12","v":0},{"$f":"'3B-4B) CalcNutr (6-11)'!C12","v":0},{"$f":"'3B-4B) CalcNutr (6-11)'!D12","v":0},{"$f":"'3B-4B) CalcNutr (6-11)'!E12","v":0},{"$f":"'3B-4B) CalcNutr (6-11)'!F12","v":0},null,{"$f":"'3B-4B) CalcNutr (6-11)'!H12","v":0}]
[7,{"$f":"'3B-4B) CalcNutr (6-11)'!B13","v":0},{"$f":"'3B-4B) CalcNutr (6-11)'!C13","v":0},{"$f":"'3B-4B) CalcNutr (6-11)'!D13","v":0},{"$f":"'3B-4B) CalcNutr (6-11)'!E13","v":0},{"$f":"'3B-4B) CalcNutr (6-11)'!F13","v":0},null,{"$f":"'3B-4B) CalcNutr (6-11)'!H13","v":0}]
[8,{"$f":"'3B-4B) CalcNutr (6-11)'!B14","v":0},{"$f":"'3B-4B) CalcNutr (6-11)'!C14","v":0},{"$f":"'3B-4B) CalcNutr (6-11)'!D14","v":0},{"$f":"'3B-4B) CalcNutr (6-11)'!E14","v":0},{"$f":"'3B-4B) CalcNutr (6-11)'!F14","v":0},null,{"$f":"'3B-4B) CalcNutr (6-11)'!H14","v":0}]
[9,{"$f":"'3B-4B) CalcNutr (6-11)'!B15","v":0},{"$f":"'3B-4B) CalcNutr (6-11)'!C15","v":0},{"$f":"'3B-4B) CalcNutr (6-11)'!D15","v":0},{"$f":"'3B-4B) CalcNutr (6-11)'!E15","v":0},{"$f":"'3B-4B) CalcNutr (6-11)'!F15","v":0},null,{"$f":"'3B-4B) CalcNutr (6-11)'!H15","v":0}]
[10,{"$f":"'3B-4B) CalcNutr (6-11)'!B16","v":0},{"$f":"'3B-4B) CalcNutr (6-11)'!C16","v":0},{"$f":"'3B-4B) CalcNutr (6-11)'!D16","v":0},{"$f":"'3B-4B) CalcNutr (6-11)'!E16","v":0},{"$f":"'3B-4B) CalcNutr (6-11)'!F16","v":0},null,{"$f":"'3B-4B) CalcNutr (6-11)'!H16","v":0}]
["Phase 4 : Saisir la composition nutritionnelle de chaque ingrédient.\nVeuillez saisir les données sur la composition des aliments exactement telles qu'elles apparaissent dans la table de composition des aliments (TCA) le plus proche de votre contexte géographique.  \nTous les aliments doivent être indiqués en quantités de 100 grammes (g). "]
["Ingrédient (par 100 g)",null,{"$f":"B7","v":{"$error":"#VALUE!"}},{"$f":"B8","v":0},{"$f":"B9","v":0},{"$f":"B10","v":0},{"$f":"B11","v":0},{"$f":"B12","v":0},{"$f":"B13","v":0},{"$f":"B14","v":0},{"$f":"B15","v":0},{"$f":"B16","v":0},"Sucre","Sel","Micronutriments en poudre (par 100g)"]
[null,"Énergie (kcal / calories)",{"$f":"'3B-4B) CalcNutr (6-11)'!C19","v":0},{"$f":"'3B-4B) CalcNutr (6-11)'!D19","v":0},{"$f":"'3B-4B) CalcNutr (6-11)'!E19","v":0},{"$f":"'3B-4B) CalcNutr (6-11)'!F19","v":0},{"$f":"'3B-4B) CalcNutr (6-11)'!G19","v":0},{"$f":"'3B-4B) CalcNutr (6-11)'!H19","v":0},{"$f":"'3B-4B) CalcNutr (6-11)'!I19","v":0},{"$f":"'3B-4B) CalcNutr (6-11)'!J19","v":0},{"$f":"'3B-4B) CalcNutr (6-11)'!K19","v":0},{"$f":"'3B-4B) CalcNutr (6-11)'!L19","v":0}]
[null,"Protéines (g)",{"$f":"'3B-4B) CalcNutr (6-11)'!C20","v":0},{"$f":"'3B-4B) CalcNutr (6-11)'!D20","v":0},{"$f":"'3B-4B) CalcNutr (6-11)'!E20","v":0},{"$f":"'3B-4B) CalcNutr (6-11)'!F20","v":0},{"$f":"'3B-4B) CalcNutr (6-11)'!G20","v":0},{"$f":"'3B-4B) CalcNutr (6-11)'!H20","v":0},{"$f":"'3B-4B) CalcNutr (6-11)'!I20","v":0},{"$f":"'3B-4B) CalcNutr (6-11)'!J20","v":0},{"$f":"'3B-4B) CalcNutr (6-11)'!K20","v":0},{"$f":"'3B-4B) CalcNutr (6-11)'!L20","v":0}]
[null,"Matières grasses totales (g)",{"$f":"'3B-4B) CalcNutr (6-11)'!C21","v":0},{"$f":"'3B-4B) CalcNutr (6-11)'!D21","v":0},{"$f":"'3B-4B) CalcNutr (6-11)'!E21","v":0},{"$f":"'3B-4B) CalcNutr (6-11)'!F21","v":0},{"$f":"'3B-4B) CalcNutr (6-11)'!G21","v":0},{"$f":"'3B-4B) CalcNutr (6-11)'!H21","v":0},{"$f":"'3B-4B) CalcNutr (6-11)'!I21","v":0},{"$f":"'3B-4B) CalcNutr (6-11)'!J21","v":0},{"$f":"'3B-4B) CalcNutr (6-11)'!K21","v":0},{"$f":"'3B-4B) CalcNutr (6-11)'!L21","v":0}]
[null,"Glucides (g)",{"$f":"'3B-4B) CalcNutr (6-11)'!C22","v":0},{"$f":"'3B-4B) CalcNutr (6-11)'!D22","v":0},{"$f":"'3B-4B) CalcNutr (6-11)'!E22","v":0},{"$f":"'3B-4B) CalcNutr (6-11)'!F22","v":0},{"$f":"'3B-4B) CalcNutr (6-11)'!G22","v":0},{"$f":"'3B-4B) CalcNutr (6-11)'!H22","v":0},{"$f":"'3B-4B) CalcNutr (6-11)'!I22","v":0},{"$f":"'3B-4B) CalcNutr (6-11)'!J22","v":0},{"$f":"'3B-4B) CalcNutr (6-11)'!K22","v":0},{"$f":"'3B-4B) CalcNutr (6-11)'!L22","v":0}]
[null,"Fibres (g)",{"$f":"'3B-4B) CalcNutr (6-11)'!C23","v":0},{"$f":"'3B-4B) CalcNutr (6-11)'!D23","v":0},{"$f":"'3B-4B) CalcNutr (6-11)'!E23","v":0},{"$f":"'3B-4B) CalcNutr (6-11)'!F23","v":0},{"$f":"'3B-4B) CalcNutr (6-11)'!G23","v":0},{"$f":"'3B-4B) CalcNutr (6-11)'!H23","v":0},{"$f":"'3B-4B) CalcNutr (6-11)'!I23","v":0},{"$f":"'3B-4B) CalcNutr (6-11)'!J23","v":0},{"$f":"'3B-4B) CalcNutr (6-11)'!K23","v":0},{"$f":"'3B-4B) CalcNutr (6-11)'!L23","v":0}]
[null,"Sucre (g)",{"$f":"'3B-4B) CalcNutr (6-11)'!C24","v":0},{"$f":"'3B-4B) CalcNutr (6-11)'!D24","v":0},{"$f":"'3B-4B) CalcNutr (6-11)'!E24","v":0},{"$f":"'3B-4B) CalcNutr (6-11)'!F24","v":0},{"$f":"'3B-4B) CalcNutr (6-11)'!G24","v":0},{"$f":"'3B-4B) CalcNutr (6-11)'!H24","v":0},{"$f":"'3B-4B) CalcNutr (6-11)'!I24","v":0},{"$f":"'3B-4B) CalcNutr (6-11)'!J24","v":0},{"$f":"'3B-4B) CalcNutr (6-11)'!K24","v":0},{"$f":"'3B-4B) CalcNutr (6-11)'!L24","v":0}]
[null,"Calcium [Ca] (mg)",{"$f":"'3B-4B) CalcNutr (6-11)'!C25","v":0},{"$f":"'3B-4B) CalcNutr (6-11)'!D25","v":0},{"$f":"'3B-4B) CalcNutr (6-11)'!E25","v":0},{"$f":"'3B-4B) CalcNutr (6-11)'!F25","v":0},{"$f":"'3B-4B) CalcNutr (6-11)'!G25","v":0},{"$f":"'3B-4B) CalcNutr (6-11)'!H25","v":0},{"$f":"'3B-4B) CalcNutr (6-11)'!I25","v":0},{"$f":"'3B-4B) CalcNutr (6-11)'!J25","v":0},{"$f":"'3B-4B) CalcNutr (6-11)'!K25","v":0},{"$f":"'3B-4B) CalcNutr (6-11)'!L25","v":0}]
[null,"Fer [Fe] (mg)",{"$f":"'3B-4B) CalcNutr (6-11)'!C26","v":0},{"$f":"'3B-4B) CalcNutr (6-11)'!D26","v":0},{"$f":"'3B-4B) CalcNutr (6-11)'!E26","v":0},{"$f":"'3B-4B) CalcNutr (6-11)'!F26","v":0},{"$f":"'3B-4B) CalcNutr (6-11)'!G26","v":0},{"$f":"'3B-4B) CalcNutr (6-11)'!H26","v":0},{"$f":"'3B-4B) CalcNutr (6-11)'!I26","v":0},{"$f":"'3B-4B) CalcNutr (6-11)'!J26","v":0},{"$f":"'3B-4B) CalcNutr (6-11)'!K26","v":0},{"$f":"'3B-4B) CalcNutr (6-11)'!L26","v":0}]
[null,"Magnésium [Mg] (mg)",{"$f":"'3B-4B) CalcNutr (6-11)'!C27","v":0},{"$f":"'3B-4B) CalcNutr (6-11)'!D27","v":0},{"$f":"'3B-4B) CalcNutr (6-11)'!E27","v":0},{"$f":"'3B-4B) CalcNutr (6-11)'!F27","v":0},{"$f":"'3B-4B) CalcNutr (6-11)'!G27","v":0},{"$f":"'3B-4B) CalcNutr (6-11)'!H27","v":0},{"$f":"'3B-4B) CalcNutr (6-11)'!I27","v":0},{"$f":"'3B-4B) CalcNutr (6-11)'!J27","v":0},{"$f":"'3B-4B) CalcNutr (6-11)'!K27","v":0},{"$f":"'3B-4B) CalcNutr (6-11)'!L27","v":0}]
[null,"Potassium [K] (mg)",{"$f":"'3B-4B) CalcNutr (6-11)'!C28","v":0},{"$f":"'3B-4B) CalcNutr (6-11)'!D28","v":0},{"$f":"'3B-4B) CalcNutr (6-11)'!E28","v":0},{"$f":"'3B-4B) CalcNutr (6-11)'!F28","v":0},{"$f":"'3B-4B) CalcNutr (6-11)'!G28","v":0},{"$f":"'3B-4B) CalcNutr (6-11)'!H28","v":0},{"$f":"'3B-4B) CalcNutr (6-11)'!I28","v":0},{"$f":"'3B-4B) CalcNutr (6-11)'!J28","v":0},{"$f":"'3B-4B) CalcNutr (6-11)'!K28","v":0},{"$f":"'3B-4B) CalcNutr (6-11)'!L28","v":0}]
[null,"Sodium [Na] (mg)",{"$f":"'3B-4B) CalcNutr (6-11)'!C29","v":0},{"$f":"'3B-4B) CalcNutr (6-11)'!D29","v":0},{"$f":"'3B-4B) CalcNutr (6-11)'!E29","v":0},{"$f":"'3B-4B) CalcNutr (6-11)'!F29","v":0},{"$f":"'3B-4B) CalcNutr (6-11)'!G29","v":0},{"$f":"'3B-4B) CalcNutr (6-11)'!H29","v":0},{"$f":"'3B-4B) CalcNutr (6-11)'!I29","v":0},{"$f":"'3B-4B) CalcNutr (6-11)'!J29","v":0},{"$f":"'3B-4B) CalcNutr (6-11)'!K29","v":0},{"$f":"'3B-4B) CalcNutr (6-11)'!L29","v":0}]
[null,"Zinc [Zn] (mg)",{"$f":"'3B-4B) CalcNutr (6-11)'!C30","v":0},{"$f":"'3B-4B) CalcNutr (6-11)'!D30","v":0},{"$f":"'3B-4B) CalcNutr (6-11)'!E30","v":0},{"$f":"'3B-4B) CalcNutr (6-11)'!F30","v":0},{"$f":"'3B-4B) CalcNutr (6-11)'!G30","v":0},{"$f":"'3B-4B) CalcNutr (6-11)'!H30","v":0},{"$f":"'3B-4B) CalcNutr (6-11)'!I30","v":0},{"$f":"'3B-4B) CalcNutr (6-11)'!J30","v":0},{"$f":"'3B-4B) CalcNutr (6-11)'!K30","v":0},{"$f":"'3B-4B) CalcNutr (6-11)'!L30","v":0}]
[null,"Vitamine A EAR (mcg)",{"$f":"'3B-4B) CalcNutr (6-11)'!C31","v":0},{"$f":"'3B-4B) CalcNutr (6-11)'!D31","v":0},{"$f":"'3B-4B) CalcNutr (6-11)'!E31","v":0},{"$f":"'3B-4B) CalcNutr (6-11)'!F31","v":0},{"$f":"'3B-4B) CalcNutr (6-11)'!G31","v":0},{"$f":"'3B-4B) CalcNutr (6-11)'!H31","v":0},{"$f":"'3B-4B) CalcNutr (6-11)'!I31","v":0},{"$f":"'3B-4B) CalcNutr (6-11)'!J31","v":0},{"$f":"'3B-4B) CalcNutr (6-11)'!K31","v":0},{"$f":"'3B-4B) CalcNutr (6-11)'!L31","v":0}]
[null,"Thiamine [Vit B1] (mg)",{"$f":"'3B-4B) CalcNutr (6-11)'!C32","v":0},{"$f":"'3B-4B) CalcNutr (6-11)'!D32","v":0},{"$f":"'3B-4B) CalcNutr (6-11)'!E32","v":0},{"$f":"'3B-4B) CalcNutr (6-11)'!F32","v":0},{"$f":"'3B-4B) CalcNutr (6-11)'!G32","v":0},{"$f":"'3B-4B) CalcNutr (6-11)'!H32","v":0},{"$f":"'3B-4B) CalcNutr (6-11)'!I32","v":0},{"$f":"'3B-4B) CalcNutr (6-11)'!J32","v":0},{"$f":"'3B-4B) CalcNutr (6-11)'!K32","v":0},{"$f":"'3B-4B) CalcNutr (6-11)'!L32","v":0}]
[null,"Riboflavine [Vit B2] (mg)",{"$f":"'3B-4B) CalcNutr (6-11)'!C33","v":0},{"$f":"'3B-4B) CalcNutr (6-11)'!D33","v":0},{"$f":"'3B-4B) CalcNutr (6-11)'!E33","v":0},{"$f":"'3B-4B) CalcNutr (6-11)'!F33","v":0},{"$f":"'3B-4B) CalcNutr (6-11)'!G33","v":0},{"$f":"'3B-4B) CalcNutr (6-11)'!H33","v":0},{"$f":"'3B-4B) CalcNutr (6-11)'!I33","v":0},{"$f":"'3B-4B) CalcNutr (6-11)'!J33","v":0},{"$f":"'3B-4B) CalcNutr (6-11)'!K33","v":0},{"$f":"'3B-4B) CalcNutr (6-11)'!L33","v":0}]
[null,"Equiv. Niacine [Vit B3] (mg)",{"$f":"'3B-4B) CalcNutr (6-11)'!C34","v":0},{"$f":"'3B-4B) CalcNutr (6-11)'!D34","v":0},{"$f":"'3B-4B) CalcNutr (6-11)'!E34","v":0},{"$f":"'3B-4B) CalcNutr (6-11)'!F34","v":0},{"$f":"'3B-4B) CalcNutr (6-11)'!G34","v":0},{"$f":"'3B-4B) CalcNutr (6-11)'!H34","v":0},{"$f":"'3B-4B) CalcNutr (6-11)'!I34","v":0},{"$f":"'3B-4B) CalcNutr (6-11)'!J34","v":0},{"$f":"'3B-4B) CalcNutr (6-11)'!K34","v":0},{"$f":"'3B-4B) CalcNutr (6-11)'!L34","v":0}]
[null,"Folate EFA (mcg)",{"$f":"'3B-4B) CalcNutr (6-11)'!C35","v":0},{"$f":"'3B-4B) CalcNutr (6-11)'!D35","v":0},{"$f":"'3B-4B) CalcNutr (6-11)'!E35","v":0},{"$f":"'3B-4B) CalcNutr (6-11)'!F35","v":0},{"$f":"'3B-4B) CalcNutr (6-11)'!G35","v":0},{"$f":"'3B-4B) CalcNutr (6-11)'!H35","v":0},{"$f":"'3B-4B) CalcNutr (6-11)'!I35","v":0},{"$f":"'3B-4B) CalcNutr (6-11)'!J35","v":0},{"$f":"'3B-4B) CalcNutr (6-11)'!K35","v":0},{"$f":"'3B-4B) CalcNutr (6-11)'!L35","v":0}]
[null,"Vitamine B12 (mcg)",{"$f":"'3B-4B) CalcNutr (6-11)'!C36","v":0},{"$f":"'3B-4B) CalcNutr (6-11)'!D36","v":0},{"$f":"'3B-4B) CalcNutr (6-11)'!E36","v":0},{"$f":"'3B-4B) CalcNutr (6-11)'!F36","v":0},{"$f":"'3B-4B) CalcNutr (6-11)'!G36","v":0},{"$f":"'3B-4B) CalcNutr (6-11)'!H36","v":0},{"$f":"'3B-4B) CalcNutr (6-11)'!I36","v":0},{"$f":"'3B-4B) CalcNutr (6-11)'!J36","v":0},{"$f":"'3B-4B) CalcNutr (6-11)'!K36","v":0},{"$f":"'3B-4B) CalcNutr (6-11)'!L36","v":0}]
[null,"Vitamine C (mg)",{"$f":"'3B-4B) CalcNutr (6-11)'!C37","v":0},{"$f":"'3B-4B) CalcNutr (6-11)'!D37","v":0},{"$f":"'3B-4B) CalcNutr (6-11)'!E37","v":0},{"$f":"'3B-4B) CalcNutr (6-11)'!F37","v":0},{"$f":"'3B-4B) CalcNutr (6-11)'!G37","v":0},{"$f":"'3B-4B) CalcNutr (6-11)'!H37","v":0},{"$f":"'3B-4B) CalcNutr (6-11)'!I37","v":0},{"$f":"'3B-4B) CalcNutr (6-11)'!J37","v":0},{"$f":"'3B-4B) CalcNutr (6-11)'!K37","v":0},{"$f":"'3B-4B) CalcNutr (6-11)'!L37","v":0}]
["Phase 4B : Élaborer des recommandations basées sur l'alimentation (RBA) ou des mélanges à base de farines enrichies (MFE)\nSaisir le nom, sélectionner la méthode de préparation et ajouter la quantité totale de chaque ingrédient (en grammes) pour un maximum de 4 RBA ou mélanges à base de farine enrichie.\nMax. 10 ingrédients par RBA. Du sucre, du sel et un mélange de vitamines sont ajoutés en plus. "]
["RBA ou MFE Nº",null,1,2,3,4]
["Ajouter la RBA / le nom du mélange à base de farine enrichie",null,"RBA Nº1","RBA Nº2","RBA Nº3","RBA Nº4",null,"TAILLE ESTIMÉE DE LA PORTION CLÉ\nPortion moyenne par groupe d'aliments"]
["Sélectionner la méthode de préparation",null,"Bouillie \n(<10 min)","Bouillie \n(<10 min)","Bouillie \n(<10 min)",null,null,"GROUPE ALIMENTAIRE",null,null,"2023-12-24"]
[1,{"$f":"B7","v":{"$error":"#VALUE!"}},null,null,null,null,null,null,null,null,"grammes","unité"]
[2,{"$f":"B8","v":0},null,null,null,null,null,"1. Céréales, racines blanches, tubercules, plantains (DAMF)",null,null,60,"1/3 tasse"]
[3,0,null,null,null,null,null,"2. Légumineuses (haricots, pois, lentilles) DAMF",null,null,30,"1/2 tasse"]
[4,0,null,null,null,null,null,"3. Fruits à coque et graines (DAMF)",null,null,15,"1,5 cs."]
[5,0,null,null,null,null,null,"4.1 Lait, produits laitiers (DAMF)",null,null,80,"1/3 tasse"]
[6,0,null,null,null,null,null,"4.2 Lait en poudre",null,null,15,"2 cs."]
[7,0,null,null,null,null,null,"4.2 Fromages",null,null,15,"2,5 cs."]
[8,0,null,null,null,null,null,"5. Viande, volaille, poisson (DAMF)",null,null,30,"3 cs."]
[9,0,null,null,null,null,null,"6. Œufs (DAMF)",null,null,"25 à 50","1/2 à 1 œuf"]
[10,0,null,null,null,null,null,"7.1 (FRAIS) Légumes à feuilles foncées (DAMF)",null,null,15,"1/3 tasse"]
["+","SUCRE AJOUTÉ (g)",null,null,null,null,null,"7.2 (SÉCHÉ) Légumes à feuilles foncées",null,null,8,"1,5 cs."]
["+","SEL AJOUTÉ (g)",null,null,null,null,null,"8. Fruits et légumes riches en vitamine A (DAMF)",null,null,40,"3 cs."]
["+",{"$f":"O18","v":"Micronutriments en poudre (par 100g)"},null,null,null,null,null,"9. Autres légumes (DAMF)",null,null,40,"3 cs."]
[null,"POIDS TOTAL RBA",{"$f":"_xlfn.CONCAT(SUM(C42:C54),\" grams\")","v":"0 grams"},{"$f":"_xlfn.CONCAT(SUM(D42:D54),\" grams\")","v":"0 grams"},{"$f":"_xlfn.CONCAT(SUM(E42:E54),\" grams\")","v":"0 grams"},{"$f":"_xlfn.CONCAT(SUM(F42:F54),\" grams\")","v":"0 grams"},null,"10. Autres fruits (DAMF)",null,null,40,"3 cs."]
[null,"Taille des portions pour une population spécifique",{"$f":"_xlfn.CONCAT(C4,\" grams\")","v":"150 grams"}]

{"sheet":"5) Tableaux de bord (12-23mois)","index":7,"n_rows":37,"n_cols":17,"rows_kept":37,"cut":false,"hidden":false,"merged":[[34,7,34,8],[35,7,35,8],[24,10,24,11],[25,10,25,11],[26,10,26,11],[27,10,27,11],[28,10,28,11],[29,10,29,11],[30,10,30,11],[31,10,31,11],[32,10,32,11],[33,10,33,11],[34,10,34,11],[35,10,35,11],[29,7,29,8],[30,7,30,8],[31,7,31,8],[32,7,32,8],[33,7,33,8],[24,7,24,8],[25,7,25,8],[26,7,26,8],[27,7,27,8],[28,7,28,8],[34,1,34,2],[35,1,35,2],[24,4,24,5],[25,4,25,5],[26,4,26,5],[27,4,27,5],[28,4,28,5],[29,4,29,5],[30,4,30,5],[31,4,31,5],[32,4,32,5],[33,4,33,5],[34,4,34,5],[35,4,35,5],[29,1,29,2],[30,1,30,2],[31,1,31,2],[32,1,32,2],[33,1,33,2],[24,1,24,2],[25,1,25,2],[26,1,26,2],[27,1,27,2],[28,1,28,2],[0,13,0,16],[23,1,23,2],[23,4,23,5],[23,7,23,8],[23,10,23,11],[0,1,0,3],[0,4,0,6],[0,7,0,9],[0,10,0,12],[22,1,22,2],[22,4,22,5],[22,7,22,8],[22,10,22,11]]}
["TABLEAU DE BORD pour \n12 à 23 mois",{"$f":"'3B-4B) Calc Nutr (12 à 23)'!C40","v":"RBA Nº1"},null,null,{"$f":"'3B-4B) Calc Nutr (12 à 23)'!D40","v":"RBA Nº2"},null,null,{"$f":"'3B-4B) Calc Nutr (12 à 23)'!E40","v":"RBA Nº3"},null,null,{"$f":"'3B-4B) Calc Nutr (12 à 23)'!F40","v":"RBA Nº4"},null,null,"DOSE JOURNALIÈRE PAR PORTION (référence)"]
["Nutriments","RBA préparée / MFE (avec facteur de rétention)","Enfants\n (12 à 23 mois)\n% VJ","Enfants \n(6 à 12 mois)\n% VJ","RBA préparée / MFE (avec facteur de rétention)","Enfants\n (12 à 23 mois)\n% VJ","Enfants \n(6 à 12 mois)\n% VJ","RBA préparée / MFE (avec facteur de rétention)","Enfants\n (12 à 23 mois)\n% VJ","Enfants \n(6 à 12 mois)\n% VJ","RBA préparée / MFE (avec facteur de rétention)","Enfants\n (12 à 23 mois)\n% VJ","Enfants\n (6 à 12 mois)\n% VJ","MMS+ avec huile","MMS++","SQ-LNS","Poudre de micronutriments multiples \n(sachet de 5g)"]
["Énergie (kcal, ou calories)",{"$f":"'RBAMFE Nº1 (Détails)'!C36","v":0},{"$f":"'RBAMFE Nº1 (Détails)'!Q36","v":0},{"$f":"'RBAMFE Nº1 (Détails)'!S36","v":0},{"$f":"'RBAMFE Nº2 (Détails)'!C36","v":0},{"$f":"'RBAMFE Nº2 (Détails)'!Q36","v":0},{"$f":"'RBAMFE Nº2 (Détails)'!S36","v":0},{"$f":"'RBAMFE Nº3 (Détails)'!C36","v":0},{"$f":"'RBAMFE Nº3 (Détails)'!H36","v":0},{"$f":"'RBAMFE Nº3 (Détails)'!J36","v":0},{"$f":"'RBAMFE Nº4 (Détails)'!C36","v":0},{"$f":"'RBAMFE Nº4 (Détails)'!Q36","v":0},{"$f":"'RBAMFE Nº4 (Détails)'!S36","v":0},601,563,"550 à 620"]
["Protéines (g)",{"$f":"'RBAMFE Nº1 (Détails)'!C37","v":0},{"$f":"'RBAMFE Nº1 (Détails)'!Q37","v":0},{"$f":"'RBAMFE Nº1 (Détails)'!S37","v":0},{"$f":"'RBAMFE Nº2 (Détails)'!C37","v":0},{"$f":"'RBAMFE Nº2 (Détails)'!Q37","v":0},{"$f":"'RBAMFE Nº2 (Détails)'!S37","v":0},{"$f":"'RBAMFE Nº3 (Détails)'!C37","v":0},{"$f":"'RBAMFE Nº3 (Détails)'!H37","v":0},{"$f":"'RBAMFE Nº3 (Détails)'!J37","v":0},{"$f":"'RBAMFE Nº4 (Détails)'!C37","v":0},{"$f":"'RBAMFE Nº4 (Détails)'!Q37","v":0},{"$f":"'RBAMFE Nº4 (Détails)'!S37","v":0},13.3,21,"2023-12-16"]
["Matières grasses totales (g)",{"$f":"'RBAMFE Nº1 (Détails)'!C38","v":0},{"$f":"'RBAMFE Nº1 (Détails)'!Q38","v":0},{"$f":"'RBAMFE Nº1 (Détails)'!S38","v":0},{"$f":"'RBAMFE Nº2 (Détails)'!C38","v":0},{"$f":"'RBAMFE Nº2 (Détails)'!Q38","v":0},{"$f":"'RBAMFE Nº2 (Détails)'!S38","v":0},{"$f":"'RBAMFE Nº3 (Détails)'!C38","v":0},{"$f":"'RBAMFE Nº3 (Détails)'!H38","v":0},{"$f":"'RBAMFE Nº3 (Détails)'!J38","v":0},{"$f":"'RBAMFE Nº4 (Détails)'!C38","v":0},{"$f":"'RBAMFE Nº4 (Détails)'!Q38","v":0},{"$f":"'RBAMFE Nº4 (Détails)'!S38","v":0},26.5,13,"40 à 53"]
["Glucides (g)",{"$f":"'RBAMFE Nº1 (Détails)'!C39","v":0},{"$f":"'RBAMFE Nº1 (Détails)'!Q39","v":0},{"$f":"'RBAMFE Nº1 (Détails)'!S39","v":0},{"$f":"'RBAMFE Nº2 (Détails)'!C39","v":0},{"$f":"'RBAMFE Nº2 (Détails)'!Q39","v":0},{"$f":"'RBAMFE Nº2 (Détails)'!S39","v":0},{"$f":"'RBAMFE Nº3 (Détails)'!C39","v":0},{"$f":"'RBAMFE Nº3 (Détails)'!H39","v":0},{"$f":"'RBAMFE Nº3 (Détails)'!J39","v":0},{"$f":"'RBAMFE Nº4 (Détails)'!C39","v":0},{"$f":"'RBAMFE Nº4 (Détails)'!Q39","v":0},{"$f":"'RBAMFE Nº4 (Détails)'!S39","v":0},51,null,"0 à 8"]
["Fibres (g)",{"$f":"'RBAMFE Nº1 (Détails)'!C40","v":0},{"$f":"'RBAMFE Nº1 (Détails)'!Q40","v":0},{"$f":"'RBAMFE Nº1 (Détails)'!S40","v":"NA"},{"$f":"'RBAMFE Nº2 (Détails)'!C40","v":0},{"$f":"'RBAMFE Nº2 (Détails)'!Q40","v":0},{"$f":"'RBAMFE Nº2 (Détails)'!S40","v":"NA"},{"$f":"'RBAMFE Nº3 (Détails)'!C40","v":0},{"$f":"'RBAMFE Nº3 (Détails)'!H40","v":0},{"$f":"'RBAMFE Nº3 (Détails)'!J40","v":"NA"},{"$f":"'RBAMFE Nº4 (Détails)'!C40","v":0},{"$f":"'RBAMFE Nº4 (Détails)'!Q40","v":0},{"$f":"'RBAMFE Nº4 (Détails)'!S40","v":"NA"},3.7]
["Sucre (g)",{"$f":"'RBAMFE Nº1 (Détails)'!C41","v":0},{"$f":"'RBAMFE Nº1 (Détails)'!Q41","v":"NA"},{"$f":"'RBAMFE Nº1 (Détails)'!S41","v":"NA"},{"$f":"'RBAMFE Nº2 (Détails)'!C41","v":0},{"$f":"'RBAMFE Nº2 (Détails)'!Q41","v":"NA"},{"$f":"'RBAMFE Nº2 (Détails)'!S41","v":"NA"},{"$f":"'RBAMFE Nº3 (Détails)'!C41","v":0},{"$f":"'RBAMFE Nº3 (Détails)'!H41","v":"NA"},{"$f":"'RBAMFE Nº3 (Détails)'!J41","v":"NA"},{"$f":"'RBAMFE Nº4 (Détails)'!C41","v":0},{"$f":"'RBAMFE Nº4 (Détails)'!Q41","v":"NA"},{"$f":"'RBAMFE Nº4 (Détails)'!S41","v":"NA"},2,null,"0 à 8"]
["Calcium [Ca] (mg)",{"$f":"'RBAMFE Nº1 (Détails)'!C42","v":0},{"$f":"'RBAMFE Nº1 (Détails)'!Q42","v":0},{"$f":"'RBAMFE Nº1 (Détails)'!S42","v":0},{"$f":"'RBAMFE Nº2 (Détails)'!C42","v":0},{"$f":"'RBAMFE Nº2 (Détails)'!Q42","v":0},{"$f":"'RBAMFE Nº2 (Détails)'!S42","v":0},{"$f":"'RBAMFE Nº3 (Détails)'!C42","v":0},{"$f":"'RBAMFE Nº3 (Détails)'!H42","v":0},{"$f":"'RBAMFE Nº3 (Détails)'!J42","v":0},{"$f":"'RBAMFE Nº4 (Détails)'!C42","v":0},{"$f":"'RBAMFE Nº4 (Détails)'!Q42","v":0},{"$f":"'RBAMFE Nº4 (Détails)'!S42","v":0},381,579,"1 400 à 1 960"]
["Fer [Fe] (mg)",{"$f":"'RBAMFE Nº1 (Détails)'!C43","v":0},{"$f":"'RBAMFE Nº1 (Détails)'!Q43","v":0},{"$f":"'RBAMFE Nº1 (Détails)'!S43","v":0},{"$f":"'RBAMFE Nº2 (Détails)'!C43","v":0},{"$f":"'RBAMFE Nº2 (Détails)'!Q43","v":0},{"$f":"'RBAMFE Nº2 (Détails)'!S43","v":0},{"$f":"'RBAMFE Nº3 (Détails)'!C43","v":0},{"$f":"'RBAMFE Nº3 (Détails)'!H43","v":0},{"$f":"'RBAMFE Nº3 (Détails)'!J43","v":0},{"$f":"'RBAMFE Nº4 (Détails)'!C43","v":0},{"$f":"'RBAMFE Nº4 (Détails)'!Q43","v":0},{"$f":"'RBAMFE Nº4 (Détails)'!S43","v":0},7.8,15,"30 à 42",12.5]
["Magnésium [Mg] (mg)",{"$f":"'RBAMFE Nº1 (Détails)'!C44","v":0},{"$f":"'RBAMFE Nº1 (Détails)'!Q44","v":0},{"$f":"'RBAMFE Nº1 (Détails)'!S44","v":0},{"$f":"'RBAMFE Nº2 (Détails)'!C44","v":0},{"$f":"'RBAMFE Nº2 (Détails)'!Q44","v":0},{"$f":"'RBAMFE Nº2 (Détails)'!S44","v":0},{"$f":"'RBAMFE Nº3 (Détails)'!C44","v":0},{"$f":"'RBAMFE Nº3 (Détails)'!H44","v":0},{"$f":"'RBAMFE Nº3 (Détails)'!J44","v":0},{"$f":"'RBAMFE Nº4 (Détails)'!C44","v":0},{"$f":"'RBAMFE Nº4 (Détails)'!Q44","v":0},{"$f":"'RBAMFE Nº4 (Détails)'!S44","v":0},60.7,190,"200 à 280"]
["Potassium [K] (mg)",{"$f":"'RBAMFE Nº1 (Détails)'!C45","v":0},{"$f":"'RBAMFE Nº1 (Détails)'!Q45","v":0},{"$f":"'RBAMFE Nº1 (Détails)'!S45","v":0},{"$f":"'RBAMFE Nº2 (Détails)'!C45","v":0},{"$f":"'RBAMFE Nº2 (Détails)'!Q45","v":0},{"$f":"'RBAMFE Nº2 (Détails)'!S45","v":0},{"$f":"'RBAMFE Nº3 (Détails)'!C45","v":0},{"$f":"'RBAMFE Nº3 (Détails)'!H45","v":0},{"$f":"'RBAMFE Nº3 (Détails)'!J45","v":0},{"$f":"'RBAMFE Nº4 (Détails)'!C45","v":0},{"$f":"'RBAMFE Nº4 (Détails)'!Q45","v":0},{"$f":"'RBAMFE Nº4 (Détails)'!S45","v":0},457,1426,"1 000 à 1 400"]
["Sodium [Na] (mg)",{"$f":"'RBAMFE Nº1 (Détails)'!C46","v":0},{"$f":"'RBAMFE Nº1 (Détails)'!Q46","v":0},{"$f":"'RBAMFE Nº1 (Détails)'!S46","v":0},{"$f":"'RBAMFE Nº2 (Détails)'!C46","v":0},{"$f":"'RBAMFE Nº2 (Détails)'!Q46","v":0},{"$f":"'RBAMFE Nº2 (Détails)'!S46","v":0},{"$f":"'RBAMFE Nº3 (Détails)'!C46","v":0},{"$f":"'RBAMFE Nº3 (Détails)'!H46","v":0},{"$f":"'RBAMFE Nº3 (Détails)'!J46","v":0},{"$f":"'RBAMFE Nº4 (Détails)'!C46","v":0},{"$f":"'RBAMFE Nº4 (Détails)'!Q46","v":0},{"$f":"'RBAMFE Nº4 (Détails)'!S46","v":0},3.7]
["Zinc [Zn] (mg)",{"$f":"'RBAMFE Nº1 (Détails)'!C47","v":0},{"$f":"'RBAMFE Nº1 (Détails)'!Q47","v":0},{"$f":"'RBAMFE Nº1 (Détails)'!S47","v":0},{"$f":"'RBAMFE Nº2 (Détails)'!C47","v":0},{"$f":"'RBAMFE Nº2 (Détails)'!Q47","v":0},{"$f":"'RBAMFE Nº2 (Détails)'!S47","v":0},{"$f":"'RBAMFE Nº3 (Détails)'!C47","v":0},{"$f":"'RBAMFE Nº3 (Détails)'!H47","v":0},{"$f":"'RBAMFE Nº3 (Détails)'!J47","v":0},{"$f":"'RBAMFE Nº4 (Détails)'!C47","v":0},{"$f":"'RBAMFE Nº4 (Détails)'!Q47","v":0},{"$f":"'RBAMFE Nº4 (Détails)'!S47","v":0},4.88,11,"40 à 56",5]
["Vitamine A EAR (mcg)",{"$f":"'RBAMFE Nº1 (Détails)'!C48","v":0},{"$f":"'RBAMFE Nº1 (Détails)'!Q48","v":0},{"$f":"'RBAMFE Nº1 (Détails)'!S48","v":0},{"$f":"'RBAMFE Nº2 (Détails)'!C48","v":0},{"$f":"'RBAMFE Nº2 (Détails)'!Q48","v":0},{"$f":"'RBAMFE Nº2 (Détails)'!S48","v":0},{"$f":"'RBAMFE Nº3 (Détails)'!C48","v":0},{"$f":"'RBAMFE Nº3 (Détails)'!H48","v":0},{"$f":"'RBAMFE Nº3 (Détails)'!J48","v":0},{"$f":"'RBAMFE Nº4 (Détails)'!C48","v":0},{"$f":"'RBAMFE Nº4 (Détails)'!Q48","v":0},{"$f":"'RBAMFE Nº4 (Détails)'!S48","v":0},4074,714,"2 000 à 3 390",300]
["Thiamine [Vitamine B1] (mg)",{"$f":"'RBAMFE Nº1 (Détails)'!C49","v":0},{"$f":"'RBAMFE Nº1 (Détails)'!Q49","v":0},{"$f":"'RBAMFE Nº1 (Détails)'!S49","v":0},{"$f":"'RBAMFE Nº2 (Détails)'!C49","v":0},{"$f":"'RBAMFE Nº2 (Détails)'!Q49","v":0},{"$f":"'RBAMFE Nº2 (Détails)'!S49","v":0},{"$f":"'RBAMFE Nº3 (Détails)'!C49","v":0},{"$f":"'RBAMFE Nº3 (Détails)'!H49","v":0},{"$f":"'RBAMFE Nº3 (Détails)'!J49","v":0},{"$f":"'RBAMFE Nº4 (Détails)'!C49","v":0},{"$f":"'RBAMFE Nº4 (Détails)'!Q49","v":0},{"$f":"'RBAMFE Nº4 (Détails)'!S49","v":0},0.36,0.8,"1,5 à 3,8"]
["Riboflavine [Vitamine B2] (mg)",{"$f":"'RBAMFE Nº1 (Détails)'!C50","v":0},{"$f":"'RBAMFE Nº1 (Détails)'!Q50","v":0},{"$f":"'RBAMFE Nº1 (Détails)'!S50","v":0},{"$f":"'RBAMFE Nº2 (Détails)'!C50","v":0},{"$f":"'RBAMFE Nº2 (Détails)'!Q50","v":0},{"$f":"'RBAMFE Nº2 (Détails)'!S50","v":0},{"$f":"'RBAMFE Nº3 (Détails)'!C50","v":0},{"$f":"'RBAMFE Nº3 (Détails)'!H50","v":0},{"$f":"'RBAMFE Nº3 (Détails)'!J50","v":0},{"$f":"'RBAMFE Nº4 (Détails)'!C50","v":0},{"$f":"'RBAMFE Nº4 (Détails)'!Q50","v":0},{"$f":"'RBAMFE Nº4 (Détails)'!S50","v":0},1.2,1.2,"2023-02-03"]
["Equiv. Niacine [Vitamine B3] (mg)",{"$f":"'RBAMFE Nº1 (Détails)'!C51","v":0},{"$f":"'RBAMFE Nº1 (Détails)'!Q51","v":0},{"$f":"'RBAMFE Nº1 (Détails)'!S51","v":0},{"$f":"'RBAMFE Nº2 (Détails)'!C51","v":0},{"$f":"'RBAMFE Nº2 (Détails)'!Q51","v":0},{"$f":"'RBAMFE Nº2 (Détails)'!S51","v":0},{"$f":"'RBAMFE Nº3 (Détails)'!C51","v":0},{"$f":"'RBAMFE Nº3 (Détails)'!H51","v":0},{"$f":"'RBAMFE Nº3 (Détails)'!J51","v":0},{"$f":"'RBAMFE Nº4 (Détails)'!C51","v":0},{"$f":"'RBAMFE Nº4 (Détails)'!Q51","v":0},{"$f":"'RBAMFE Nº4 (Détails)'!S51","v":0},6.75,11,"20 à 28,8"]
["Folate EFA (mcg)",{"$f":"'RBAMFE Nº1 (Détails)'!C52","v":0},{"$f":"'RBAMFE Nº1 (Détails)'!Q52","v":0},{"$f":"'RBAMFE Nº1 (Détails)'!S52","v":0},{"$f":"'RBAMFE Nº2 (Détails)'!C52","v":0},{"$f":"'RBAMFE Nº2 (Détails)'!Q52","v":0},{"$f":"'RBAMFE Nº2 (Détails)'!S52","v":0},{"$f":"'RBAMFE Nº3 (Détails)'!C52","v":0},{"$f":"'RBAMFE Nº3 (Détails)'!H52","v":0},{"$f":"'RBAMFE Nº3 (Détails)'!J52","v":0},{"$f":"'RBAMFE Nº4 (Détails)'!C52","v":0},{"$f":"'RBAMFE Nº4 (Détails)'!Q52","v":0},{"$f":"'RBAMFE Nº4 (Détails)'!S52","v":0},156,3.1,"667 à 1 044"]
["Vitamine B12 (mcg)",{"$f":"'RBAMFE Nº1 (Détails)'!C53","v":0},{"$f":"'RBAMFE Nº1 (Détails)'!Q53","v":0},{"$f":"'RBAMFE Nº1 (Détails)'!S53","v":0},{"$f":"'RBAMFE Nº2 (Détails)'!C53","v":0},{"$f":"'RBAMFE Nº2 (Détails)'!Q53","v":0},{"$f":"'RBAMFE Nº2 (Détails)'!S53","v":0},{"$f":"'RBAMFE Nº3 (Détails)'!C53","v":0},{"$f":"'RBAMFE Nº3 (Détails)'!H53","v":0},{"$f":"'RBAMFE Nº3 (Détails)'!J53","v":0},{"$f":"'RBAMFE Nº4 (Détails)'!C53","v":0},{"$f":"'RBAMFE Nº4 (Détails)'!Q53","v":0},{"$f":"'RBAMFE Nº4 (Détails)'!S53","v":0},1.5,3.3,"2,5 à 4,2"]
["Vitamine C (mg)",{"$f":"'RBAMFE Nº1 (Détails)'!C54","v":0},{"$f":"'RBAMFE Nº1 (Détails)'!Q54","v":0},{"$f":"'RBAMFE Nº1 (Détails)'!S54","v":0},{"$f":"'RBAMFE Nº2 (Détails)'!C54","v":0},{"$f":"'RBAMFE Nº2 (Détails)'!Q54","v":0},{"$f":"'RBAMFE Nº2 (Détails)'!S54","v":0},{"$f":"'RBAMFE Nº3 (Détails)'!C54","v":0},{"$f":"'RBAMFE Nº3 (Détails)'!H54","v":0},{"$f":"'RBAMFE Nº3 (Détails)'!J54","v":0},{"$f":"'RBAMFE Nº4 (Détails)'!C54","v":0},{"$f":"'RBAMFE Nº4 (Détails)'!Q54","v":0},{"$f":"'RBAMFE Nº4 (Détails)'!S54","v":0},68,145,"75 à 169",50]
[null,null,"= >30% Valeur journalière par repas",null,null,"= >30% Valeur journalière par repas",null,null,"= >30% Valeur journalière par repas",null,null,"= >30% Valeur journalière par repas"]
[null,{"$f":"'3B-4B) Calc Nutr (12 à 23)'!C40","v":"RBA Nº1"},null,null,{"$f":"'3B-4B) Calc Nutr (12 à 23)'!D40","v":"RBA Nº2"},null,null,{"$f":"'3B-4B) Calc Nutr (12 à 23)'!E40","v":"RBA Nº3"},null,null,{"$f":"'3B-4B) Calc Nutr (12 à 23)'!F40","v":"RBA Nº4"}]
["Ingrédients : ","Quantité (grammes)",null,null,"Quantité (grammes)",null,null,"Quantité (grammes)",null,null,"Quantité (grammes)"]
[{"$f":"'3B-4B) Calc Nutr (12 à 23)'!B7","v":{"$error":"#VALUE!"}},{"$f":"IF('3B-4B) Calc Nutr (12 à 23)'!C42>0,'3B-4B) Calc Nutr (12 à 23)'!C42,0)","v":0},null,null,{"$f":"IF('3B-4B) Calc Nutr (12 à 23)'!D42>0,'3B-4B) Calc Nutr (12 à 23)'!D42,0)","v":0},null,null,{"$f":"IF('3B-4B) Calc Nutr (12 à 23)'!E42>0,'3B-4B) Calc Nutr (12 à 23)'!E42,0)","v":0},null,null,{"$f":"IF('3B-4B) Calc Nutr (12 à 23)'!F42>0,'3B-4B) Calc Nutr (12 à 23)'!F42,0)","v":0}]
[{"$f":"'3B-4B) Calc Nutr (12 à 23)'!B8","v":0},{"$f":"IF('3B-4B) Calc Nutr (12 à 23)'!C43>0,'3B-4B) Calc Nutr (12 à 23)'!C43,0)","v":0},null,null,{"$f":"IF('3B-4B) Calc Nutr (12 à 23)'!D43>0,'3B-4B) Calc Nutr (12 à 23)'!D43,0)","v":0},null,null,{"$f":"IF('3B-4B) Calc Nutr (12 à 23)'!E43>0,'3B-4B) Calc Nutr (12 à 23)'!E43,0)","v":0},null,null,{"$f":"IF('3B-4B) Calc Nutr (12 à 23)'!F43>0,'3B-4B) Calc Nutr (12 à 23)'!F43,0)","v":0}]
[{"$f":"'3B-4B) Calc Nutr (12 à 23)'!B9","v":0},{"$f":"IF('3B-4B) Calc Nutr (12 à 23)'!C44>0,'3B-4B) Calc Nutr (12 à 23)'!C44,0)","v":0},null,null,{"$f":"IF('3B-4B) Calc Nutr (12 à 23)'!D44>0,'3B-4B) Calc Nutr (12 à 23)'!D44,0)","v":0},null,null,{"$f":"IF('3B-4B) Calc Nutr (12 à 23)'!E44>0,'3B-4B) Calc Nutr (12 à 23)'!E44,0)","v":0},null,null,{"$f":"IF('3B-4B) Calc Nutr (12 à 23)'!F44>0,'3B-4B) Calc Nutr (12 à 23)'!F44,0)","v":0}]
[{"$f":"'3B-4B) Calc Nutr (12 à 23)'!B10","v":0},{"$f":"IF('3B-4B) Calc Nutr (12 à 23)'!C45>0,'3B-4B) Calc Nutr (12 à 23)'!C45,0)","v":0},null,null,{"$f":"IF('3B-4B) Calc Nutr (12 à 23)'!D45>0,'3B-4B) Calc Nutr (12 à 23)'!D45,0)","v":0},null,null,{"$f":"IF('3B-4B) Calc Nutr (12 à 23)'!E45>0,'3B-4B) Calc Nutr (12 à 23)'!E45,0)","v":0},null,null,{"$f":"IF('3B-4B) Calc Nutr (12 à 23)'!F45>0,'3B-4B) Calc Nutr (12 à 23)'!F45,0)","v":0}]
[{"$f":"'3B-4B) Calc Nutr (12 à 23)'!B11","v":0},{"$f":"IF('3B-4B) Calc Nutr (12 à 23)'!C46>0,'3B-4B) Calc Nutr (12 à 23)'!C46,0)","v":0},null,null,{"$f":"IF('3B-4B) Calc Nutr (12 à 23)'!D46>0,'3B-4B) Calc Nutr (12 à 23)'!D46,0)","v":0},null,null,{"$f":"IF('3B-4B) Calc Nutr (12 à 23)'!E46>0,'3B-4B) Calc Nutr (12 à 23)'!E46,0)","v":0},null,null,{"$f":"IF('3B-4B) Calc Nutr (12 à 23)'!F46>0,'3B-4B) Calc Nutr (12 à 23)'!F46,0)","v":0}]
[{"$f":"'3B-4B) Calc Nutr (12 à 23)'!B12","v":0},{"$f":"IF('3B-4B) Calc Nutr (12 à 23)'!C47>0,'3B-4B) Calc Nutr (12 à 23)'!C47,0)","v":0},null,null,{"$f":"IF('3B-4B) Calc Nutr (12 à 23)'!D47>0,'3B-4B) Calc Nutr (12 à 23)'!D47,0)","v":0},null,null,{"$f":"IF('3B-4B) Calc Nutr (12 à 23)'!E47>0,'3B-4B) Calc Nutr (12 à 23)'!E47,0)","v":0},null,null,{"$f":"IF('3B-4B) Calc Nutr (12 à 23)'!F47>0,'3B-4B) Calc Nutr (12 à 23)'!F47,0)","v":0}]
[{"$f":"'3B-4B) Calc Nutr (12 à 23)'!B13","v":0},{"$f":"IF('3B-4B) Calc Nutr (12 à 23)'!C48>0,'3B-4B) Calc Nutr (12 à 23)'!C48,0)","v":0},null,null,{"$f":"IF('3B-4B) Calc Nutr (12 à 23)'!D48>0,'3B-4B) Calc Nutr (12 à 23)'!D48,0)","v":0},null,null,{"$f":"IF('3B-4B) Calc Nutr (12 à 23)'!E48>0,'3B-4B) Calc Nutr (12 à 23)'!E48,0)","v":0},null,null,{"$f":"IF('3B-4B) Calc Nutr (12 à 23)'!F48>0,'3B-4B) Calc Nutr (12 à 23)'!F48,0)","v":0}]
[{"$f":"'3B-4B) Calc Nutr (12 à 23)'!B14","v":0},{"$f":"IF('3B-4B) Calc Nutr (12 à 23)'!C49>0,'3B-4B) Calc Nutr (12 à 23)'!C49,0)","v":0},null,null,{"$f":"IF('3B-4B) Calc Nutr (12 à 23)'!D49>0,'3B-4B) Calc Nutr (12 à 23)'!D49,0)","v":0},null,null,{"$f":"IF('3B-4B) Calc Nutr (12 à 23)'!E49>0,'3B-4B) Calc Nutr (12 à 23)'!E49,0)","v":0},null,null,{"$f":"IF('3B-4B) Calc Nutr (12 à 23)'!F49>0,'3B-4B) Calc Nutr (12 à 23)'!F49,0)","v":0}]
[{"$f":"'3B-4B) Calc Nutr (12 à 23)'!B15","v":0},{"$f":"IF('3B-4B) Calc Nutr (12 à 23)'!C50>0,'3B-4B) Calc Nutr (12 à 23)'!C50,0)","v":0},null,null,{"$f":"IF('3B-4B) Calc Nutr (12 à 23)'!D50>0,'3B-4B) Calc Nutr (12 à 23)'!D50,0)","v":0},null,null,{"$f":"IF('3B-4B) Calc Nutr (12 à 23)'!E50>0,'3B-4B) Calc Nutr (12 à 23)'!E50,0)","v":0},null,null,{"$f":"IF('3B-4B) Calc Nutr (12 à 23)'!F50>0,'3B-4B) Calc Nutr (12 à 23)'!F50,0)","v":0}]
[{"$f":"'3B-4B) Calc Nutr (12 à 23)'!B52","v":"SUCRE AJOUTÉ (g)"},{"$f":"IF('3B-4B) Calc Nutr (12 à 23)'!C51>0,'3B-4B) Calc Nutr (12 à 23)'!C51,0)","v":0},null,null,{"$f":"IF('3B-4B) Calc Nutr (12 à 23)'!D51>0,'3B-4B) Calc Nutr (12 à 23)'!D51,0)","v":0},null,null,{"$f":"IF('3B-4B) Calc Nutr (12 à 23)'!E51>0,'3B-4B) Calc Nutr (12 à 23)'!E51,0)","v":0},null,null,{"$f":"IF('3B-4B) Calc Nutr (12 à 23)'!F51>0,'3B-4B) Calc Nutr (12 à 23)'!F51,0)","v":0}]
[{"$f":"'3B-4B) Calc Nutr (12 à 23)'!B53","v":"SEL AJOUTÉ (g)"},{"$f":"IF('3B-4B) Calc Nutr (12 à 23)'!C52>0,'3B-4B) Calc Nutr (12 à 23)'!C52,0)","v":0},null,null,{"$f":"IF('3B-4B) Calc Nutr (12 à 23)'!D52>0,'3B-4B) Calc Nutr (12 à 23)'!D52,0)","v":0},null,null,{"$f":"IF('3B-4B) Calc Nutr (12 à 23)'!E52>0,'3B-4B) Calc Nutr (12 à 23)'!E52,0)","v":0},null,null,{"$f":"IF('3B-4B) Calc Nutr (12 à 23)'!F52>0,'3B-4B) Calc Nutr (12 à 23)'!F52,0)","v":0}]
[{"$f":"'3B-4B) Calc Nutr (12 à 23)'!B54","v":"Micronutriments en poudre (par 100g)"},{"$f":"IF('3B-4B) Calc Nutr (12 à 23)'!C53>0,'3B-4B) Calc Nutr (12 à 23)'!C53,0)","v":0},null,null,{"$f":"IF('3B-4B) Calc Nutr (12 à 23)'!D53>0,'3B-4B) Calc Nutr (12 à 23)'!D53,0)","v":0},null,null,{"$f":"IF('3B-4B) Calc Nutr (12 à 23)'!E53>0,'3B-4B) Calc Nutr (12 à 23)'!E53,0)","v":0},null,null,{"$f":"IF('3B-4B) Calc Nutr (12 à 23)'!F53>0,'3B-4B) Calc Nutr (12 à 23)'!F53,0)","v":0}]
["TOTAL",{"$f":"SUM(B25:B36)","v":0},"grammes",null,{"$f":"SUM(E25:E36)","v":0},"grammes",null,{"$f":"SUM(H25:H36)","v":0},"grammes",null,{"$f":"SUM(K25:K36)","v":0},"grammes"]

{"sheet":"3B-4B) Calc Nutr (2 à 5 ans)","index":8,"n_rows":56,"n_cols":15,"rows_kept":56,"cut":false,"hidden":false,"merged":[[13,5,13,6],[0,0,0,14],[1,0,1,9],[4,0,4,9],[5,5,5,6],[6,5,6,6],[7,5,7,6],[8,5,8,6],[9,5,9,6],[11,5,11,6],[12,5,12,6],[3,4,3,6],[10,5,10,6],[55,2,55,5],[14,5,14,6],[15,5,15,6],[17,0,17,1],[37,0,37,5],[38,0,38,1],[16,0,16,14],[39,0,39,1],[39,7,39,11],[40,0,40,1],[40,7,40,9],[40,10,40,11]]}
["2 à 5 ans : Calculateur nutritionnel (Option 2)"]
["Phase 3B : Dresser la liste des ingrédients potentiels\nDressez la liste de tous les ingrédients potentiels pour chaque recommandation alimentaire.  Si deux formes différentes du même ingrédient sont utilisées (par exemple, frais, séché), elles doivent être ajoutées et analysées indépendamment l'une de l'autre. Le sel, le sucre et les multivitamines sont ajoutés dans la colonne M-O à la Phase 4. "]
["Estimation de la taille des portions (par repas) pour une population spécifique"]
[1,"Taper la taille approximative d'une portion de repas (en grammes) pour une population spécifique",100,"grammes de nourriture par repas (portion)","La plupart des programmes MAM visent une dose de 270 grammes par jour, ce qui équivaut à trois repas par jour à raison de 90 grammes par repas.  "]
["Ingrédients"]
["Nº","Nom commun","Nom local \n(si différent)","Nom scientifique","Forme ","Source de composition nutritionnelle\nLien INFOODS",null,"Lien hypertexte"]
[1,{"$f":"'3B-4B) CalcNutr (6-11)'!B7","v":{"$error":"#VALUE!"}},{"$f":"'3B-4B) CalcNutr (6-11)'!C7","v":"Sorgho"},{"$f":"'3B-4B) CalcNutr (6-11)'!D7","v":"Pennisetum glaucum"},{"$f":"'3B-4B) CalcNutr (6-11)'!E7","v":"farine"},{"$f":"'3B-4B) CalcNutr (6-11)'!F7","v":"Tables de composition des aliments en Zambie"},null,{"$f":"'3B-4B) CalcNutr (6-11)'!H7","v":"https://www.nfnc.org.zm/download/zambia-food-composition-tables-4th-edition/?wpdmdl=1500&refresh=63d248a846b6e1674725544 "}]
[2,{"$f":"'3B-4B) CalcNutr (6-11)'!B8","v":0},{"$f":"'3B-4B) CalcNutr (6-11)'!C8","v":0},{"$f":"'3B-4B) CalcNutr (6-11)'!D8","v":0},{"$f":"'3B-4B) CalcNutr (6-11)'!E8","v":0},{"$f":"'3B-4B) CalcNutr (6-11)'!F8","v":0},null,{"$f":"'3B-4B) CalcNutr (6-11)'!H8","v":0}]
[3,{"$f":"'3B-4B) CalcNutr (6-11)'!B9","v":0},{"$f":"'3B-4B) CalcNutr (6-11)'!C9","v":0},{"$f":"'3B-4B) CalcNutr (6-11)'!D9","v":0},{"$f":"'3B-4B) CalcNutr (6-11)'!E9","v":0},{"$f":"'3B-4B) CalcNutr (6-11)'!F9","v":0},null,{"$f":"'3B-4B) CalcNutr (6-11)'!H9","v":0}]
[4,{"$f":"'3B-4B) CalcNutr (6-11)'!B10","v":0},{"$f":"'3B-4B) CalcNutr (6-11)'!C10","v":0},{"$f":"'3B-4B) CalcNutr (6-11)'!D10","v":0},{"$f":"'3B-4B) CalcNutr (6-11)'!E10","v":0},{"$f":"'3B-4B) CalcNutr (6-11)'!F10","v":0},null,{"$f":"'3B-4B) CalcNutr (6-11)'!H10","v":0}]
[5,{"$f":"'3B-4B) CalcNutr (6-11)'!B11","v":0},{"$f":"'3B-4B) CalcNutr (6-11)'!C11","v":0},{"$f":"'3B-4B) CalcNutr (6-11)'!D11","v":0},{"$f":"'3B-4B) CalcNutr (6-11)'!E11","v":0},{"$f":"'3B-4B) CalcNutr (6-11)'!F11","v":0},null,{"$f":"'3B-4B) CalcNutr (6-11)'!H11","v":0}]
[6,{"$f":"'3B-4B) CalcNutr (6-11)'!B12","v":0},{"$f":"'3B-4B) CalcNutr (6-11)'!C12","v":0},{"$f":"'3B-4B) CalcNutr (6-11)'!D12","v":0},{"$f":"'3B-4B) CalcNutr (6-11)'!E12","v":0},{"$f":"'3B-4B) CalcNutr (6-11)'!F12","v":0},null,{"$f":"'3B-4B) CalcNutr (6-11)'!H12","v":0}]
[7,{"$f":"'3B-4B) CalcNutr (6-11)'!B13","v":0},{"$f":"'3B-4B) CalcNutr (6-11)'!C13","v":0},{"$f":"'3B-4B) CalcNutr (6-11)'!D13","v":0},{"$f":"'3B-4B) CalcNutr (6-11)'!E13","v":0},{"$f":"'3B-4B) CalcNutr (6-11)'!F13","v":0},null,{"$f":"'3B-4B) CalcNutr (6-11)'!H13","v":0}]
[8,{"$f":"'3B-4B) CalcNutr (6-11)'!B14","v":0},{"$f":"'3B-4B) CalcNutr (6-11)'!C14","v":0},{"$f":"'3B-4B) CalcNutr (6-11)'!D14","v":0},{"$f":"'3B-4B) CalcNutr (6-11)'!E14","v":0},{"$f":"'3B-4B) CalcNutr (6-11)'!F14","v":0},null,{"$f":"'3B-4B) CalcNutr (6-11)'!H14","v":0}]
[9,{"$f":"'3B-4B) CalcNutr (6-11)'!B15","v":0},{"$f":"'3B-4B) CalcNutr (6-11)'!C15","v":0},{"$f":"'3B-4B) CalcNutr (6-11)'!D15","v":0},{"$f":"'3B-4B) CalcNutr (6-11)'!E15","v":0},{"$f":"'3B-4B) CalcNutr (6-11)'!F15","v":0},null,{"$f":"'3B-4B) CalcNutr (6-11)'!H15","v":0}]
[10,{"$f":"'3B-4B) CalcNutr (6-11)'!B16","v":0},{"$f":"'3B-4B) CalcNutr (6-11)'!C16","v":0},{"$f":"'3B-4B) CalcNutr (6-11)'!D16","v":0},{"$f":"'3B-4B) CalcNutr (6-11)'!E16","v":0},{"$f":"'3B-4B) CalcNutr (6-11)'!F16","v":0},null,{"$f":"'3B-4B) CalcNutr (6-11)'!H16","v":0}]
["Phase 4 : Saisir la composition nutritionnelle de chaque ingrédient.\nVeuillez saisir les données sur la composition des aliments exactement telles qu'elles apparaissent dans la table de composition des aliments (TCA) le plus proche de votre contexte géographique.  \nTous les aliments doivent être indiqués en quantités de 100 grammes (g). "]
["Ingrédient (par 100 g)",null,{"$f":"B7","v":{"$error":"#VALUE!"}},{"$f":"B8","v":0},{"$f":"B9","v":0},{"$f":"B10","v":0},{"$f":"B11","v":0},{"$f":"B12","v":0},{"$f":"B13","v":0},{"$f":"B14","v":0},{"$f":"B15","v":0},{"$f":"B16","v":0},"Sucre","Sel","Micronutriments en poudre (par 100g)"]
[null,"Énergie (kcal, ou calories)",{"$f":"'3B-4B) CalcNutr (6-11)'!C19","v":0},{"$f":"'3B-4B) CalcNutr (6-11)'!D19","v":0},{"$f":"'3B-4B) CalcNutr (6-11)'!E19","v":0},{"$f":"'3B-4B) CalcNutr (6-11)'!F19","v":0},{"$f":"'3B-4B) CalcNutr (6-11)'!G19","v":0},{"$f":"'3B-4B) CalcNutr (6-11)'!H19","v":0},{"$f":"'3B-4B) CalcNutr (6-11)'!I19","v":0},{"$f":"'3B-4B) CalcNutr (6-11)'!J19","v":0},{"$f":"'3B-4B) CalcNutr (6-11)'!K19","v":0},{"$f":"'3B-4B) CalcNutr (6-11)'!L19","v":0}]
[null,"Protéines (g)",{"$f":"'3B-4B) CalcNutr (6-11)'!C20","v":0},{"$f":"'3B-4B) CalcNutr (6-11)'!D20","v":0},{"$f":"'3B-4B) CalcNutr (6-11)'!E20","v":0},{"$f":"'3B-4B) CalcNutr (6-11)'!F20","v":0},{"$f":"'3B-4B) CalcNutr (6-11)'!G20","v":0},{"$f":"'3B-4B) CalcNutr (6-11)'!H20","v":0},{"$f":"'3B-4B) CalcNutr (6-11)'!I20","v":0},{"$f":"'3B-4B) CalcNutr (6-11)'!J20","v":0},{"$f":"'3B-4B) CalcNutr (6-11)'!K20","v":0},{"$f":"'3B-4B) CalcNutr (6-11)'!L20","v":0}]
[null,"Matières grasses totales (g)",{"$f":"'3B-4B) CalcNutr (6-11)'!C21","v":0},{"$f":"'3B-4B) CalcNutr (6-11)'!D21","v":0},{"$f":"'3B-4B) CalcNutr (6-11)'!E21","v":0},{"$f":"'3B-4B) CalcNutr (6-11)'!F21","v":0},{"$f":"'3B-4B) CalcNutr (6-11)'!G21","v":0},{"$f":"'3B-4B) CalcNutr (6-11)'!H21","v":0},{"$f":"'3B-4B) CalcNutr (6-11)'!I21","v":0},{"$f":"'3B-4B) CalcNutr (6-11)'!J21","v":0},{"$f":"'3B-4B) CalcNutr (6-11)'!K21","v":0},{"$f":"'3B-4B) CalcNutr (6-11)'!L21","v":0}]
[null,"Glucides (g)",{"$f":"'3B-4B) CalcNutr (6-11)'!C22","v":0},{"$f":"'3B-4B) CalcNutr (6-11)'!D22","v":0},{"$f":"'3B-4B) CalcNutr (6-11)'!E22","v":0},{"$f":"'3B-4B) CalcNutr (6-11)'!F22","v":0},{"$f":"'3B-4B) CalcNutr (6-11)'!G22","v":0},{"$f":"'3B-4B) CalcNutr (6-11)'!H22","v":0},{"$f":"'3B-4B) CalcNutr (6-11)'!I22","v":0},{"$f":"'3B-4B) CalcNutr (6-11)'!J22","v":0},{"$f":"'3B-4B) CalcNutr (6-11)'!K22","v":0},{"$f":"'3B-4B) CalcNutr (6-11)'!L22","v":0}]
[null,"Fibres (g)",{"$f":"'3B-4B) CalcNutr (6-11)'!C23","v":0},{"$f":"'3B-4B) CalcNutr (6-11)'!D23","v":0},{"$f":"'3B-4B) CalcNutr (6-11)'!E23","v":0},{"$f":"'3B-4B) CalcNutr (6-11)'!F23","v":0},{"$f":"'3B-4B) CalcNutr (6-11)'!G23","v":0},{"$f":"'3B-4B) CalcNutr (6-11)'!H23","v":0},{"$f":"'3B-4B) CalcNutr (6-11)'!I23","v":0},{"$f":"'3B-4B) CalcNutr (6-11)'!J23","v":0},{"$f":"'3B-4B) CalcNutr (6-11)'!K23","v":0},{"$f":"'3B-4B) CalcNutr (6-11)'!L23","v":0}]
[null,"Sucre (g)",{"$f":"'3B-4B) CalcNutr (6-11)'!C24","v":0},{"$f":"'3B-4B) CalcNutr (6-11)'!D24","v":0},{"$f":"'3B-4B) CalcNutr (6-11)'!E24","v":0},{"$f":"'3B-4B) CalcNutr (6-11)'!F24","v":0},{"$f":"'3B-4B) CalcNutr (6-11)'!G24","v":0},{"$f":"'3B-4B) CalcNutr (6-11)'!H24","v":0},{"$f":"'3B-4B) CalcNutr (6-11)'!I24","v":0},{"$f":"'3B-4B) CalcNutr (6-11)'!J24","v":0},{"$f":"'3B-4B) CalcNutr (6-11)'!K24","v":0},{"$f":"'3B-4B) CalcNutr (6-11)'!L24","v":0}]
[null,"Calcium [Ca] (mg)",{"$f":"'3B-4B) CalcNutr (6-11)'!C25","v":0},{"$f":"'3B-4B) CalcNutr (6-11)'!D25","v":0},{"$f":"'3B-4B) CalcNutr (6-11)'!E25","v":0},{"$f":"'3B-4B) CalcNutr (6-11)'!F25","v":0},{"$f":"'3B-4B) CalcNutr (6-11)'!G25","v":0},{"$f":"'3B-4B) CalcNutr (6-11)'!H25","v":0},{"$f":"'3B-4B) CalcNutr (6-11)'!I25","v":0},{"$f":"'3B-4B) CalcNutr (6-11)'!J25","v":0},{"$f":"'3B-4B) CalcNutr (6-11)'!K25","v":0},{"$f":"'3B-4B) CalcNutr (6-11)'!L25","v":0}]
[null,"Fer [Fe] (mg)",{"$f":"'3B-4B) CalcNutr (6-11)'!C26","v":0},{"$f":"'3B-4B) CalcNutr (6-11)'!D26","v":0},{"$f":"'3B-4B) CalcNutr (6-11)'!E26","v":0},{"$f":"'3B-4B) CalcNutr (6-11)'!F26","v":0},{"$f":"'3B-4B) CalcNutr (6-11)'!G26","v":0},{"$f":"'3B-4B) CalcNutr (6-11)'!H26","v":0},{"$f":"'3B-4B) CalcNutr (6-11)'!I26","v":0},{"$f":"'3B-4B) CalcNutr (6-11)'!J26","v":0},{"$f":"'3B-4B) CalcNutr (6-11)'!K26","v":0},{"$f":"'3B-4B) CalcNutr (6-11)'!L26","v":0}]
[null,"Magnésium [Mg] (mg)",{"$f":"'3B-4B) CalcNutr (6-11)'!C27","v":0},{"$f":"'3B-4B) CalcNutr (6-11)'!D27","v":0},{"$f":"'3B-4B) CalcNutr (6-11)'!E27","v":0},{"$f":"'3B-4B) CalcNutr (6-11)'!F27","v":0},{"$f":"'3B-4B) CalcNutr (6-11)'!G27","v":0},{"$f":"'3B-4B) CalcNutr (6-11)'!H27","v":0},{"$f":"'3B-4B) CalcNutr (6-11)'!I27","v":0},{"$f":"'3B-4B) CalcNutr (6-11)'!J27","v":0},{"$f":"'3B-4B) CalcNutr (6-11)'!K27","v":0},{"$f":"'3B-4B) CalcNutr (6-11)'!L27","v":0}]
[null,"Potassium [K] (mg)",{"$f":"'3B-4B) CalcNutr (6-11)'!C28","v":0},{"$f":"'3B-4B) CalcNutr (6-11)'!D28","v":0},{"$f":"'3B-4B) CalcNutr (6-11)'!E28","v":0},{"$f":"'3B-4B) CalcNutr (6-11)'!F28","v":0},{"$f":"'3B-4B) CalcNutr (6-11)'!G28","v":0},{"$f":"'3B-4B) CalcNutr (6-11)'!H28","v":0},{"$f":"'3B-4B) CalcNutr (6-11)'!I28","v":0},{"$f":"'3B-4B) CalcNutr (6-11)'!J28","v":0},{"$f":"'3B-4B) CalcNutr (6-11)'!K28","v":0},{"$f":"'3B-4B) CalcNutr (6-11)'!L28","v":0}]
[null,"Sodium [Na] (mg)",{"$f":"'3B-4B) CalcNutr (6-11)'!C29","v":0},{"$f":"'3B-4B) CalcNutr (6-11)'!D29","v":0},{"$f":"'3B-4B) CalcNutr (6-11)'!E29","v":0},{"$f":"'3B-4B) CalcNutr (6-11)'!F29","v":0},{"$f":"'3B-4B) CalcNutr (6-11)'!G29","v":0},{"$f":"'3B-4B) CalcNutr (6-11)'!H29","v":0},{"$f":"'3B-4B) CalcNutr (6-11)'!I29","v":0},{"$f":"'3B-4B) CalcNutr (6-11)'!J29","v":0},{"$f":"'3B-4B) CalcNutr (6-11)'!K29","v":0},{"$f":"'3B-4B) CalcNutr (6-11)'!L29","v":0}]
[null,"Zinc [Zn] (mg)",{"$f":"'3B-4B) CalcNutr (6-11)'!C30","v":0},{"$f":"'3B-4B) CalcNutr (6-11)'!D30","v":0},{"$f":"'3B-4B) CalcNutr (6-11)'!E30","v":0},{"$f":"'3B-4B) CalcNutr (6-11)'!F30","v":0},{"$f":"'3B-4B) CalcNutr (6-11)'!G30","v":0},{"$f":"'3B-4B) CalcNutr (6-11)'!H30","v":0},{"$f":"'3B-4B) CalcNutr (6-11)'!I30","v":0},{"$f":"'3B-4B) CalcNutr (6-11)'!J30","v":0},{"$f":"'3B-4B) CalcNutr (6-11)'!K30","v":0},{"$f":"'3B-4B) CalcNutr (6-11)'!L30","v":0}]
[null,"Vitamine A EAR (mcg)",{"$f":"'3B-4B) CalcNutr (6-11)'!C31","v":0},{"$f":"'3B-4B) CalcNutr (6-11)'!D31","v":0},{"$f":"'3B-4B) CalcNutr (6-11)'!E31","v":0},{"$f":"'3B-4B) CalcNutr (6-11)'!F31","v":0},{"$f":"'3B-4B) CalcNutr (6-11)'!G31","v":0},{"$f":"'3B-4B) CalcNutr (6-11)'!H31","v":0},{"$f":"'3B-4B) CalcNutr (6-11)'!I31","v":0},{"$f":"'3B-4B) CalcNutr (6-11)'!J31","v":0},{"$f":"'3B-4B) CalcNutr (6-11)'!K31","v":0},{"$f":"'3B-4B) CalcNutr (6-11)'!L31","v":0}]
[null,"Thiamine [Vit B1] (mg)",{"$f":"'3B-4B) CalcNutr (6-11)'!C32","v":0},{"$f":"'3B-4B) CalcNutr (6-11)'!D32","v":0},{"$f":"'3B-4B) CalcNutr (6-11)'!E32","v":0},{"$f":"'3B-4B) CalcNutr (6-11)'!F32","v":0},{"$f":"'3B-4B) CalcNutr (6-11)'!G32","v":0},{"$f":"'3B-4B) CalcNutr (6-11)'!H32","v":0},{"$f":"'3B-4B) CalcNutr (6-11)'!I32","v":0},{"$f":"'3B-4B) CalcNutr (6-11)'!J32","v":0},{"$f":"'3B-4B) CalcNutr (6-11)'!K32","v":0},{"$f":"'3B-4B) CalcNutr (6-11)'!L32","v":0}]
[null,"Riboflavine [Vit B2] (mg)",{"$f":"'3B-4B) CalcNutr (6-11)'!C33","v":0},{"$f":"'3B-4B) CalcNutr (6-11)'!D33","v":0},{"$f":"'3B-4B) CalcNutr (6-11)'!E33","v":0},{"$f":"'3B-4B) CalcNutr (6-11)'!F33","v":0},{"$f":"'3B-4B) CalcNutr (6-11)'!G33","v":0},{"$f":"'3B-4B) CalcNutr (6-11)'!H33","v":0},{"$f":"'3B-4B) CalcNutr (6-11)'!I33","v":0},{"$f":"'3B-4B) CalcNutr (6-11)'!J33","v":0},{"$f":"'3B-4B) CalcNutr (6-11)'!K33","v":0},{"$f":"'3B-4B) CalcNutr (6-11)'!L33","v":0}]
[null,"Equiv. Niacine [Vit B3] (mg)",{"$f":"'3B-4B) CalcNutr (6-11)'!C34","v":0},{"$f":"'3B-4B) CalcNutr (6-11)'!D34","v":0},{"$f":"'3B-4B) CalcNutr (6-11)'!E34","v":0},{"$f":"'3B-4B) CalcNutr (6-11)'!F34","v":0},{"$f":"'3B-4B) CalcNutr (6-11)'!G34","v":0},{"$f":"'3B-4B) CalcNutr (6-11)'!H34","v":0},{"$f":"'3B-4B) CalcNutr (6-11)'!I34","v":0},{"$f":"'3B-4B) CalcNutr (6-11)'!J34","v":0},{"$f":"'3B-4B) CalcNutr (6-11)'!K34","v":0},{"$f":"'3B-4B) CalcNutr (6-11)'!L34","v":0}]
[null,"Folate EFA (mcg)",{"$f":"'3B-4B) CalcNutr (6-11)'!C35","v":0},{"$f":"'3B-4B) CalcNutr (6-11)'!D35","v":0},{"$f":"'3B-4B) CalcNutr (6-11)'!E35","v":0},{"$f":"'3B-4B) CalcNutr (6-11)'!F35","v":0},{"$f":"'3B-4B) CalcNutr (6-11)'!G35","v":0},{"$f":"'3B-4B) CalcNutr (6-11)'!H35","v":0},{"$f":"'3B-4B) CalcNutr (6-11)'!I35","v":0},{"$f":"'3B-4B) CalcNutr (6-11)'!J35","v":0},{"$f":"'3B-4B) CalcNutr (6-11)'!K35","v":0},{"$f":"'3B-4B) CalcNutr (6-11)'!L35","v":0}]
[null,"Vitamine B12 (mcg)",{"$f":"'3B-4B) CalcNutr (6-11)'!C36","v":0},{"$f":"'3B-4B) CalcNutr (6-11)'!D36","v":0},{"$f":"'3B-4B) CalcNutr (6-11)'!E36","v":0},{"$f":"'3B-4B) CalcNutr (6-11)'!F36","v":0},{"$f":"'3B-4B) CalcNutr (6-11)'!G36","v":0},{"$f":"'3B-4B) CalcNutr (6-11)'!H36","v":0},{"$f":"'3B-4B) CalcNutr (6-11)'!I36","v":0},{"$f":"'3B-4B) CalcNutr (6-11)'!J36","v":0},{"$f":"'3B-4B) CalcNutr (6-11)'!K36","v":0},{"$f":"'3B-4B) CalcNutr (6-11)'!L36","v":0}]
[null,"Vitamine C (mg)",{"$f":"'3B-4B) CalcNutr (6-11)'!C37","v":0},{"$f":"'3B-4B) CalcNutr (6-11)'!D37","v":0},{"$f":"'3B-4B) CalcNutr (6-11)'!E37","v":0},{"$f":"'3B-4B) CalcNutr (6-11)'!F37","v":0},{"$f":"'3B-4B) CalcNutr (6-11)'!G37","v":0},{"$f":"'3B-4B) CalcNutr (6-11)'!H37","v":0},{"$f":"'3B-4B) CalcNutr (6-11)'!I37","v":0},{"$f":"'3B-4B) CalcNutr (6-11)'!J37","v":0},{"$f":"'3B-4B) CalcNutr (6-11)'!K37","v":0},{"$f":"'3B-4B) CalcNutr (6-11)'!L37","v":0}]
["Phase 4B : Élaborer des recommandations basées sur l'alimentation (RBA) ou des mélanges à base de farines enrichies (MFE)\nSaisir le nom, sélectionner la méthode de préparation et ajouter la quantité totale de chaque ingrédient (en grammes) pour un maximum de 4 RBA ou mélanges à base de farine enrichie.\nMax. 10 ingrédients par RBA. Du sucre, du sel et un mélange de vitamines sont ajoutés en plus. "]
["RBA ou MFE Nº",null,1,2,3,4]
["Ajouter la RBA / le nom du mélange à base de farine enrichie",null,"RBA Nº1","RBA Nº2","RBA Nº3","RBA Nº4",null,"TAILLE ESTIMÉE DE LA PORTION CLÉ\nPortion moyenne par groupe d'aliments"]
["Sélectionner la méthode de préparation",null,"Bouillie \n(<10 min)","Bouillie \n(<10 min)","Bouillie \n(<10 min)",null,null,"GROUPE ALIMENTAIRE",null,null,"2 à 5 ans"]
[1,{"$f":"B7","v":{"$error":"#VALUE!"}},null,null,null,null,null,null,null,null,"grammes","unité"]
[2,{"$f":"B8","v":0},null,null,null,null,null,"1. Céréales, racines blanches, tubercules, plantains (DAMF)",null,null,90,"3/8 tasse"]
[3,0,null,null,null,null,null,"2. Légumineuses (haricots, pois, lentilles) DAMF",null,null,60,"1/2 tasse"]
[4,0,null,null,null,null,null,"3. Fruits à coque et graines (DAMF)",null,null,30,"2 cs."]
[5,0,null,null,null,null,null,"4.1 Lait, produits laitiers (DAMF)",null,null,120,"1/3 tasse"]
[6,0,null,null,null,null,null,"4.2 Lait en poudre",null,null,30,"3 cs."]
[7,0,null,null,null,null,null,"4.2 Fromages",null,null,25,"2 cs."]
[8,0,null,null,null,null,null,"5. Viande, volaille, poisson (DAMF)",null,null,45,"1,5 oz"]
[9,0,null,null,null,null,null,"6. Œufs (DAMF)",null,null,"50 à 75","1 à 1,5 gros œuf"]
[10,0,null,null,null,null,null,"7.1 (FRAIS) Légumes à feuilles foncées (DAMF)",null,null,50,"1,5 tasse"]
["+","SUCRE AJOUTÉ (g)",null,null,null,null,null,"7.2 (SÉCHÉ) Légumes à feuilles foncées",null,null,15,"3 cs."]
["+","SEL AJOUTÉ (g)",null,null,null,null,null,"8. Fruits et légumes riches en vitamine A (DAMF)",null,null,80,"1/3 tasse"]
["+",{"$f":"O18","v":"Micronutriments en poudre (par 100g)"},null,null,null,null,null,"9. Autres légumes (DAMF)",null,null,80,"1/3 tasse"]
[null,"POIDS TOTAL RBA",{"$f":"_xlfn.CONCAT(SUM(C42:C54),\" grams\")","v":"0 grams"},{"$f":"_xlfn.CONCAT(SUM(D42:D54),\" grams\")","v":"0 grams"},{"$f":"_xlfn.CONCAT(SUM(E42:E54),\" grams\")","v":"0 grams"},{"$f":"_xlfn.CONCAT(SUM(F42:F54),\" grams\")","v":"0 grams"},null,"10. Autres fruits (DAMF)",null,null,80,"1/3 tasse"]
[null,"Taille des portions pour une population spécifique",{"$f":"_xlfn.CONCAT(C4,\" grams\")","v":"100 grams"}]

{"sheet":"5) Tableaux de bord (2 à 5 ans)","index":9,"n_rows":37,"n_cols":20,"rows_kept":37,"cut":false,"hidden":false,"merged":[[34,7,34,8],[35,7,35,8],[24,10,24,11],[25,10,25,11],[26,10,26,11],[27,10,27,11],[28,10,28,11],[29,10,29,11],[30,10,30,11],[31,10,31,11],[32,10,32,11],[33,10,33,11],[34,10,34,11],[35,10,35,11],[29,7,29,8],[30,7,30,8],[31,7,31,8],[32,7,32,8],[33,7,33,8],[24,7,24,8],[25,7,25,8],[26,7,26,8],[27,7,27,8],[28,7,28,8],[34,1,34,2],[35,1,35,2],[24,4,24,5],[25,4,25,5],[26,4,26,5],[27,4,27,5],[28,4,28,5],[29,4,29,5],[30,4,30,5],[31,4,31,5],[32,4,32,5],[33,4,33,5],[34,4,34,5],[35,4,35,5],[29,1,29,2],[30,1,30,2],[31,1,31,2],[32,1,32,2],[33,1,33,2],[24,1,24,2],[25,1,25,2],[26,1,26,2],[27,1,27,2],[28,1,28,2],[0,14,0,15],[0,16,0,18],[1,14,1,15],[23,1,23,2],[23,4,23,5],[23,7,23,8],[23,10,23,11],[0,1,0,3],[0,4,0,6],[0,7,0,9],[0,10,0,12],[22,1,22,2],[22,4,22,5],[22,7,22,8],[22,10,22,11]]}
["TABLEAU DE BORD pour \n12 à 24 mois",{"$f":"'3B-4B) Calc Nutr (2 à 5 ans)'!C40","v":"RBA Nº1"},null,null,{"$f":"'3B-4B) Calc Nutr (2 à 5 ans)'!D40","v":"RBA Nº2"},null,null,{"$f":"'3B-4B) Calc Nutr (2 à 5 ans)'!E40","v":"RBA Nº3"},null,null,{"$f":"'3B-4B) Calc Nutr (2 à 5 ans)'!F40","v":"RBA Nº4"},null,null,"Valeurs de référence de la formulation","Norme de l'OMS",null,"Approuvé par le PAM",null,null,"PMN"]
["Nutriments","RBA préparée / MFE (avec facteur de rétention)","Enfants\n (âgés de 2 à 5 ans)\n% VJ","Enfants \n(6 à 12 mois)\n% VJ","RBA préparée / MFE (avec facteur de rétention)","Enfants\n (âgés de 2 à 5 ans)\n% VJ","Enfants \n(6 à 12 mois)\n% VJ","RBA préparée / MFE (avec facteur de rétention)","Enfants\n (âgés de 2 à 5 ans)\n% VJ","Enfants \n(6 à 12 mois)\n% VJ","RBA préparée / MFE (avec facteur de rétention)","Enfants\n (âgés de 2 à 5 ans)\n% VJ","Enfants\n (6 à 12 mois)\n% VJ","Nutriments","Composition nutritionnelle proposée pour les aliments complémentaires utilisés dans la prise en charge de la malnutrition aiguë modérée chez l'enfant",null,"MMS+ (100g) avec huile enrichie (25g)","SuperCéréale +","ACPE (moyenne)","Micronutriments en poudre"]
["Énergie (kcal, ou calories)",{"$f":"'RBAMFE Nº1 (Détails)'!C36","v":0},{"$f":"'RBAMFE Nº1 (Détails)'!M36","v":0},{"$f":"'RBAMFE Nº1 (Détails)'!S36","v":0},{"$f":"'RBAMFE Nº2 (Détails)'!C36","v":0},{"$f":"'RBAMFE Nº2 (Détails)'!M36","v":0},{"$f":"'RBAMFE Nº2 (Détails)'!S36","v":0},{"$f":"'RBAMFE Nº3 (Détails)'!C36","v":0},{"$f":"'RBAMFE Nº3 (Détails)'!F36","v":0},{"$f":"'RBAMFE Nº3 (Détails)'!J36","v":0},{"$f":"'RBAMFE Nº4 (Détails)'!C36","v":0},{"$f":"'RBAMFE Nº4 (Détails)'!M36","v":0},{"$f":"'RBAMFE Nº4 (Détails)'!S36","v":0},"Énergie maximale, kcal",null,null,{"$f":"380+221","v":601},400,510,0]
["Protéines (g)",{"$f":"'RBAMFE Nº1 (Détails)'!C37","v":0},{"$f":"'RBAMFE Nº1 (Détails)'!M37","v":0},{"$f":"'RBAMFE Nº1 (Détails)'!S37","v":0},{"$f":"'RBAMFE Nº2 (Détails)'!C37","v":0},{"$f":"'RBAMFE Nº2 (Détails)'!M37","v":0},{"$f":"'RBAMFE Nº2 (Détails)'!S37","v":0},{"$f":"'RBAMFE Nº3 (Détails)'!C37","v":0},{"$f":"'RBAMFE Nº3 (Détails)'!F37","v":0},{"$f":"'RBAMFE Nº3 (Détails)'!J37","v":0},{"$f":"'RBAMFE Nº4 (Détails)'!C37","v":0},{"$f":"'RBAMFE Nº4 (Détails)'!M37","v":0},{"$f":"'RBAMFE Nº4 (Détails)'!S37","v":0},"Protéines, g",20,43,13.3,16,11,0]
["Matières grasses totales (g)",{"$f":"'RBAMFE Nº1 (Détails)'!C38","v":0},{"$f":"'RBAMFE Nº1 (Détails)'!M38","v":0},{"$f":"'RBAMFE Nº1 (Détails)'!S38","v":0},{"$f":"'RBAMFE Nº2 (Détails)'!C38","v":0},{"$f":"'RBAMFE Nº2 (Détails)'!M38","v":0},{"$f":"'RBAMFE Nº2 (Détails)'!S38","v":0},{"$f":"'RBAMFE Nº3 (Détails)'!C38","v":0},{"$f":"'RBAMFE Nº3 (Détails)'!F38","v":0},{"$f":"'RBAMFE Nº3 (Détails)'!J38","v":0},{"$f":"'RBAMFE Nº4 (Détails)'!C38","v":0},{"$f":"'RBAMFE Nº4 (Détails)'!M38","v":0},{"$f":"'RBAMFE Nº4 (Détails)'!S38","v":0},"Matières grasses, g",25,65,{"$f":"2.5+25","v":27.5},9,26,0]
["Glucides (g)",{"$f":"'RBAMFE Nº1 (Détails)'!C39","v":0},{"$f":"'RBAMFE Nº1 (Détails)'!M39","v":0},{"$f":"'RBAMFE Nº1 (Détails)'!S39","v":0},{"$f":"'RBAMFE Nº2 (Détails)'!C39","v":0},{"$f":"'RBAMFE Nº2 (Détails)'!M39","v":0},{"$f":"'RBAMFE Nº2 (Détails)'!S39","v":0},{"$f":"'RBAMFE Nº3 (Détails)'!C39","v":0},{"$f":"'RBAMFE Nº3 (Détails)'!F39","v":0},{"$f":"'RBAMFE Nº3 (Détails)'!J39","v":0},{"$f":"'RBAMFE Nº4 (Détails)'!C39","v":0},{"$f":"'RBAMFE Nº4 (Détails)'!M39","v":0},{"$f":"'RBAMFE Nº4 (Détails)'!S39","v":0},"Glucides",null,null,64,null,null,0]
["Fibres (g)",{"$f":"'RBAMFE Nº1 (Détails)'!C40","v":0},{"$f":"'RBAMFE Nº1 (Détails)'!M40","v":0},{"$f":"'RBAMFE Nº1 (Détails)'!S40","v":"NA"},{"$f":"'RBAMFE Nº2 (Détails)'!C40","v":0},{"$f":"'RBAMFE Nº2 (Détails)'!M40","v":0},{"$f":"'RBAMFE Nº2 (Détails)'!S40","v":"NA"},{"$f":"'RBAMFE Nº3 (Détails)'!C40","v":0},{"$f":"'RBAMFE Nº3 (Détails)'!F40","v":0},{"$f":"'RBAMFE Nº3 (Détails)'!J40","v":"NA"},{"$f":"'RBAMFE Nº4 (Détails)'!C40","v":0},{"$f":"'RBAMFE Nº4 (Détails)'!M40","v":0},{"$f":"'RBAMFE Nº4 (Détails)'!S40","v":"NA"},"Fibres",null,null,5,null,null,0]
["Sucre (g)",{"$f":"'RBAMFE Nº1 (Détails)'!C41","v":0},{"$f":"'RBAMFE Nº1 (Détails)'!M41","v":0},{"$f":"'RBAMFE Nº1 (Détails)'!S41","v":"NA"},{"$f":"'RBAMFE Nº2 (Détails)'!C41","v":0},{"$f":"'RBAMFE Nº2 (Détails)'!M41","v":0},{"$f":"'RBAMFE Nº2 (Détails)'!S41","v":"NA"},{"$f":"'RBAMFE Nº3 (Détails)'!C41","v":0},{"$f":"'RBAMFE Nº3 (Détails)'!F41","v":0},{"$f":"'RBAMFE Nº3 (Détails)'!J41","v":"NA"},{"$f":"'RBAMFE Nº4 (Détails)'!C41","v":0},{"$f":"'RBAMFE Nº4 (Détails)'!M41","v":0},{"$f":"'RBAMFE Nº4 (Détails)'!S41","v":"NA"},"Sucre (g)"]
["Calcium [Ca] (mg)",{"$f":"'RBAMFE Nº1 (Détails)'!C42","v":0},{"$f":"'RBAMFE Nº1 (Détails)'!M42","v":0},{"$f":"'RBAMFE Nº1 (Détails)'!S42","v":0},{"$f":"'RBAMFE Nº2 (Détails)'!C42","v":0},{"$f":"'RBAMFE Nº2 (Détails)'!M42","v":0},{"$f":"'RBAMFE Nº2 (Détails)'!S42","v":0},{"$f":"'RBAMFE Nº3 (Détails)'!C42","v":0},{"$f":"'RBAMFE Nº3 (Détails)'!F42","v":0},{"$f":"'RBAMFE Nº3 (Détails)'!J42","v":0},{"$f":"'RBAMFE Nº4 (Détails)'!C42","v":0},{"$f":"'RBAMFE Nº4 (Détails)'!M42","v":0},{"$f":"'RBAMFE Nº4 (Détails)'!S42","v":0},"Calcium, mg",1000,1400,512,420,535,0]
["Fer [Fe] (mg)",{"$f":"'RBAMFE Nº1 (Détails)'!C43","v":0},{"$f":"'RBAMFE Nº1 (Détails)'!M43","v":0},{"$f":"'RBAMFE Nº1 (Détails)'!S43","v":0},{"$f":"'RBAMFE Nº2 (Détails)'!C43","v":0},{"$f":"'RBAMFE Nº2 (Détails)'!M43","v":0},{"$f":"'RBAMFE Nº2 (Détails)'!S43","v":0},{"$f":"'RBAMFE Nº3 (Détails)'!C43","v":0},{"$f":"'RBAMFE Nº3 (Détails)'!F43","v":0},{"$f":"'RBAMFE Nº3 (Détails)'!J43","v":0},{"$f":"'RBAMFE Nº4 (Détails)'!C43","v":0},{"$f":"'RBAMFE Nº4 (Détails)'!M43","v":0},{"$f":"'RBAMFE Nº4 (Détails)'!S43","v":0},"Fer",18,30,2.5,9,10,10]
["Magnésium [Mg] (mg)",{"$f":"'RBAMFE Nº1 (Détails)'!C44","v":0},{"$f":"'RBAMFE Nº1 (Détails)'!M44","v":0},{"$f":"'RBAMFE Nº1 (Détails)'!S44","v":0},{"$f":"'RBAMFE Nº2 (Détails)'!C44","v":0},{"$f":"'RBAMFE Nº2 (Détails)'!M44","v":0},{"$f":"'RBAMFE Nº2 (Détails)'!S44","v":0},{"$f":"'RBAMFE Nº3 (Détails)'!C44","v":0},{"$f":"'RBAMFE Nº3 (Détails)'!F44","v":0},{"$f":"'RBAMFE Nº3 (Détails)'!J44","v":0},{"$f":"'RBAMFE Nº4 (Détails)'!C44","v":0},{"$f":"'RBAMFE Nº4 (Détails)'!M44","v":0},{"$f":"'RBAMFE Nº4 (Détails)'!S44","v":0},"Magnésium, mg",280,420,null,null,150,0]
["Potassium [K] (mg)",{"$f":"'RBAMFE Nº1 (Détails)'!C45","v":0},{"$f":"'RBAMFE Nº1 (Détails)'!M45","v":0},{"$f":"'RBAMFE Nº1 (Détails)'!S45","v":0},{"$f":"'RBAMFE Nº2 (Détails)'!C45","v":0},{"$f":"'RBAMFE Nº2 (Détails)'!M45","v":0},{"$f":"'RBAMFE Nº2 (Détails)'!S45","v":0},{"$f":"'RBAMFE Nº3 (Détails)'!C45","v":0},{"$f":"'RBAMFE Nº3 (Détails)'!F45","v":0},{"$f":"'RBAMFE Nº3 (Détails)'!J45","v":0},{"$f":"'RBAMFE Nº4 (Détails)'!C45","v":0},{"$f":"'RBAMFE Nº4 (Détails)'!M45","v":0},{"$f":"'RBAMFE Nº4 (Détails)'!S45","v":0},"Potassium, mg",1500,2200,724,650,800,0]
["Sodium [Na] (mg)",{"$f":"'RBAMFE Nº1 (Détails)'!C46","v":0},{"$f":"'RBAMFE Nº1 (Détails)'!M46","v":0},{"$f":"'RBAMFE Nº1 (Détails)'!S46","v":0},{"$f":"'RBAMFE Nº2 (Détails)'!C46","v":0},{"$f":"'RBAMFE Nº2 (Détails)'!M46","v":0},{"$f":"'RBAMFE Nº2 (Détails)'!S46","v":0},{"$f":"'RBAMFE Nº3 (Détails)'!C46","v":0},{"$f":"'RBAMFE Nº3 (Détails)'!F46","v":0},{"$f":"'RBAMFE Nº3 (Détails)'!J46","v":0},{"$f":"'RBAMFE Nº4 (Détails)'!C46","v":0},{"$f":"'RBAMFE Nº4 (Détails)'!M46","v":0},{"$f":"'RBAMFE Nº4 (Détails)'!S46","v":0},"Sodium"]
["Zinc [Zn] (mg)",{"$f":"'RBAMFE Nº1 (Détails)'!C47","v":0},{"$f":"'RBAMFE Nº1 (Détails)'!M47","v":0},{"$f":"'RBAMFE Nº1 (Détails)'!S47","v":0},{"$f":"'RBAMFE Nº2 (Détails)'!C47","v":0},{"$f":"'RBAMFE Nº2 (Détails)'!M47","v":0},{"$f":"'RBAMFE Nº2 (Détails)'!S47","v":0},{"$f":"'RBAMFE Nº3 (Détails)'!C47","v":0},{"$f":"'RBAMFE Nº3 (Détails)'!F47","v":0},{"$f":"'RBAMFE Nº3 (Détails)'!J47","v":0},{"$f":"'RBAMFE Nº4 (Détails)'!C47","v":0},{"$f":"'RBAMFE Nº4 (Détails)'!M47","v":0},{"$f":"'RBAMFE Nº4 (Détails)'!S47","v":0},"Zinc, mg",20,35,7.7,8,11,4.0999999999999996]
["Vitamine A EAR (mcg)",{"$f":"'RBAMFE Nº1 (Détails)'!C48","v":0},{"$f":"'RBAMFE Nº1 (Détails)'!M48","v":0},{"$f":"'RBAMFE Nº1 (Détails)'!S48","v":0},{"$f":"'RBAMFE Nº2 (Détails)'!C48","v":0},{"$f":"'RBAMFE Nº2 (Détails)'!M48","v":0},{"$f":"'RBAMFE Nº2 (Détails)'!S48","v":0},{"$f":"'RBAMFE Nº3 (Détails)'!C48","v":0},{"$f":"'RBAMFE Nº3 (Détails)'!F48","v":0},{"$f":"'RBAMFE Nº3 (Détails)'!J48","v":0},{"$f":"'RBAMFE Nº4 (Détails)'!C48","v":0},{"$f":"'RBAMFE Nº4 (Détails)'!M48","v":0},{"$f":"'RBAMFE Nº4 (Détails)'!S48","v":0},"Vitamine A (rétinol), UI",2000,3000,{"$f":"3632+1500","v":5132},800,700,400]
["Thiamine [Vitamine B1] (mg)",{"$f":"'RBAMFE Nº1 (Détails)'!C49","v":0},{"$f":"'RBAMFE Nº1 (Détails)'!M49","v":0},{"$f":"'RBAMFE Nº1 (Détails)'!S49","v":0},{"$f":"'RBAMFE Nº2 (Détails)'!C49","v":0},{"$f":"'RBAMFE Nº2 (Détails)'!M49","v":0},{"$f":"'RBAMFE Nº2 (Détails)'!S49","v":0},{"$f":"'RBAMFE Nº3 (Détails)'!C49","v":0},{"$f":"'RBAMFE Nº3 (Détails)'!F49","v":0},{"$f":"'RBAMFE Nº3 (Détails)'!J49","v":0},{"$f":"'RBAMFE Nº4 (Détails)'!C49","v":0},{"$f":"'RBAMFE Nº4 (Détails)'!M49","v":0},{"$f":"'RBAMFE Nº4 (Détails)'!S49","v":0},"Vitamine B1 (thiamine), mg",1,null,0.68,0.4,1,0.5]
["Riboflavine [Vitamine B2] (mg)",{"$f":"'RBAMFE Nº1 (Détails)'!C50","v":0},{"$f":"'RBAMFE Nº1 (Détails)'!M50","v":0},{"$f":"'RBAMFE Nº1 (Détails)'!S50","v":0},{"$f":"'RBAMFE Nº2 (Détails)'!C50","v":0},{"$f":"'RBAMFE Nº2 (Détails)'!M50","v":0},{"$f":"'RBAMFE Nº2 (Détails)'!S50","v":0},{"$f":"'RBAMFE Nº3 (Détails)'!C50","v":0},{"$f":"'RBAMFE Nº3 (Détails)'!F50","v":0},{"$f":"'RBAMFE Nº3 (Détails)'!J50","v":0},{"$f":"'RBAMFE Nº4 (Détails)'!C50","v":0},{"$f":"'RBAMFE Nº4 (Détails)'!M50","v":0},{"$f":"'RBAMFE Nº4 (Détails)'!S50","v":0},"Vitamine B2 (riboflavine), mg",4,null,1.73,1.6,2.1,0.5]
["Equiv. Niacine [Vitamine B3] (mg)",{"$f":"'RBAMFE Nº1 (Détails)'!C51","v":0},{"$f":"'RBAMFE Nº1 (Détails)'!M51","v":0},{"$f":"'RBAMFE Nº1 (Détails)'!S51","v":0},{"$f":"'RBAMFE Nº2 (Détails)'!C51","v":0},{"$f":"'RBAMFE Nº2 (Détails)'!M51","v":0},{"$f":"'RBAMFE Nº2 (Détails)'!S51","v":0},{"$f":"'RBAMFE Nº3 (Détails)'!C51","v":0},{"$f":"'RBAMFE Nº3 (Détails)'!F51","v":0},{"$f":"'RBAMFE Nº3 (Détails)'!J51","v":0},{"$f":"'RBAMFE Nº4 (Détails)'!C51","v":0},{"$f":"'RBAMFE Nº4 (Détails)'!M51","v":0},{"$f":"'RBAMFE Nº4 (Détails)'!S51","v":0},"Vitamine B3 (niacine), mg",null,null,0,10,13,6]
["Folate EFA (mcg)",{"$f":"'RBAMFE Nº1 (Détails)'!C52","v":0},{"$f":"'RBAMFE Nº1 (Détails)'!M52","v":0},{"$f":"'RBAMFE Nº1 (Détails)'!S52","v":0},{"$f":"'RBAMFE Nº2 (Détails)'!C52","v":0},{"$f":"'RBAMFE Nº2 (Détails)'!M52","v":0},{"$f":"'RBAMFE Nº2 (Détails)'!S52","v":0},{"$f":"'RBAMFE Nº3 (Détails)'!C52","v":0},{"$f":"'RBAMFE Nº3 (Détails)'!F52","v":0},{"$f":"'RBAMFE Nº3 (Détails)'!J52","v":0},{"$f":"'RBAMFE Nº4 (Détails)'!C52","v":0},{"$f":"'RBAMFE Nº4 (Détails)'!M52","v":0},{"$f":"'RBAMFE Nº4 (Détails)'!S52","v":0},"Vitamine B9 (folate), mcg",null,null,0,160,330,90]
["Vitamine B12 (mcg)",{"$f":"'RBAMFE Nº1 (Détails)'!C53","v":0},{"$f":"'RBAMFE Nº1 (Détails)'!M53","v":0},{"$f":"'RBAMFE Nº1 (Détails)'!S53","v":0},{"$f":"'RBAMFE Nº2 (Détails)'!C53","v":0},{"$f":"'RBAMFE Nº2 (Détails)'!M53","v":0},{"$f":"'RBAMFE Nº2 (Détails)'!S53","v":0},{"$f":"'RBAMFE Nº3 (Détails)'!C53","v":0},{"$f":"'RBAMFE Nº3 (Détails)'!F53","v":0},{"$f":"'RBAMFE Nº3 (Détails)'!J53","v":0},{"$f":"'RBAMFE Nº4 (Détails)'!C53","v":0},{"$f":"'RBAMFE Nº4 (Détails)'!M53","v":0},{"$f":"'RBAMFE Nº4 (Détails)'!S53","v":0},"Vitamine B12 (cobalamine), mcg",5,null,2,2,2.7,0.9]
["Vitamine C (mg)",{"$f":"'RBAMFE Nº1 (Détails)'!C54","v":0},{"$f":"'RBAMFE Nº1 (Détails)'!M54","v":0},{"$f":"'RBAMFE Nº1 (Détails)'!S54","v":0},{"$f":"'RBAMFE Nº2 (Détails)'!C54","v":0},{"$f":"'RBAMFE Nº2 (Détails)'!M54","v":0},{"$f":"'RBAMFE Nº2 (Détails)'!S54","v":0},{"$f":"'RBAMFE Nº3 (Détails)'!C54","v":0},{"$f":"'RBAMFE Nº3 (Détails)'!F54","v":0},{"$f":"'RBAMFE Nº3 (Détails)'!J54","v":0},{"$f":"'RBAMFE Nº4 (Détails)'!C54","v":0},{"$f":"'RBAMFE Nº4 (Détails)'!M54","v":0},{"$f":"'RBAMFE Nº4 (Détails)'!S54","v":0},"Vitamine C (ascorbate), mg",150,null,91.2,60,80,30]
[null,null,"= >30% Valeur journalière par repas",null,null,"= >30% Valeur journalière par repas",null,null,"= >30% Valeur journalière par repas",null,null,"= >30% Valeur journalière par repas"]
[null,{"$f":"'3B-4B) Calc Nutr (2 à 5 ans)'!C40","v":"RBA Nº1"},null,null,{"$f":"'3B-4B) Calc Nutr (2 à 5 ans)'!D40","v":"RBA Nº2"},null,null,{"$f":"'3B-4B) Calc Nutr (2 à 5 ans)'!E40","v":"RBA Nº3"},null,null,{"$f":"'3B-4B) Calc Nutr (2 à 5 ans)'!F40","v":"RBA Nº4"}]
["Ingrédients : ","Quantité (grammes)",null,null,"Quantité (grammes)",null,null,"Quantité (grammes)",null,null,"Quantité (grammes)"]
[{"$f":"'3B-4B) Calc Nutr (2 à 5 ans)'!B7","v":{"$error":"#VALUE!"}},{"$f":"IF('3B-4B) Calc Nutr (2 à 5 ans)'!C42>0,'3B-4B) Calc Nutr (2 à 5 ans)'!C42,0)","v":0},null,null,{"$f":"IF('3B-4B) Calc Nutr (2 à 5 ans)'!D42>0,'3B-4B) Calc Nutr (2 à 5 ans)'!D42,0)","v":0},null,null,{"$f":"IF('3B-4B) Calc Nutr (2 à 5 ans)'!E42>0,'3B-4B) Calc Nutr (2 à 5 ans)'!E42,0)","v":0},null,null,{"$f":"IF('3B-4B) Calc Nutr (2 à 5 ans)'!F42>0,'3B-4B) Calc Nutr (2 à 5 ans)'!F42,0)","v":0}]
[{"$f":"'3B-4B) Calc Nutr (2 à 5 ans)'!B8","v":0},{"$f":"IF('3B-4B) Calc Nutr (2 à 5 ans)'!C43>0,'3B-4B) Calc Nutr (2 à 5 ans)'!C43,0)","v":0},null,null,{"$f":"IF('3B-4B) Calc Nutr (2 à 5 ans)'!D43>0,'3B-4B) Calc Nutr (2 à 5 ans)'!D43,0)","v":0},null,null,{"$f":"IF('3B-4B) Calc Nutr (2 à 5 ans)'!E43>0,'3B-4B) Calc Nutr (2 à 5 ans)'!E43,0)","v":0},null,null,{"$f":"IF('3B-4B) Calc Nutr (2 à 5 ans)'!F43>0,'3B-4B) Calc Nutr (2 à 5 ans)'!F43,0)","v":0}]
[{"$f":"'3B-4B) Calc Nutr (2 à 5 ans)'!B9","v":0},{"$f":"IF('3B-4B) Calc Nutr (2 à 5 ans)'!C44>0,'3B-4B) Calc Nutr (2 à 5 ans)'!C44,0)","v":0},null,null,{"$f":"IF('3B-4B) Calc Nutr (2 à 5 ans)'!D44>0,'3B-4B) Calc Nutr (2 à 5 ans)'!D44,0)","v":0},null,null,{"$f":"IF('3B-4B) Calc Nutr (2 à 5 ans)'!E44>0,'3B-4B) Calc Nutr (2 à 5 ans)'!E44,0)","v":0},null,null,{"$f":"IF('3B-4B) Calc Nutr (2 à 5 ans)'!F44>0,'3B-4B) Calc Nutr (2 à 5 ans)'!F44,0)","v":0}]
[{"$f":"'3B-4B) Calc Nutr (2 à 5 ans)'!B10","v":0},{"$f":"IF('3B-4B) Calc Nutr (2 à 5 ans)'!C45>0,'3B-4B) Calc Nutr (2 à 5 ans)'!C45,0)","v":0},null,null,{"$f":"IF('3B-4B) Calc Nutr (2 à 5 ans)'!D45>0,'3B-4B) Calc Nutr (2 à 5 ans)'!D45,0)","v":0},null,null,{"$f":"IF('3B-4B) Calc Nutr (2 à 5 ans)'!E45>0,'3B-4B) Calc Nutr (2 à 5 ans)'!E45,0)","v":0},null,null,{"$f":"IF('3B-4B) Calc Nutr (2 à 5 ans)'!F45>0,'3B-4B) Calc Nutr (2 à 5 ans)'!F45,0)","v":0}]
[{"$f":"'3B-4B) Calc Nutr (2 à 5 ans)'!B11","v":0},{"$f":"IF('3B-4B) Calc Nutr (2 à 5 ans)'!C46>0,'3B-4B) Calc Nutr (2 à 5 ans)'!C46,0)","v":0},null,null,{"$f":"IF('3B-4B) Calc Nutr (2 à 5 ans)'!D46>0,'3B-4B) Calc Nutr (2 à 5 ans)'!D46,0)","v":0},null,null,{"$f":"IF('3B-4B) Calc Nutr (2 à 5 ans)'!E46>0,'3B-4B) Calc Nutr (2 à 5 ans)'!E46,0)","v":0},null,null,{"$f":"IF('3B-4B) Calc Nutr (2 à 5 ans)'!F46>0,'3B-4B) Calc Nutr (2 à 5 ans)'!F46,0)","v":0}]
[{"$f":"'3B-4B) Calc Nutr (2 à 5 ans)'!B12","v":0},{"$f":"IF('3B-4B) Calc Nutr (2 à 5 ans)'!C47>0,'3B-4B) Calc Nutr (2 à 5 ans)'!C47,0)","v":0},null,null,{"$f":"IF('3B-4B) Calc Nutr (2 à 5 ans)'!D47>0,'3B-4B) Calc Nutr (2 à 5 ans)'!D47,0)","v":0},null,null,{"$f":"IF('3B-4B) Calc Nutr (2 à 5 ans)'!E47>0,'3B-4B) Calc Nutr (2 à 5 ans)'!E47,0)","v":0},null,null,{"$f":"IF('3B-4B) Calc Nutr (2 à 5 ans)'!F47>0,'3B-4B) Calc Nutr (2 à 5 ans)'!F47,0)","v":0}]
[{"$f":"'3B-4B) Calc Nutr (2 à 5 ans)'!B13","v":0},{"$f":"IF('3B-4B) Calc Nutr (2 à 5 ans)'!C48>0,'3B-4B) Calc Nutr (2 à 5 ans)'!C48,0)","v":0},null,null,{"$f":"IF('3B-4B) Calc Nutr (2 à 5 ans)'!D48>0,'3B-4B) Calc Nutr (2 à 5 ans)'!D48,0)","v":0},null,null,{"$f":"IF('3B-4B) Calc Nutr (2 à 5 ans)'!E48>0,'3B-4B) Calc Nutr (2 à 5 ans)'!E48,0)","v":0},null,null,{"$f":"IF('3B-4B) Calc Nutr (2 à 5 ans)'!F48>0,'3B-4B) Calc Nutr (2 à 5 ans)'!F48,0)","v":0}]
[{"$f":"'3B-4B) Calc Nutr (2 à 5 ans)'!B14","v":0},{"$f":"IF('3B-4B) Calc Nutr (2 à 5 ans)'!C49>0,'3B-4B) Calc Nutr (2 à 5 ans)'!C49,0)","v":0},null,null,{"$f":"IF('3B-4B) Calc Nutr (2 à 5 ans)'!D49>0,'3B-4B) Calc Nutr (2 à 5 ans)'!D49,0)","v":0},null,null,{"$f":"IF('3B-4B) Calc Nutr (2 à 5 ans)'!E49>0,'3B-4B) Calc Nutr (2 à 5 ans)'!E49,0)","v":0},null,null,{"$f":"IF('3B-4B) Calc Nutr (2 à 5 ans)'!F49>0,'3B-4B) Calc Nutr (2 à 5 ans)'!F49,0)","v":0}]
[{"$f":"'3B-4B) Calc Nutr (2 à 5 ans)'!B15","v":0},{"$f":"IF('3B-4B) Calc Nutr (2 à 5 ans)'!C50>0,'3B-4B) Calc Nutr (2 à 5 ans)'!C50,0)","v":0},null,null,{"$f":"IF('3B-4B) Calc Nutr (2 à 5 ans)'!D50>0,'3B-4B) Calc Nutr (2 à 5 ans)'!D50,0)","v":0},null,null,{"$f":"IF('3B-4B) Calc Nutr (2 à 5 ans)'!E50>0,'3B-4B) Calc Nutr (2 à 5 ans)'!E50,0)","v":0},null,null,{"$f":"IF('3B-4B) Calc Nutr (2 à 5 ans)'!F50>0,'3B-4B) Calc Nutr (2 à 5 ans)'!F50,0)","v":0}]
[{"$f":"'3B-4B) Calc Nutr (2 à 5 ans)'!B52","v":"SUCRE AJOUTÉ (g)"},{"$f":"IF('3B-4B) Calc Nutr (2 à 5 ans)'!C51>0,'3B-4B) Calc Nutr (2 à 5 ans)'!C51,0)","v":0},null,null,{"$f":"IF('3B-4B) Calc Nutr (2 à 5 ans)'!D51>0,'3B-4B) Calc Nutr (2 à 5 ans)'!D51,0)","v":0},null,null,{"$f":"IF('3B-4B) Calc Nutr (2 à 5 ans)'!E51>0,'3B-4B) Calc Nutr (2 à 5 ans)'!E51,0)","v":0},null,null,{"$f":"IF('3B-4B) Calc Nutr (2 à 5 ans)'!F51>0,'3B-4B) Calc Nutr (2 à 5 ans)'!F51,0)","v":0}]
[{"$f":"'3B-4B) Calc Nutr (2 à 5 ans)'!B53","v":"SEL AJOUTÉ (g)"},{"$f":"IF('3B-4B) Calc Nutr (2 à 5 ans)'!C52>0,'3B-4B) Calc Nutr (2 à 5 ans)'!C52,0)","v":0},null,null,{"$f":"IF('3B-4B) Calc Nutr (2 à 5 ans)'!D52>0,'3B-4B) Calc Nutr (2 à 5 ans)'!D52,0)","v":0},null,null,{"$f":"IF('3B-4B) Calc Nutr (2 à 5 ans)'!E52>0,'3B-4B) Calc Nutr (2 à 5 ans)'!E52,0)","v":0},null,null,{"$f":"IF('3B-4B) Calc Nutr (2 à 5 ans)'!F52>0,'3B-4B) Calc Nutr (2 à 5 ans)'!F52,0)","v":0}]
[{"$f":"'3B-4B) Calc Nutr (2 à 5 ans)'!B54","v":"Micronutriments en poudre (par 100g)"},{"$f":"IF('3B-4B) Calc Nutr (2 à 5 ans)'!C53>0,'3B-4B) Calc Nutr (2 à 5 ans)'!C53,0)","v":0},null,null,{"$f":"IF('3B-4B) Calc Nutr (2 à 5 ans)'!D53>0,'3B-4B) Calc Nutr (2 à 5 ans)'!D53,0)","v":0},null,null,{"$f":"IF('3B-4B) Calc Nutr (2 à 5 ans)'!E53>0,'3B-4B) Calc Nutr (2 à 5 ans)'!E53,0)","v":0},null,null,{"$f":"IF('3B-4B) Calc Nutr (2 à 5 ans)'!F53>0,'3B-4B) Calc Nutr (2 à 5 ans)'!F53,0)","v":0}]
["TOTAL",{"$f":"SUM(B25:B36)","v":0},"grammes",null,{"$f":"SUM(E25:E36)","v":0},"grammes",null,{"$f":"SUM(H25:H36)","v":0},"grammes",null,{"$f":"SUM(K25:K36)","v":0},"grammes"]

{"sheet":"Aliments courants TCA ","index":10,"n_rows":27,"n_cols":75,"rows_kept":27,"cut":false,"hidden":false,"merged":[]}
[null,"1. Céréales, racines blanches, tubercules, plantains (DAMF)",null,null,null,null,null,null,null,null,null,null,null,null,null,null,null,null,"2. Légumineuses (haricots, pois, lentilles) DAMF",null,null,null,null,null,null,null,null,null,null,null,"3. Fruits à coque et graines (DAMF)",null,null,null,null,"4.1 Lait, produits laitiers (DAMF)",null,null,null,null,"5. Viande, volaille, poisson (DAMF)",null,null,null,null,null,null,null,null,null,null,"6. Œufs (DAMF)","7.1 (FRAIS) Légumes à feuilles foncées (DAMF)",null,null,null,null,null,"7.2 (SÉCHÉ) Légumes à feuilles foncées","8. Fruits et légumes riches en vitamine A (DAMF)",null,null,null,"9. Autres légumes (DAMF)",null,null,null,null,null,"10. Autres fruits (DAMF)"]
[null,"Maïs","Farine de maïs","Fonio","Riz","Farine de riz","Pommes de terre bouillies","Manioc","Manioc, bouilli","Farine de manioc","Plantain ","Plantain, bouilli","Sorgho","Millet","Éleusine","Farine de millet","Teff","Farine de blé entier ","niébé, entier, cru","Haricots rouges","Pois d'Angole","Pois chiches","Farine de pois chiches","Lentilles rouges","Lentilles noires","Haricot mungo","Pois cassés verts (séchés)","Soja","Farine de soja","Noix de bambara","sésame, entier, cru","Pâte de graines de sésame (tahini)","Cacahuètes","beurre de cacahuètes, entier, cru","Graines de citrouille","Lait de vache, entier, cru","Lait en poudre","Lait de chèvre","Lait de bufflonne","Yaourt au lait entier non sucré (vaches)","Poulet","foie de volaille","Bœuf","foie de bœuf","Lapin","Pintade","Viande de chèvre","Agneau","Porc","Tilapia (à la vapeur)","Tilapia (grillé)","œuf de poule, cru","Épinards","Feuilles de citrouille","Feuilles vertes de moutarde","Chou kale (sukuma wiki)","Feuilles d'amarante (épinards africains)","Feuilles de Moringa (fraîches)","Feuilles de moringa séchées (poudre)","Patates douces à chair orange","Carottes","Mangues (mûres)","Papayes (pawpaw) (mûres)","Tomates","Oignons","Poivrons verts","Poivrons rouges","Choux","Okra","Banane","Orange","Citron","Citron vert","Pastèque","Avocats"]
["ESPÈCES","Zea mays","Zea mays","Digitaria exilis","Oryza sativa","Oryza sativa","Solanum tuberosum","Manihot esculenta","Manihot esculenta","Manihot esculenta","Musa paradisica","Musa paradisica","Sorghum bicolor","Pennisetum glaucum",null,null,null,"triticum spp","Vigna unguiculata","Phaseolus vulgaris var. Haricots","Cajanus cajan","Cicer arietinum","Cicer arietinum","Cajanus cajan","Phaseolus mongo","Vigna radiata (L) R Wilczek","Pisum sativum","Glycine max","Glycine max","Vigna subterranea","Sésame spp.","Sésame spp.","Arachis hypogaea","Arachis hypogaea","Curcubita spp.","Bos taurus","Bos taurus","Capra aegagrus hircus",null,"Bos taurus","Gallus gallus domesticus","Gallus gallus domesticus","Bos taurus","Bos taurus","Oryctolagus cuniculus","Numida meleagris","Capra aegagrus hircus","Ovis aries","Sus domesticus","Oreochromis spp./Tilappia spp.","Oreochromis spp./Tilappia spp.","Gallus gallus domesticus","Spinacia oleracea","Cucurbita pepo/Curcurbita maxima","Brassica juncea",null,"Amaranthus spp","Moringa oleifera","Moringa oleifera","Ipomoea batatas","Daucus carota","Mangifera indica","Carica papaya","Solanum lycopersicum","Allium cepa","Capsicum annuum","Capsicum annuum","Brassica oleracea var. capitata","Abelmoschus esculentus","Musa spp","Citrus aurantium","Citrus limon","Citrus aurantiifolia","Citrullus lanatus","Persea americana"]
["FORME","blanc, grains entiers, sec, cru","blanc, farine, tamisé, non enrichi","Fonio, blanc, céréales complètes, cru","blanc, cru","farine de riz, blanc","Pommes de terre bouillies* (sans sel), égouttées","tubercule, chair blanche, cru","Manioc, tubercule, chair blanche, bouilli* (sans sel), égoutté","farine de manioc blanc","mûr, chair ivoire, cru","Plantain, mûr, chair ivoire, bouilli* (sans sel), égoutté","céréales complètes, cru","millet perlé, céréales complètes (avec son), cru","herbacée, céréale ou farine","Farine de millet","cru","farine de blé, blanche, non enrichie","niébé, sec, cru","rouges, secs, crus","pois d'Angole, sec, cru","Gramme du Bengale, entier","Farine de pois chiches (besan)","gramme rouge, entier","gramme noir, entier","Haricot mungo, mûr, entier, trempé dans l'eau, bouilli dans une eau différente, sans sel, égoutté","Pois, vert, mûr, fendu, séché, cru","graines de soja, sèches, crues","Farine, soja, complète","Arachide bambara, sec, cru","Graines de sésame, entières, séchées, crues","Graines, beurre de sésame, tahini, à partir d'amandes grillées et torréfiées (type le plus courant)","Arachide, décortiquée, séchée, crue","beurre de cacahuètes, entier, cru","Graines de citrouille, noyau uniquement, séchées, crues","Lait de vache, entier, cru, 4,5 % de matières grasses","Lait de vache, en poudre, entier, non enrichi","Lait de chèvre frais","lait, entier, de bufflonne","yaourt, nature, au lait de vache entier","Poulet, viande brune avec peau, mijoté* (dans le cadre d'une recette)","Foie de poulet, mijoté* (dans le cadre d'une recette)","Viande de bœuf, modérément grasse, environ 20 % de matières grasses, mijoté* (dans le cadre d'une recette)","Foie de bœuf, mijoté* (dans le cadre d'une recette)","Viande de lapin, mijoté* (dans le cadre d'une recette)","Viande de pintade, mijoté* (dans le cadre d'une recette)","Viande de chèvre, modérément grasse, environ 10 % de matières grasses, mijoté* (dans le cadre d'une recette)","Viande d'agneau/de mouton, modérément grasse, environ 20 % de matières grasses, mijoté* (dans le cadre d'une recette)","Viande de porc, modérément grasse, environ 20 % de matières grasses, mijoté* (dans le cadre d'une recette)","Tilapia, filet, à la vapeur* (sans sel)","Tilapia, filet, grillé* (sans sel ni graisse)","œuf, poulet, cru","Épinards, feuilles, frais, crus","Citrouille, feuilles, fraîche, crue","feuilles de moutarde","Chou kale (sukuma wiki), cru","Amarante, feuilles, fraîche, crue","Moringa (pilon), feuilles, fraîches, crues",null,"patate douce, chair orange, crue","Carotte, crue","Mangue, chair orange, mûre, crue","Papaye, fruit, mûre, crue","Tomate rouge, mûre, crue","Oignon, frais, cru","Poivron, doux, vert, frais, cru","Poivron, doux, rouge, frais, cru","chou, blanc, cru","Okra, fruit, frais, cru","Banane à chair jaune, mûre, crue","Orange, crue","Citron cru","Citron vert, cru","Pastèque, fruit, cru","Avocat, fruit, cru"]
[]
["Énergie (kcal, ou calories)",346,353,334,344,352,79,142,121,341,143,151,345,365,328,382,351,352,325,305,310,287,387,274,291,360,368,381,null,323,601,595,574,593,567,78,493,83,107,82,331,152,336,171,205,152,281,405,425,101,112,150,23,32,30.35,29,40,81,500,91,34,70,59,22,37,34,48,26,34,89,44,36,30,25,156]
["Protéines (g)",9.6999999999999993,8.6999999999999993,7.1,7,6,1.5,1.3,1.1000000000000001,1.6,1.4,1.4,11.5,9.3000000000000007,6.6,10.8,13.3,10.4,22.6,20.5,20.8,18.77,22.4,20.47,21.97,23.2,24.2,31.3,38.6,19.5,16.600000000000001,17,22.4,20.100000000000001,27.7,3.1,25.8,3.9,3.68,2.9,23.8,24.4,26.2,25.7,30.9,30.7,31,25.9,25,21.4,23.6,13.5,2.9,4.0999999999999996,3.52,3,4.0999999999999996,8.4,33.33,1,0.9,0.6,0.4,1.1000000000000001,1.1000000000000001,0.9,2,1.6,1.7,1.3,0.7,0.7,0.7,0.5,1.6]
["Matières grasses totales (g)",3.8,3.3,3.8,0.6,1.4,0.1,0.3,0.3,0.7,0.2,0.2,3.5,5.9,1.3,4.25,2.4,1.8,1.5,2,2.1,5.1100000000000003,6.69,1.38,1.58,1.5,1.4,17,20.7,5.9,54.1,53.8,44.2,48.4,45.4,5,26.8,5.3,6.58,4.7,26.2,5.3,25.7,5.6,9.1,3.2,17.5,33.5,36.200000000000003,1.7,1.9,10.6,0.4,0.2,0.51,0.3,0.4,1.4,33.33,0.2,0.2,0.2,0.1,0.2,0.1,0.4,0.8,0.1,0.2,0.2,0.4,0.6,0.2,0.1,14.8]
["Glucides (g)",62.6,68.599999999999994,59.7,75.900000000000006,77.7,17.399999999999999,31.6,27,79.900000000000006,32.9,34.6,61.1,64.2,null,75.099999999999994,65.099999999999994,72.2,49,40.6,41.6,39.56,57.8,42.48,43.99,54.9,57,14.2,27.9,33.6,4.9000000000000004,21.2,17.399999999999999,15,9,5,37.299999999999997,4.9000000000000004,8.39,7.1,0,1.7,0,4.5,0,0,0,0,0,0,0,0.2,0.7,2.4,2.41,1.2,3,4.5,66.67,19.8,5.5,15.3,13,3.4,7.1,5.6,7.1,3.6,4.2,19.2,8.6999999999999993,5.8,10.5,5,2.1]
["Fibres (g)",11.5,7,16.399999999999999,3.6,2.4,1.7,3.7,3.2,4.3,2.2999999999999998,2.5,11.9,9,13.4,3.5,8,2.8,12.6,21.2,21,25.22,10.8,22.84,20.41,17,14.2,23.4,null,28.9,14.3,9.3000000000000007,8.3000000000000007,8.3000000000000007,6,0,0,0,null,0,0,0,0,0,0,0,0,0,0,0,0,0,2.7,2.2999999999999998,3.92,4.7,3.8,8.1999999999999993,33.33,3,3.2,1.8,2.1,1.4,1.8,2.4,2.5,2.2000000000000002,4.0999999999999996,2.7,1.7,2.5,2.8,0.9,4]
["Sucre (g)",null,null,null,null,null,null,null,null,null,null,null,null,null,null,null,null,null,null,null,null,null,null,null,null,null,null,null,null,null,null,null,null,null,null,null,null,null,null,null,null,null,null,null,null,null,null,null,null,null,null,null,null,null,null,null,null,null,2667]
["Calcium [Ca] (mg)",23,15,40,14,10,5,37,30,66,6,6,26,23,275,14,180,17,82,106,121,150,45,139,86.18,84,41,232,258,53,777,426,45,117,62,191,925,159,4.0000000000000001E-3,123,16,8,20,44,46,35,48,16,15,125,138,57,99,383,191,402,368,595,6,54,36,17,21,14,25,28,22,43,87,9,29,21,26,7,14]
["Fer [Fe] (mg)",3.3,3.2,29.4,1.9,0.4,0.9,1.5,1.2,2,1.1000000000000001,1,6.8,15.2,2.7,3.94,7.6,2,6.2,6.4,4.5,6.78,4.8600000000000003,5.37,5.97,4.2,3.9,7.8,9.51,3.2,11.2,8.9499999999999993,3.5,5.5,8.3000000000000007,0.1,0.8,0.1,0.16,0.1,1.4,12.6,1.8,13.1,2.6,1.7,3.9,3.4,3.1,1.6,1.9,2.2000000000000002,2.7,2.2000000000000002,2.84,2.8,7.2,10.3,233,0.9,0.8,0.7,0.8,0.7,0.7,0.9,2.2000000000000002,1.2,0.8,0.3,0.2,0.6,0.6,0.3,1.3]
["Magnésium [Mg] (mg)",89,90,430,46,35,23,13,10,51,37,35,193,96,27,119,184,20,249,103,191,160,166,155,190,131,86,245,254,174,347,95,200,225,534,13,85,20,10.050000000000001,13,27,24,28,22,42,34,43,33,23,30,35,14,79,142,51.63,41,160,68,null,28,14,9,8,13,12,10,20,9,77,16,11,12,8,9,25]
["Potassium [K] (mg)",316,197,340,181,76,375,167,114,209,499,420,305,332,408,224,427,111,1120,872,1660,935,846,1303,1093,977,1080,1740,1860,1160,458,414,619,630,579,159,1140,185,109,135,254,320,408,212,543,182,511,397,360,229,286,150,558,500,403,238,545,405,null,288,225,194,220,235,162,177,177,313,382,293,162,157,138,109,414]
["Sodium [Na] (mg)",15,4,8,3,0,6,2,1,3,4,3,9,12,11,4,12,4,22,22,3,26.56,64,19.03,26.8,8,12,5,2,2,45,115,6,1,5,45,380,55,30.1,29,104,92,128,100,75,25,178,97,85,63,69,165,79,11,19.14,71,7,9,null,20,35,3,4,13,10,10,10,13,11,2,2,4,2,4,4]
["Zinc [Zn] (mg)",2.2000000000000002,2.0099999999999998,2.79,1.45,0.8,0.33,2.0499999999999998,1.58,0.17,0.14000000000000001,0.13,1.88,2.58,1.2,2.63,3.63,0.5,3.55,2.78,2.4900000000000002,3.37,2.81,2.99,3.05,1.62,3.44,4.7300000000000004,3.75,2.4,2.1,4.62,2.61,2.2400000000000002,8.89,0.32,3.34,0.38,0.3,0.35,2.2599999999999998,4.21,4.78,4.75,2.35,1.97,5.94,3.65,3.2,1.05,1.1499999999999999,1.51,0.53,0.9,0.68,0.5,0.66,1.2,null,0.62,0.25,0.1,0.15,0.22,0.28000000000000003,0.24,0.12,0.16,0.55000000000000004,0.28000000000000003,0.08,0.1,0.1,0.1,0.36]
["Vitamine A EAR (mcg)",0,0,0,0,0,0,2,2,0,63,63,1,0,5,null,0,0,1,1,8,null,2,null,null,8,9,0,null,"tr",1,3,2,0,2,29,329,37,null,26,56,8420,19,23400,7,14,13,22,6,10,11,122,159,112,null,177,225,1640,null,791,637,202,63,44,0,61,104,"tr",43,119,8,1,2,25,2]
["Thiamine [Vit B1] (mg)",0.32,0.32,0.26,0.12,0.14000000000000001,0.06,0.05,0.03,0.09,0.05,0.04,0.35,0.28999999999999998,0.3,0.41299999999999998,0.39,0.21,0.57999999999999996,0.35,0.82,0.37,0.48599999999999999,0.74,0.32,0.27,0.79,0.7,0.36199999999999999,0.19,0.68,1.22,0.87,0.85,0.25,0.04,0.3,7.0000000000000007E-2,0.05,0.03,0.06,0.41,0.09,0.28000000000000003,0.03,0.13,0.22,0.15,0.66,0.02,0.02,0.12,0.08,0.08,0.08,0.11,0.05,0.22,null,0.03,0.04,0.03,0.03,0.06,0.02,0.11,0.11,0.04,0.04,0.03,0.02,0.04,0,0.03,0.05]
["Riboflavine [Vit B2] (mg)",0.09,7.0000000000000007E-2,0.1,0.03,0.02,0.03,0.03,0.02,0.04,0.05,0.05,0.15,0.19,0.1,7.2999999999999995E-2,0.27,0.09,0.15,0.18,0.16,0.24,0.106,0.15,0.11,0.22,0.24,0.28000000000000003,0.36299999999999999,0.14000000000000001,0.19,0.47299999999999998,0.14000000000000001,0.14000000000000001,0.24,0.2,1.2,0.17,0.13,0.16,0.21,2,0.15,2,0.15,0.28999999999999998,0.45,0.28999999999999998,0.15,7.0000000000000007E-2,0.1,0.51,0.19,0.08,0.18,0.13,0.19,0.77,null,0.05,0.05,0.05,0.03,0.04,0.04,0.13,0.16,0.04,0.08,0.03,0.03,0.02,0,0.04,0.15]
["Equiv. Niacine [Vit B3] (mg)",3.1,2.2999999999999998,3.3,3.3,3.8,1.4,0.8,0.6,1.5,1,0.8,5.4,3.8,0.8,6.02,3.4,4.3,5.5,2.4,5.5,2.1,1.76,2.42,1.85,1.6,3.2,11,2.74,4.0999999999999996,7.6,5.45,19,15,12,1,6.8,1.1000000000000001,7.0000000000000007E-2,0.8,10,15,9.6999999999999993,22,14,13,13,9.6999999999999993,11,5.9,7.3,3.6,1.4,1.8,0.57999999999999996,1,1.4,2.6,null,1.3,0.7,0.5,0.4,0.7,0.4,0.8,2.5,0.6,1.2,0.9,0.3,0.3,0.2,0.2,2.1]
["Folate EFA (mcg)",71,29,120,16,4,6,24,13,100,22,15,64,160,10,42,166,240,420,272,340,233,437,229,134,340,230,380,null,100,100,98,110,110,58,6,37,1,8.57,7,7,1000,11,250,2,5,4,13,9,4,5,83,190,36,110,62,76,40,null,11,17,40,37,23,17,24,24,15,88,19,37,17,8,8,22]
["Vitamine B12 (mcg)",0,0,0,0,0,0,0,0,0,0,0,0,0,0,null,0,0,0,0,0,null,0,null,null,0,0,0,null,0,0,0,0,0,0,0.4,1.8,0.1,null,0.4,0.28999999999999998,26,1.1000000000000001,130,5.4,0.37,2.1,3.2,0.49,1.4,1.7,1.4,0,0,null,0,0,0,null,0,0,0,0,0,0,0,0,0,0,0,0,0,0,0,0]
["Vitamine C (mg)",2,0,0,0,0,10,30,18,1,20,15,0,0,0,0,3,0,1,0.3,1,null,0,null,null,2,3.9,"tr",null,"tr",0,0,1,0,2,1,13,1,null,1,0,23,0,24,0,2,1,0,0,0,0,0,28,11,null,134,67,221,40,31,7,35,52,28,11,140,190,54,28,10,46,43,29.1,6,18]
[]
["LIEN SOURCE","WAFCT 2019 03 NV_sum_39","WAFCT 2019 03 NV_sum_39","WAFCT 2019 03 NV_sum_39","WAFCT 2019 03 NV_sum_39","WAFCT 2019 03 NV_sum_39","WAFCT 2019 03 NV_sum_39","WAFCT 2019 03 NV_sum_39","WAFCT 2019 03 NV_sum_39","WAFCT 2019 03 NV_sum_39","WAFCT 2019 03 NV_sum_39","WAFCT 2019 03 NV_sum_39","WAFCT 2019 03 NV_sum_39","WAFCT 2019 03 NV_sum_39","Table de composition des aliments en Tanzanie 2008","https://fdc.nal.usda.gov/fdc-app.html#/food-details/172023/nutrients","Table de composition des aliments au Kenya 2018","WAFCT 2019 03 NV_sum_39","WAFCT 2019 03 NV_sum_39","Table de composition des aliments au Kenya 2018","WAFCT 2019 03 NV_sum_39","http://www.ifct2017.com/frame.php?page=home","https://fdc.nal.usda.gov/fdc-app.html#/food-details/174288/nutrients ","http://www.ifct2017.com/frame.php?page=home","http://www.ifct2017.com/frame.php?page=home","Base de données mondiale FAO/INFOODS pour les légumineuses sur la base de la matière sèche - version 1.0 (PulsesDM1.0) - 2017","Base de données mondiale FAO/INFOODS pour les légumineuses sur la base de la matière sèche - version 1.0 (PulsesDM1.0) - 2017","WAFCT 2019 03 NV_sum_39","https://fdc.nal.usda.gov/fdc-app.html#/food-details/1104766/nutrients","WAFCT 2019 03 NV_sum_39","WAFCT 2019 03 NV_sum_39","https://fdc.nal.usda.gov/fdc-app.html#/food-details/170189/nutrients","WAFCT 2019 03 NV_sum_39","Table de composition des aliments au Kenya 2018","WAFCT 2019 03 NV_sum_39","WAFCT 2019 03 NV_sum_39","WAFCT 2019 03 NV_sum_39","WAFCT 2019 03 NV_sum_39","http://www.ifct2017.com/frame.php?page=home","WAFCT 2019 03 NV_sum_39","WAFCT 2019 03 NV_sum_39","WAFCT 2019 03 NV_sum_39","WAFCT 2019 03 NV_sum_39","WAFCT 2019 03 NV_sum_39","WAFCT 2019 03 NV_sum_39","WAFCT 2019 03 NV_sum_39","WAFCT 2019 03 NV_sum_39","WAFCT 2019 03 NV_sum_39","WAFCT 2019 03 NV_sum_39","WAFCT 2019 03 NV_sum_39","WAFCT 2019 03 NV_sum_39","WAFCT 2019 03 NV_sum_39","WAFCT 2019 03 NV_sum_39","WAFCT 2019 03 NV_sum_39","http://www.ifct2017.com/frame.php?page=home","Table de composition des aliments au Kenya 2018","WAFCT 2019 03 NV_sum_39","WAFCT 2019 03 NV_sum_39","https://fdc.nal.usda.gov/fdc-app.html#/food-details/589814/nutrients","WAFCT 2019 03 NV_sum_39","WAFCT 2019 03 NV_sum_39","WAFCT 2019 03 NV_sum_39","WAFCT 2019 03 NV_sum_39","WAFCT 2019 03 NV_sum_39","WAFCT 2019 03 NV_sum_39","WAFCT 2019 03 NV_sum_39","WAFCT 2019 03 NV_sum_39","WAFCT 2019 03 NV_sum_39","WAFCT 2019 03 NV_sum_39","WAFCT 2019 03 NV_sum_39","WAFCT 2019 03 NV_sum_39","WAFCT 2019 03 NV_sum_39","Table de composition des aliments en Tanzanie 2008","WAFCT 2019 03 NV_sum_39","WAFCT 2019 03 NV_sum_39"]
["REMARQUES"]

{"sheet":"RBAMFE Nº1 (Détails)","index":11,"n_rows":96,"n_cols":19,"rows_kept":96,"cut":false,"hidden":true,"merged":[[33,1,33,2],[62,11,62,12],[63,11,63,12]]}
[{"$f":"_xlfn.CONCAT(#REF!,\" Nutrition Composition\")","v":{"$error":"#REF!"}}]
["Poids =",{"$f":"#REF!","v":{"$error":"#REF!"}}]
["Nutriments \n(avant et après la cuisson)","Énergie\n(kcal, ou calories)","Protéines (g)","Matières grasses totales (g)","Graisses saturées (g)","Acides gras monoinsaturés (g)","Acides gras polyinsaturés (g)","Glucides (g)","Fibres (g)","Sucre (g)","Calcium [Ca] (mg)","Fer [Fe] (mg)","Magnésium [Mg] (mg)","Phosphore [P] (mg)","Potassium [K] (mg)",null,null,"Sodium [Na] (mg)","Zinc [Zn] (mg)"]
["RBA crue Ingrédients",{"$f":"((#REF!/100)*#REF!)+((#REF!/100)*#REF!)+((#REF!/100)*#REF!)+((#REF!/100)*#REF!)+((#REF!/100)*#REF!)+((#REF!/100)*#REF!)+((#REF!/100)*#REF!)+((#REF!/100)*#REF!)+((#REF!/100)*#REF!)+((#REF!/100)*#REF!)+((#REF!/100)*#REF!)+((#REF!/100)*#REF!)","v":{"$error":"#REF!"}},{"$f":"((#REF!/100)*#REF!)+((#REF!/100)*#REF!)+((#REF!/100)*#REF!)+((#REF!/100)*#REF!)+((#REF!/100)*#REF!)+((#REF!/100)*#REF!)+((#REF!/100)*#REF!)+((#REF!/100)*#REF!)+((#REF!/100)*#REF!)+((#REF!/100)*#REF!)+((#REF!/100)*#REF!)+((#REF!/100)*#REF!)","v":{"$error":"#REF!"}},{"$f":"((#REF!/100)*#REF!)+((#REF!/100)*#REF!)+((#REF!/100)*#REF!)+((#REF!/100)*#REF!)+((#REF!/100)*#REF!)+((#REF!/100)*#REF!)+((#REF!/100)*#REF!)+((#REF!/100)*#REF!)+((#REF!/100)*#REF!)+((#REF!/100)*#REF!)+((#REF!/100)*#REF!)+((#REF!/100)*#REF!)","v":{"$error":"#REF!"}},{"$f":"((#REF!/100)*#REF!)+((#REF!/100)*#REF!)+((#REF!/100)*#REF!)+((#REF!/100)*#REF!)+((#REF!/100)*#REF!)+((#REF!/100)*#REF!)+((#REF!/100)*#REF!)+((#REF!/100)*#REF!)+((#REF!/100)*#REF!)+((#REF!/100)*#REF!)+((#REF!/100)*#REF!)+((#REF!/100)*#REF!)","v":{"$error":"#REF!"}},{"$f":"((#REF!/100)*#REF!)+((#REF!/100)*#REF!)+((#REF!/100)*#REF!)+((#REF!/100)*#REF!)+((#REF!/100)*#REF!)+((#REF!/100)*#REF!)+((#REF!/100)*#REF!)+((#REF!/100)*#REF!)+((#REF!/100)*#REF!)+((#REF!/100)*#REF!)+((#REF!/100)*#REF!)+((#REF!/100)*#REF!)","v":{"$error":"#REF!"}},{"$f":"((#REF!/100)*#REF!)+((#REF!/100)*#REF!)+((#REF!/100)*#REF!)+((#REF!/100)*#REF!)+((#REF!/100)*#REF!)+((#REF!/100)*#REF!)+((#REF!/100)*#REF!)+((#REF!/100)*#REF!)+((#REF!/100)*#REF!)+((#REF!/100)*#REF!)+((#REF!/100)*#REF!)+((#REF!/100)*#REF!)","v":{"$error":"#REF!"}},{"$f":"((#REF!/100)*#REF!)+((#REF!/100)*#REF!)+((#REF!/100)*#REF!)+((#REF!/100)*#REF!)+((#REF!/100)*#REF!)+((#REF!/100)*#REF!)+((#REF!/100)*#REF!)+((#REF!/100)*#REF!)+((#REF!/100)*#REF!)+((#REF!/100)*#REF!)+((#REF!/100)*#REF!)+((#REF!/100)*#REF!)","v":{"$error":"#REF!"}},{"$f":"((#REF!/100)*#REF!)+((#REF!/100)*#REF!)+((#REF!/100)*#REF!)+((#REF!/100)*#REF!)+((#REF!/100)*#REF!)+((#REF!/100)*#REF!)+((#REF!/100)*#REF!)+((#REF!/100)*#REF!)+((#REF!/100)*#REF!)+((#REF!/100)*#REF!)+((#REF!/100)*#REF!)+((#REF!/100)*#REF!)","v":{"$error":"#REF!"}},{"$f":"((#REF!/100)*#REF!)+((#REF!/100)*#REF!)+((#REF!/100)*#REF!)+((#REF!/100)*#REF!)+((#REF!/100)*#REF!)+((#REF!/100)*#REF!)+((#REF!/100)*#REF!)+((#REF!/100)*#REF!)+((#REF!/100)*#REF!)+((#REF!/100)*#REF!)+((#REF!/100)*#REF!)+((#REF!/100)*#REF!)","v":{"$error":"#REF!"}},{"$f":"((#REF!/100)*#REF!)+((#REF!/100)*#REF!)+((#REF!/100)*#REF!)+((#REF!/100)*#REF!)+((#REF!/100)*#REF!)+((#REF!/100)*#REF!)+((#REF!/100)*#REF!)+((#REF!/100)*#REF!)+((#REF!/100)*#REF!)+((#REF!/100)*#REF!)+((#REF!/100)*#REF!)+((#REF!/100)*#REF!)","v":{"$error":"#REF!"}},0.11,{"$f":"((#REF!/100)*#REF!)+((#REF!/100)*#REF!)+((#REF!/100)*#REF!)+((#REF!/100)*#REF!)+((#REF!/100)*#REF!)+((#REF!/100)*#REF!)+((#REF!/100)*#REF!)+((#REF!/100)*#REF!)+((#REF!/100)*#REF!)+((#REF!/100)*#REF!)+((#REF!/100)*#REF!)+((#REF!/100)*#REF!)","v":{"$error":"#REF!"}},{"$f":"((#REF!/100)*#REF!)+((#REF!/100)*#REF!)+((#REF!/100)*#REF!)+((#REF!/100)*#REF!)+((#REF!/100)*#REF!)+((#REF!/100)*#REF!)+((#REF!/100)*#REF!)+((#REF!/100)*#REF!)+((#REF!/100)*#REF!)+((#REF!/100)*#REF!)+((#REF!/100)*#REF!)+((#REF!/100)*#REF!)","v":{"$error":"#REF!"}},{"$f":"((#REF!/100)*#REF!)+((#REF!/100)*#REF!)+((#REF!/100)*#REF!)+((#REF!/100)*#REF!)+((#REF!/100)*#REF!)+((#REF!/100)*#REF!)+((#REF!/100)*#REF!)+((#REF!/100)*#REF!)+((#REF!/100)*#REF!)+((#REF!/100)*#REF!)+((#REF!/100)*#REF!)+((#REF!/100)*#REF!)","v":{"$error":"#REF!"}},null,null,{"$f":"((#REF!/100)*#REF!)+((#REF!/100)*#REF!)+((#REF!/100)*#REF!)+((#REF!/100)*#REF!)+((#REF!/100)*#REF!)+((#REF!/100)*#REF!)+((#REF!/100)*#REF!)+((#REF!/100)*#REF!)+((#REF!/100)*#REF!)+((#REF!/100)*#REF!)+((#REF!/100)*#REF!)+((#REF!/100)*#REF!)","v":{"$error":"#REF!"}},{"$f":"((#REF!/100)*#REF!)+((#REF!/100)*#REF!)+((#REF!/100)*#REF!)+((#REF!/100)*#REF!)+((#REF!/100)*#REF!)+((#REF!/100)*#REF!)+((#REF!/100)*#REF!)+((#REF!/100)*#REF!)+((#REF!/100)*#REF!)+((#REF!/100)*#REF!)+((#REF!/100)*#REF!)+((#REF!/100)*#REF!)","v":{"$error":"#REF!"}}]
["RBA cuite (+ facteur de rétention)",{"$f":"B4","v":{"$error":"#REF!"}},{"$error":"#REF!"},{"$error":"#REF!"},{"$error":"#REF!"},{"$error":"#REF!"},{"$error":"#REF!"},{"$error":"#REF!"},{"$error":"#REF!"},{"$error":"#REF!"},{"$error":"#REF!"},0.11,{"$error":"#REF!"},{"$error":"#REF!"},{"$error":"#REF!"},null,null,{"$f":"R4","v":{"$error":"#REF!"}},{"$error":"#REF!"}]
[]
["Valeurs nutritives journalières pour \nsélectionner des populations","Énergie\n(kcal, ou calories)","Protéines (g)","Matières grasses totales (g)","Graisses saturées (g)","Acides gras monoinsaturés (g)","Acides gras polyinsaturés (g)","Glucides (g)","Fibres (g)","Sucre (g)","Calcium [Ca] (mg)","Fer [Fe] (mg)","Magnésium [Mg] (mg)","Phosphore [P] (mg)","Potassium [K] (mg)",null,null,"Sodium [Na] (mg)","Zinc [Zn] (mg)"]
["Hommes, adultes, AJR (régime de 2 000 calories)",2400,{"$f":"(B8*0.15)/4","v":90},{"$f":"(B8*0.35)/9","v":93.333333333333329},{"$f":"(B8*0.1)/9","v":26.666666666666668},{"$f":"((D8-E8)*0.6)","v":39.999999999999993},{"$f":"((D8-E8)*0.4)","v":26.666666666666664},{"$f":"(B8*0.5)/4","v":300},38,36,1000,8,420,1250,3400,null,null,2000,11]
["Hommes, adultes, % Valeur journalière",{"$f":"B$5/B8","v":{"$error":"#REF!"}},{"$error":"#REF!"},{"$error":"#REF!"},{"$error":"#REF!"},{"$error":"#REF!"},{"$error":"#REF!"},{"$error":"#REF!"},{"$error":"#REF!"},{"$error":"#REF!"},{"$error":"#REF!"},1.375E-2,{"$error":"#REF!"},{"$error":"#REF!"},{"$error":"#REF!"},null,null,{"$f":"R$5/R8","v":{"$error":"#REF!"}},{"$error":"#REF!"}]
[null,"Énergie\n(kcal, ou calories)","Protéines (g)","Matières grasses totales (g)","Graisses saturées (g)","Acides gras monoinsaturés (g)","Acides gras polyinsaturés (g)","Glucides (g)","Fibres (g)","Sucre (g)","Calcium [Ca] (mg)","Fer [Fe] (mg)","Magnésium [Mg] (mg)","Phosphore [P] (mg)","Potassium [K] (mg)",null,null,"Sodium [Na] (mg)","Zinc [Zn] (mg)"]
["Femmes, adultes, AJR (régime de 2 000 calories)",2000,{"$f":"(B11*0.15)/4","v":75},{"$f":"(B11*0.35)/9","v":77.777777777777771},{"$f":"(B11*0.1)/9","v":22.222222222222221},{"$f":"((D11-E11)*0.6)","v":33.333333333333329},{"$f":"((D11-E11)*0.4)","v":22.222222222222221},{"$f":"(B11*0.5)/4","v":250},25,25,1000,18,320,1250,2600,null,null,2000,8]
["Femmes, adultes, % Valeur journalière",{"$f":"B$5/B11","v":{"$error":"#REF!"}},{"$error":"#REF!"},{"$error":"#REF!"},{"$error":"#REF!"},{"$error":"#REF!"},{"$error":"#REF!"},{"$error":"#REF!"},{"$error":"#REF!"},{"$error":"#REF!"},{"$error":"#REF!"},6.1111111111111114E-3,{"$error":"#REF!"},{"$error":"#REF!"},{"$error":"#REF!"},null,null,{"$f":"R$5/R11","v":{"$error":"#REF!"}},{"$error":"#REF!"}]
[null,"Énergie\n(kcal, ou calories)","Protéines (g)","Matières grasses totales (g)","Graisses saturées (g)","Acides gras monoinsaturés (g)","Acides gras polyinsaturés (g)","Glucides (g)","Fibres (g)","Sucre (g)","Calcium [Ca] (mg)","Fer [Fe] (mg)","Magnésium [Mg] (mg)","Phosphore [P] (mg)","Potassium [K] (mg)",null,null,"Sodium [Na] (mg)","Zinc [Zn] (mg)"]
["FEA, Adultes, AJR",2200,{"$f":"(B14*0.15)/4","v":82.5},{"$f":"(B14*0.35)/9","v":85.555555555555557},{"$f":"(B14*0.1)/9","v":24.444444444444443},{"$f":"((D14-E14)*0.6)","v":36.666666666666664},{"$f":"((D14-E14)*0.4)","v":24.444444444444446},{"$f":"(B14*0.5)/4","v":275},29,28,1000,27,350,700,2900,null,null,2000,11]
["FEA, Adultes, % Valeur journalière",{"$f":"B$5/B14","v":{"$error":"#REF!"}},{"$error":"#REF!"},{"$error":"#REF!"},{"$error":"#REF!"},{"$error":"#REF!"},{"$error":"#REF!"},{"$error":"#REF!"},{"$error":"#REF!"},{"$error":"#REF!"},{"$error":"#REF!"},4.0740740740740737E-3,{"$error":"#REF!"},{"$error":"#REF!"},{"$error":"#REF!"},null,null,{"$f":"R$5/R14","v":{"$error":"#REF!"}},{"$error":"#REF!"}]
[null,"Énergie\n(kcal, ou calories)","Protéines (g)","Matières grasses totales (g)","Graisses saturées (g)","Acides gras monoinsaturés (g)","Acides gras polyinsaturés (g)","Glucides (g)","Fibres (g)","Sucre (g)","Calcium [Ca] (mg)","Fer [Fe] (mg)","Magnésium [Mg] (mg)","Phosphore [P] (mg)","Potassium [K] (mg)",null,null,"Sodium [Na] (mg)","Zinc [Zn] (mg)"]
["Adolescents (14 à 18 ans), AJR",2000,{"$f":"(B17*0.15)/4","v":75},{"$f":"(B17*0.35)/9","v":77.777777777777771},{"$f":"(B17*0.1)/9","v":22.222222222222221},{"$f":"((D17-E17)*0.6)","v":33.333333333333329},{"$f":"((D17-E17)*0.4)","v":22.222222222222221},{"$f":"(B17*0.5)/4","v":250},26,25,1300,13,380,1250,2600,null,null,2000,10]
["Adolescents (14 à 18 ans), % Valeur journalière",{"$f":"B$5/B17","v":{"$error":"#REF!"}},{"$error":"#REF!"},{"$error":"#REF!"},{"$error":"#REF!"},{"$error":"#REF!"},{"$error":"#REF!"},{"$error":"#REF!"},{"$error":"#REF!"},{"$error":"#REF!"},{"$error":"#REF!"},8.4615384615384613E-3,{"$error":"#REF!"},{"$error":"#REF!"},{"$error":"#REF!"},null,null,{"$f":"R$5/R17","v":{"$error":"#REF!"}},{"$error":"#REF!"}]
[null,"Énergie\n(kcal, ou calories)","Protéines (g)","Matières grasses totales (g)","Graisses saturées (g)","Acides gras monoinsaturés (g)","Acides gras polyinsaturés (g)","Glucides (g)","Fibres (g)","Sucre (g)","Calcium [Ca] (mg)","Fer [Fe] (mg)","Magnésium [Mg] (mg)","Phosphore [P] (mg)","Potassium [K] (mg)",null,null,"Sodium [Na] (mg)","Zinc [Zn] (mg)"]
["Enfants (4 à 8 ans), AJR",1400,{"$f":"(B20*0.15)/4","v":52.5},{"$f":"(B20*0.35)/9","v":54.444444444444436},{"$f":"(B20*0.1)/9","v":15.555555555555555},{"$f":"((D20-E20)*0.6)","v":23.333333333333325},{"$f":"((D20-E20)*0.4)","v":15.555555555555552},{"$f":"(B20*0.5)/4","v":175},25,20,1000,10,130,500,2300,null,null,1200,5]
["Enfants (4 à 8 ans), % Valeur journalière",{"$f":"B$5/B20","v":{"$error":"#REF!"}},{"$error":"#REF!"},{"$error":"#REF!"},{"$error":"#REF!"},{"$error":"#REF!"},{"$error":"#REF!"},{"$error":"#REF!"},{"$error":"#REF!"},{"$error":"#REF!"},{"$error":"#REF!"},1.0999999999999999E-2,{"$error":"#REF!"},{"$error":"#REF!"},{"$error":"#REF!"},null,null,{"$f":"R$5/R20","v":{"$error":"#REF!"}},{"$error":"#REF!"}]
[null,"Énergie\n(kcal, ou calories)","Protéines (g)","Matières grasses totales (g)","Graisses saturées (g)","Acides gras monoinsaturés (g)","Acides gras polyinsaturés (g)","Glucides (g)","Fibres (g)","Sucre (g)","Calcium [Ca] (mg)","Fer [Fe] (mg)","Magnésium [Mg] (mg)","Phosphore [P] (mg)","Potassium [K] (mg)",null,null,"Sodium [Na] (mg)","Zinc [Zn] (mg)"]
["Enfants (1 à 3 ans), AJR",1200,{"$f":"(B23*0.15)/4","v":45},{"$f":"(B23*0.35)/9","v":46.666666666666664},{"$f":"(B23*0.1)/9","v":13.333333333333334},{"$f":"((D23-E23)*0.6)","v":19.999999999999996},{"$f":"((D23-E23)*0.4)","v":13.333333333333332},{"$f":"(B23*0.5)/4","v":150},19,{"$f":"(B23*0.06)/4","v":18},700,7,80,460,2000,null,null,800,3]
["Enfants (1 à 3 ans), % Valeur journalière",{"$f":"B$5/B23","v":{"$error":"#REF!"}},{"$error":"#REF!"},{"$error":"#REF!"},{"$error":"#REF!"},{"$error":"#REF!"},{"$error":"#REF!"},{"$error":"#REF!"},{"$error":"#REF!"},{"$error":"#REF!"},{"$error":"#REF!"},1.5714285714285715E-2,{"$error":"#REF!"},{"$error":"#REF!"},{"$error":"#REF!"},null,null,{"$f":"R$5/R23","v":{"$error":"#REF!"}},{"$error":"#REF!"}]
[null,"Énergie\n(kcal, ou calories)","Protéines (g)","Matières grasses totales (g)","Graisses saturées (g)","Acides gras monoinsaturés (g)","Acides gras polyinsaturés (g)","Glucides (g)","Fibres (g)","Sucre (g)","Calcium [Ca] (mg)","Fer [Fe] (mg)","Magnésium [Mg] (mg)","Phosphore [P] (mg)","Potassium [K] (mg)",null,null,"Sodium [Na] (mg)","Zinc [Zn] (mg)"]
["Nourrisson (6 à 12 mois), AJR",1000,{"$f":"(B26*0.15)/4","v":37.5},{"$f":"(B26*0.35)/9","v":38.888888888888886},"NA","NA","NA",{"$f":"(B26*0.5)/4","v":125},"NA","NA",260,11,75,275,860,null,null,400,3]
["Nourrisson (6 à 12 mois), % Valeur journalière",{"$f":"B$5/B26","v":{"$error":"#REF!"}},{"$error":"#REF!"},{"$error":"#REF!"},"na","na","na",{"$f":"H$5/H26","v":{"$error":"#REF!"}},"na","na",{"$f":"K$5/K26","v":{"$error":"#REF!"}},0.01,{"$error":"#REF!"},{"$error":"#REF!"},{"$error":"#REF!"},null,null,{"$f":"R$5/R26","v":{"$error":"#REF!"}},{"$error":"#REF!"}]
[null,null,null,null,"> 25 % valeur journalière",null,null,"> 30 % Valeur journalière, nutriment à limiter (graisses saturées, sucre, sodium)"]
["Facteurs de durabilité\n(en fonction de la Phase 2)","Rendement des cultures","Rentabilité","Facilité de transformation","Abordabilité","Accessibilité","Sécurité","Facilité de production","Préférence des consommateurs","Charge de travail des femmes","Résistance à la sécheresse","Tolérance à la chaleur","Intrants agrochimiques"]
[]
["Note annuelle de saisonnalité \n(en fonction de la Phase 3)"]
[]
[{"$f":"_xlfn.CONCAT('3B-4B) CalcNutr (6-11)'!C40,\" - Summary Dashboard\")","v":"RBA Nº1 - Summary Dashboard"}]
["Composition des nutriments",null,null,"Valeurs nutritionnelles journalières pour certaines populations","% Valeur journalière (VJ) des nutriments pour certaines populations                ",null,null,null,null,null,null,{"$f":"L33","v":0},null,{"$f":"N33","v":0},0,null,null,{"$f":"R33","v":0},0]
["Nutriments","RBA crue / Ingrédients MFE","RBA cuite / MFE (avec facteur de rétention)","Hommes, adultes, AJR (régime de 2 000 calories)","Hommes, adultes, % VJ","Femmes, adultes, AJR (régime de 2 000 calories)","Femmes, adultes, % VJ","FEA, Adultes, AJR","FEA, Adultes, % VJ","Adolescents (14 à 18 ans), AJR","Adolescents (14 à 18 ans), % VJ","Enfants (2 à 5 ans), OMS","Enfants (2 à 5 ans), % VJ","Enfants (1 à 3 ans), AJR","Enfants (2 à 3 ans), % VJ","Nourrisson (12 à 24 mois), % AJR","Nourrisson (12 à 24 mois), % VJ","Nourrisson (6 à 12 mois), AJR","Nourrissons (6 à 12 mois), % VJ"]
["Énergie (kcal, ou calories)",{"$f":"SUM(('3B-4B) CalcNutr (6-11)'!C19/100)*('3B-4B) CalcNutr (6-11)'!C$42),SUM('3B-4B) CalcNutr (6-11)'!D19/100)*('3B-4B) CalcNutr (6-11)'!C$43),SUM('3B-4B) CalcNutr (6-11)'!E19/100)*('3B-4B) CalcNutr (6-11)'!C$44),SUM('3B-4B) CalcNutr (6-11)'!F19/100)*('3B-4B) CalcNutr (6-11)'!C$45),SUM('3B-4B) CalcNutr (6-11)'!G19/100)*('3B-4B) CalcNutr (6-11)'!C$46),SUM('3B-4B) CalcNutr (6-11)'!H19/100)*('3B-4B) CalcNutr (6-11)'!C$47),SUM('3B-4B) CalcNutr (6-11)'!I19/100)*('3B-4B) CalcNutr (6-11)'!C$48),SUM('3B-4B) CalcNutr (6-11)'!J19/100)*('3B-4B) CalcNutr (6-11)'!C$49),SUM('3B-4B) CalcNutr (6-11)'!K19/100)*('3B-4B) CalcNutr (6-11)'!C$50),SUM('3B-4B) CalcNutr (6-11)'!L19/100)*('3B-4B) CalcNutr (6-11)'!C$51),SUM('3B-4B) CalcNutr (6-11)'!M19/100)*('3B-4B) CalcNutr (6-11)'!C52),SUM('3B-4B) CalcNutr (6-11)'!N19/100)*('3B-4B) CalcNutr (6-11)'!C53),SUM('3B-4B) CalcNutr (6-11)'!O19/100)*('3B-4B) CalcNutr (6-11)'!C54))","v":0},{"$f":"B36","v":0},2400,{"$f":"$C36/D36","v":0},2000,{"$f":"$C36/F36","v":0},2200,{"$f":"$C36/H36","v":0},2000,{"$f":"$C36/J36","v":0},1100,{"$f":"$C36/L36","v":0},1200,{"$f":"$C36/N36","v":0},1000,{"$f":"$C36/P36","v":0},800,{"$f":"$C36/R36","v":0}]
["Protéines (g)",{"$f":"SUM(('3B-4B) CalcNutr (6-11)'!C20/100)*('3B-4B) CalcNutr (6-11)'!C$42),SUM('3B-4B) CalcNutr (6-11)'!D20/100)*('3B-4B) CalcNutr (6-11)'!C$43),SUM('3B-4B) CalcNutr (6-11)'!E20/100)*('3B-4B) CalcNutr (6-11)'!C$44),SUM('3B-4B) CalcNutr (6-11)'!F20/100)*('3B-4B) CalcNutr (6-11)'!C$45),SUM('3B-4B) CalcNutr (6-11)'!G20/100)*('3B-4B) CalcNutr (6-11)'!C$46),SUM('3B-4B) CalcNutr (6-11)'!H20/100)*('3B-4B) CalcNutr (6-11)'!C$47),SUM('3B-4B) CalcNutr (6-11)'!I20/100)*('3B-4B) CalcNutr (6-11)'!C$48),SUM('3B-4B) CalcNutr (6-11)'!J20/100)*('3B-4B) CalcNutr (6-11)'!C$49),SUM('3B-4B) CalcNutr (6-11)'!K20/100)*('3B-4B) CalcNutr (6-11)'!C$50),SUM('3B-4B) CalcNutr (6-11)'!L20/100)*('3B-4B) CalcNutr (6-11)'!C$51),SUM('3B-4B) CalcNutr (6-11)'!M20/100)*('3B-4B) CalcNutr (6-11)'!C52),SUM('3B-4B) CalcNutr (6-11)'!N20/100)*('3B-4B) CalcNutr (6-11)'!C53),SUM('3B-4B) CalcNutr (6-11)'!O20/100)*('3B-4B) CalcNutr (6-11)'!C54))","v":0},0,{"$f":"(D36*0.15)/4","v":90},0,75,0,{"$f":"(H36*0.15)/4","v":82.5},0,{"$f":"(J36*0.15)/4","v":75},0,{"$f":"(L36*0.15)/4","v":41.25},{"$f":"$C37/L37","v":0},{"$f":"(N36*0.15)/4","v":45},0,{"$f":"(P36*0.15)/4","v":37.5},0,{"$f":"(R36*0.15)/4","v":30},0]
["Matières grasses totales (g)",{"$f":"SUM(('3B-4B) CalcNutr (6-11)'!C21/100)*('3B-4B) CalcNutr (6-11)'!C$42),SUM('3B-4B) CalcNutr (6-11)'!D21/100)*('3B-4B) CalcNutr (6-11)'!C$43),SUM('3B-4B) CalcNutr (6-11)'!E21/100)*('3B-4B) CalcNutr (6-11)'!C$44),SUM('3B-4B) CalcNutr (6-11)'!F21/100)*('3B-4B) CalcNutr (6-11)'!C$45),SUM('3B-4B) CalcNutr (6-11)'!G21/100)*('3B-4B) CalcNutr (6-11)'!C$46),SUM('3B-4B) CalcNutr (6-11)'!H21/100)*('3B-4B) CalcNutr (6-11)'!C$47),SUM('3B-4B) CalcNutr (6-11)'!I21/100)*('3B-4B) CalcNutr (6-11)'!C$48),SUM('3B-4B) CalcNutr (6-11)'!J21/100)*('3B-4B) CalcNutr (6-11)'!C$49),SUM('3B-4B) CalcNutr (6-11)'!K21/100)*('3B-4B) CalcNutr (6-11)'!C$50),SUM('3B-4B) CalcNutr (6-11)'!L21/100)*('3B-4B) CalcNutr (6-11)'!C$51),SUM('3B-4B) CalcNutr (6-11)'!M21/100)*('3B-4B) CalcNutr (6-11)'!C52),SUM('3B-4B) CalcNutr (6-11)'!N21/100)*('3B-4B) CalcNutr (6-11)'!C53),SUM('3B-4B) CalcNutr (6-11)'!O21/100)*('3B-4B) CalcNutr (6-11)'!C54))","v":0},0,{"$f":"(D36*0.35)/9","v":93.333333333333329},0,77.777777777777771,0,{"$f":"(H36*0.35)/9","v":85.555555555555557},0,{"$f":"(J36*0.35)/9","v":77.777777777777771},0,{"$f":"(L36*0.35)/9","v":42.777777777777779},0,{"$f":"(N36*0.35)/9","v":46.666666666666664},0,{"$f":"(P36*0.35)/9","v":38.888888888888886},0,{"$f":"(R36*0.35)/9","v":31.111111111111111},0]
["Glucides (g)",{"$f":"SUM(('3B-4B) CalcNutr (6-11)'!C22/100)*('3B-4B) CalcNutr (6-11)'!C$42),SUM('3B-4B) CalcNutr (6-11)'!D22/100)*('3B-4B) CalcNutr (6-11)'!C$43),SUM('3B-4B) CalcNutr (6-11)'!E22/100)*('3B-4B) CalcNutr (6-11)'!C$44),SUM('3B-4B) CalcNutr (6-11)'!F22/100)*('3B-4B) CalcNutr (6-11)'!C$45),SUM('3B-4B) CalcNutr (6-11)'!G22/100)*('3B-4B) CalcNutr (6-11)'!C$46),SUM('3B-4B) CalcNutr (6-11)'!H22/100)*('3B-4B) CalcNutr (6-11)'!C$47),SUM('3B-4B) CalcNutr (6-11)'!I22/100)*('3B-4B) CalcNutr (6-11)'!C$48),SUM('3B-4B) CalcNutr (6-11)'!J22/100)*('3B-4B) CalcNutr (6-11)'!C$49),SUM('3B-4B) CalcNutr (6-11)'!K22/100)*('3B-4B) CalcNutr (6-11)'!C$50),SUM('3B-4B) CalcNutr (6-11)'!L22/100)*('3B-4B) CalcNutr (6-11)'!C$51),SUM('3B-4B) CalcNutr (6-11)'!M22/100)*('3B-4B) CalcNutr (6-11)'!C52),SUM('3B-4B) CalcNutr (6-11)'!N22/100)*('3B-4B) CalcNutr (6-11)'!C53),SUM('3B-4B) CalcNutr (6-11)'!O22/100)*('3B-4B) CalcNutr (6-11)'!C54))","v":0},0,{"$f":"(D36*0.5)/4","v":300},0,250,0,{"$f":"(H36*0.5)/4","v":275},0,{"$f":"(J36*0.5)/4","v":250},0,{"$f":"(L36*0.5)/4","v":137.5},0,{"$f":"(N36*0.5)/4","v":150},0,{"$f":"(P36*0.5)/4","v":125},0,{"$f":"(R36*0.5)/4","v":100},0]
["Fibres (g)",{"$f":"SUM(('3B-4B) CalcNutr (6-11)'!C23/100)*('3B-4B) CalcNutr (6-11)'!C$42),SUM('3B-4B) CalcNutr (6-11)'!D23/100)*('3B-4B) CalcNutr (6-11)'!C$43),SUM('3B-4B) CalcNutr (6-11)'!E23/100)*('3B-4B) CalcNutr (6-11)'!C$44),SUM('3B-4B) CalcNutr (6-11)'!F23/100)*('3B-4B) CalcNutr (6-11)'!C$45),SUM('3B-4B) CalcNutr (6-11)'!G23/100)*('3B-4B) CalcNutr (6-11)'!C$46),SUM('3B-4B) CalcNutr (6-11)'!H23/100)*('3B-4B) CalcNutr (6-11)'!C$47),SUM('3B-4B) CalcNutr (6-11)'!I23/100)*('3B-4B) CalcNutr (6-11)'!C$48),SUM('3B-4B) CalcNutr (6-11)'!J23/100)*('3B-4B) CalcNutr (6-11)'!C$49),SUM('3B-4B) CalcNutr (6-11)'!K23/100)*('3B-4B) CalcNutr (6-11)'!C$50),SUM('3B-4B) CalcNutr (6-11)'!L23/100)*('3B-4B) CalcNutr (6-11)'!C$51),SUM('3B-4B) CalcNutr (6-11)'!M23/100)*('3B-4B) CalcNutr (6-11)'!C52),SUM('3B-4B) CalcNutr (6-11)'!N23/100)*('3B-4B) CalcNutr (6-11)'!C53),SUM('3B-4B) CalcNutr (6-11)'!O23/100)*('3B-4B) CalcNutr (6-11)'!C54))","v":0},0,38,0,25,0,29,0,26,0,25,0,19,0,17,0,"NA","NA"]
["Sucre (g)",{"$f":"SUM(('3B-4B) CalcNutr (6-11)'!C24/100)*('3B-4B) CalcNutr (6-11)'!C$42),SUM('3B-4B) CalcNutr (6-11)'!D24/100)*('3B-4B) CalcNutr (6-11)'!C$43),SUM('3B-4B) CalcNutr (6-11)'!E24/100)*('3B-4B) CalcNutr (6-11)'!C$44),SUM('3B-4B) CalcNutr (6-11)'!F24/100)*('3B-4B) CalcNutr (6-11)'!C$45),SUM('3B-4B) CalcNutr (6-11)'!G24/100)*('3B-4B) CalcNutr (6-11)'!C$46),SUM('3B-4B) CalcNutr (6-11)'!H24/100)*('3B-4B) CalcNutr (6-11)'!C$47),SUM('3B-4B) CalcNutr (6-11)'!I24/100)*('3B-4B) CalcNutr (6-11)'!C$48),SUM('3B-4B) CalcNutr (6-11)'!J24/100)*('3B-4B) CalcNutr (6-11)'!C$49),SUM('3B-4B) CalcNutr (6-11)'!K24/100)*('3B-4B) CalcNutr (6-11)'!C$50),SUM('3B-4B) CalcNutr (6-11)'!L24/100)*('3B-4B) CalcNutr (6-11)'!C$51),SUM('3B-4B) CalcNutr (6-11)'!M24/100)*('3B-4B) CalcNutr (6-11)'!C52),SUM('3B-4B) CalcNutr (6-11)'!N24/100)*('3B-4B) CalcNutr (6-11)'!C53),SUM('3B-4B) CalcNutr (6-11)'!O24/100)*('3B-4B) CalcNutr (6-11)'!C54))","v":0},0,36,0,25,0,28,0,25,0,20,0,{"$f":"(N36*0.06)/4","v":18},0,"NA","NA","NA","NA"]
["Calcium [Ca] (mg)",{"$f":"SUM(('3B-4B) CalcNutr (6-11)'!C25/100)*('3B-4B) CalcNutr (6-11)'!C$42),SUM('3B-4B) CalcNutr (6-11)'!D25/100)*('3B-4B) CalcNutr (6-11)'!C$43),SUM('3B-4B) CalcNutr (6-11)'!E25/100)*('3B-4B) CalcNutr (6-11)'!C$44),SUM('3B-4B) CalcNutr (6-11)'!F25/100)*('3B-4B) CalcNutr (6-11)'!C$45),SUM('3B-4B) CalcNutr (6-11)'!G25/100)*('3B-4B) CalcNutr (6-11)'!C$46),SUM('3B-4B) CalcNutr (6-11)'!H25/100)*('3B-4B) CalcNutr (6-11)'!C$47),SUM('3B-4B) CalcNutr (6-11)'!I25/100)*('3B-4B) CalcNutr (6-11)'!C$48),SUM('3B-4B) CalcNutr (6-11)'!J25/100)*('3B-4B) CalcNutr (6-11)'!C$49),SUM('3B-4B) CalcNutr (6-11)'!K25/100)*('3B-4B) CalcNutr (6-11)'!C$50),SUM('3B-4B) CalcNutr (6-11)'!L25/100)*('3B-4B) CalcNutr (6-11)'!C$51),SUM('3B-4B) CalcNutr (6-11)'!M25/100)*('3B-4B) CalcNutr (6-11)'!C52),SUM('3B-4B) CalcNutr (6-11)'!N25/100)*('3B-4B) CalcNutr (6-11)'!C53),SUM('3B-4B) CalcNutr (6-11)'!O25/100)*('3B-4B) CalcNutr (6-11)'!C54))","v":0},0,1000,0,1000,0,1000,0,1300,0,1200,0,700,0,400,{"$f":"$C42/P42","v":0},260,{"$f":"$C42/R42","v":0}]
["Fer [Fe] (mg)",{"$f":"SUM(('3B-4B) CalcNutr (6-11)'!C26/100)*('3B-4B) CalcNutr (6-11)'!C$42),SUM('3B-4B) CalcNutr (6-11)'!D26/100)*('3B-4B) CalcNutr (6-11)'!C$43),SUM('3B-4B) CalcNutr (6-11)'!E26/100)*('3B-4B) CalcNutr (6-11)'!C$44),SUM('3B-4B) CalcNutr (6-11)'!F26/100)*('3B-4B) CalcNutr (6-11)'!C$45),SUM('3B-4B) CalcNutr (6-11)'!G26/100)*('3B-4B) CalcNutr (6-11)'!C$46),SUM('3B-4B) CalcNutr (6-11)'!H26/100)*('3B-4B) CalcNutr (6-11)'!C$47),SUM('3B-4B) CalcNutr (6-11)'!I26/100)*('3B-4B) CalcNutr (6-11)'!C$48),SUM('3B-4B) CalcNutr (6-11)'!J26/100)*('3B-4B) CalcNutr (6-11)'!C$49),SUM('3B-4B) CalcNutr (6-11)'!K26/100)*('3B-4B) CalcNutr (6-11)'!C$50),SUM('3B-4B) CalcNutr (6-11)'!L26/100)*('3B-4B) CalcNutr (6-11)'!C$51),SUM('3B-4B) CalcNutr (6-11)'!M26/100)*('3B-4B) CalcNutr (6-11)'!C52),SUM('3B-4B) CalcNutr (6-11)'!N26/100)*('3B-4B) CalcNutr (6-11)'!C53),SUM('3B-4B) CalcNutr (6-11)'!O26/100)*('3B-4B) CalcNutr (6-11)'!C54))","v":0},0,8,0,18,0,27,0,13,0,22,0,7,0,7,0,11,0]
["Magnésium [Mg] (mg)",{"$f":"SUM(('3B-4B) CalcNutr (6-11)'!C27/100)*('3B-4B) CalcNutr (6-11)'!C$42),SUM('3B-4B) CalcNutr (6-11)'!D27/100)*('3B-4B) CalcNutr (6-11)'!C$43),SUM('3B-4B) CalcNutr (6-11)'!E27/100)*('3B-4B) CalcNutr (6-11)'!C$44),SUM('3B-4B) CalcNutr (6-11)'!F27/100)*('3B-4B) CalcNutr (6-11)'!C$45),SUM('3B-4B) CalcNutr (6-11)'!G27/100)*('3B-4B) CalcNutr (6-11)'!C$46),SUM('3B-4B) CalcNutr (6-11)'!H27/100)*('3B-4B) CalcNutr (6-11)'!C$47),SUM('3B-4B) CalcNutr (6-11)'!I27/100)*('3B-4B) CalcNutr (6-11)'!C$48),SUM('3B-4B) CalcNutr (6-11)'!J27/100)*('3B-4B) CalcNutr (6-11)'!C$49),SUM('3B-4B) CalcNutr (6-11)'!K27/100)*('3B-4B) CalcNutr (6-11)'!C$50),SUM('3B-4B) CalcNutr (6-11)'!L27/100)*('3B-4B) CalcNutr (6-11)'!C$51),SUM('3B-4B) CalcNutr (6-11)'!M27/100)*('3B-4B) CalcNutr (6-11)'!C52),SUM('3B-4B) CalcNutr (6-11)'!N27/100)*('3B-4B) CalcNutr (6-11)'!C53),SUM('3B-4B) CalcNutr (6-11)'!O27/100)*('3B-4B) CalcNutr (6-11)'!C54))","v":0},0,420,0,320,0,350,0,380,0,{"$f":"(280+420)/2","v":350},0,80,0,65,0,75,0]
["Potassium [K] (mg)",{"$f":"SUM(('3B-4B) CalcNutr (6-11)'!C28/100)*('3B-4B) CalcNutr (6-11)'!C$42),SUM('3B-4B) CalcNutr (6-11)'!D28/100)*('3B-4B) CalcNutr (6-11)'!C$43),SUM('3B-4B) CalcNutr (6-11)'!E28/100)*('3B-4B) CalcNutr (6-11)'!C$44),SUM('3B-4B) CalcNutr (6-11)'!F28/100)*('3B-4B) CalcNutr (6-11)'!C$45),SUM('3B-4B) CalcNutr (6-11)'!G28/100)*('3B-4B) CalcNutr (6-11)'!C$46),SUM('3B-4B) CalcNutr (6-11)'!H28/100)*('3B-4B) CalcNutr (6-11)'!C$47),SUM('3B-4B) CalcNutr (6-11)'!I28/100)*('3B-4B) CalcNutr (6-11)'!C$48),SUM('3B-4B) CalcNutr (6-11)'!J28/100)*('3B-4B) CalcNutr (6-11)'!C$49),SUM('3B-4B) CalcNutr (6-11)'!K28/100)*('3B-4B) CalcNutr (6-11)'!C$50),SUM('3B-4B) CalcNutr (6-11)'!L28/100)*('3B-4B) CalcNutr (6-11)'!C$51),SUM('3B-4B) CalcNutr (6-11)'!M28/100)*('3B-4B) CalcNutr (6-11)'!C52),SUM('3B-4B) CalcNutr (6-11)'!N28/100)*('3B-4B) CalcNutr (6-11)'!C53),SUM('3B-4B) CalcNutr (6-11)'!O28/100)*('3B-4B) CalcNutr (6-11)'!C54))","v":0},0,3400,0,2600,0,2900,0,2600,0,{"$f":"(1500+2200)/2","v":1850},0,2000,0,900,0,860,0]
["Sodium [Na] (mg)",{"$f":"SUM(('3B-4B) CalcNutr (6-11)'!C29/100)*('3B-4B) CalcNutr (6-11)'!C$42),SUM('3B-4B) CalcNutr (6-11)'!D29/100)*('3B-4B) CalcNutr (6-11)'!C$43),SUM('3B-4B) CalcNutr (6-11)'!E29/100)*('3B-4B) CalcNutr (6-11)'!C$44),SUM('3B-4B) CalcNutr (6-11)'!F29/100)*('3B-4B) CalcNutr (6-11)'!C$45),SUM('3B-4B) CalcNutr (6-11)'!G29/100)*('3B-4B) CalcNutr (6-11)'!C$46),SUM('3B-4B) CalcNutr (6-11)'!H29/100)*('3B-4B) CalcNutr (6-11)'!C$47),SUM('3B-4B) CalcNutr (6-11)'!I29/100)*('3B-4B) CalcNutr (6-11)'!C$48),SUM('3B-4B) CalcNutr (6-11)'!J29/100)*('3B-4B) CalcNutr (6-11)'!C$49),SUM('3B-4B) CalcNutr (6-11)'!K29/100)*('3B-4B) CalcNutr (6-11)'!C$50),SUM('3B-4B) CalcNutr (6-11)'!L29/100)*('3B-4B) CalcNutr (6-11)'!C$51),SUM('3B-4B) CalcNutr (6-11)'!M29/100)*('3B-4B) CalcNutr (6-11)'!C52),SUM('3B-4B) CalcNutr (6-11)'!N29/100)*('3B-4B) CalcNutr (6-11)'!C53),SUM('3B-4B) CalcNutr (6-11)'!O29/100)*('3B-4B) CalcNutr (6-11)'!C54))","v":0},0,2000,0,2000,0,2000,0,2000,0,1200,0,800,0,600,0,400,0]
["Zinc [Zn] (mg)",{"$f":"SUM(('3B-4B) CalcNutr (6-11)'!C30/100)*('3B-4B) CalcNutr (6-11)'!C$42),SUM('3B-4B) CalcNutr (6-11)'!D30/100)*('3B-4B) CalcNutr (6-11)'!C$43),SUM('3B-4B) CalcNutr (6-11)'!E30/100)*('3B-4B) CalcNutr (6-11)'!C$44),SUM('3B-4B) CalcNutr (6-11)'!F30/100)*('3B-4B) CalcNutr (6-11)'!C$45),SUM('3B-4B) CalcNutr (6-11)'!G30/100)*('3B-4B) CalcNutr (6-11)'!C$46),SUM('3B-4B) CalcNutr (6-11)'!H30/100)*('3B-4B) CalcNutr (6-11)'!C$47),SUM('3B-4B) CalcNutr (6-11)'!I30/100)*('3B-4B) CalcNutr (6-11)'!C$48),SUM('3B-4B) CalcNutr (6-11)'!J30/100)*('3B-4B) CalcNutr (6-11)'!C$49),SUM('3B-4B) CalcNutr (6-11)'!K30/100)*('3B-4B) CalcNutr (6-11)'!C$50),SUM('3B-4B) CalcNutr (6-11)'!L30/100)*('3B-4B) CalcNutr (6-11)'!C$51),SUM('3B-4B) CalcNutr (6-11)'!M30/100)*('3B-4B) CalcNutr (6-11)'!C52),SUM('3B-4B) CalcNutr (6-11)'!N30/100)*('3B-4B) CalcNutr (6-11)'!C53),SUM('3B-4B) CalcNutr (6-11)'!O30/100)*('3B-4B) CalcNutr (6-11)'!C54))","v":0},0,11,0,8,0,11,0,10,0,{"$f":"(20+35)/2","v":27.5},0,3,0,2.5,0,3,0]
["Vitamine A EAR (mcg)",{"$f":"SUM(('3B-4B) CalcNutr (6-11)'!C31/100)*('3B-4B) CalcNutr (6-11)'!C$42),SUM('3B-4B) CalcNutr (6-11)'!D31/100)*('3B-4B) CalcNutr (6-11)'!C$43),SUM('3B-4B) CalcNutr (6-11)'!E31/100)*('3B-4B) CalcNutr (6-11)'!C$44),SUM('3B-4B) CalcNutr (6-11)'!F31/100)*('3B-4B) CalcNutr (6-11)'!C$45),SUM('3B-4B) CalcNutr (6-11)'!G31/100)*('3B-4B) CalcNutr (6-11)'!C$46),SUM('3B-4B) CalcNutr (6-11)'!H31/100)*('3B-4B) CalcNutr (6-11)'!C$47),SUM('3B-4B) CalcNutr (6-11)'!I31/100)*('3B-4B) CalcNutr (6-11)'!C$48),SUM('3B-4B) CalcNutr (6-11)'!J31/100)*('3B-4B) CalcNutr (6-11)'!C$49),SUM('3B-4B) CalcNutr (6-11)'!K31/100)*('3B-4B) CalcNutr (6-11)'!C$50),SUM('3B-4B) CalcNutr (6-11)'!L31/100)*('3B-4B) CalcNutr (6-11)'!C$51),SUM('3B-4B) CalcNutr (6-11)'!M31/100)*('3B-4B) CalcNutr (6-11)'!C52),SUM('3B-4B) CalcNutr (6-11)'!N31/100)*('3B-4B) CalcNutr (6-11)'!C53),SUM('3B-4B) CalcNutr (6-11)'!O31/100)*('3B-4B) CalcNutr (6-11)'!C54))","v":0},{"$f":"((IF('3B-4B) CalcNutr (6-11)'!C41=\"Boiled (<10 min)\",0.8,IF('3B-4B) CalcNutr (6-11)'!C41=\"Boiled (>10 min)\",0.75,IF('3B-4B) CalcNutr (6-11)'!C41=\"Steamed\",0.9,IF('3B-4B) CalcNutr (6-11)'!C41=\"Fried\",0.9,IF('3B-4B) CalcNutr (6-11)'!C41=\"Baked\",0.9,IF('3B-4B) CalcNutr (6-11)'!C41=\"Raw (no cooking)\",1,IF('3B-4B) CalcNutr (6-11)'!C41=\"Other cooking method\",1))))))))*B48)","v":0},900,0,700,0,1300,0,700,0,{"$f":"2500*0.3","v":750},0,300,0,210,0,500,0]
["Thiamine [Vitamine B1] (mg)",{"$f":"SUM(('3B-4B) CalcNutr (6-11)'!C32/100)*('3B-4B) CalcNutr (6-11)'!C$42),SUM('3B-4B) CalcNutr (6-11)'!D32/100)*('3B-4B) CalcNutr (6-11)'!C$43),SUM('3B-4B) CalcNutr (6-11)'!E32/100)*('3B-4B) CalcNutr (6-11)'!C$44),SUM('3B-4B) CalcNutr (6-11)'!F32/100)*('3B-4B) CalcNutr (6-11)'!C$45),SUM('3B-4B) CalcNutr (6-11)'!G32/100)*('3B-4B) CalcNutr (6-11)'!C$46),SUM('3B-4B) CalcNutr (6-11)'!H32/100)*('3B-4B) CalcNutr (6-11)'!C$47),SUM('3B-4B) CalcNutr (6-11)'!I32/100)*('3B-4B) CalcNutr (6-11)'!C$48),SUM('3B-4B) CalcNutr (6-11)'!J32/100)*('3B-4B) CalcNutr (6-11)'!C$49),SUM('3B-4B) CalcNutr (6-11)'!K32/100)*('3B-4B) CalcNutr (6-11)'!C$50),SUM('3B-4B) CalcNutr (6-11)'!L32/100)*('3B-4B) CalcNutr (6-11)'!C$51),SUM('3B-4B) CalcNutr (6-11)'!M32/100)*('3B-4B) CalcNutr (6-11)'!C$52),SUM('3B-4B) CalcNutr (6-11)'!N32/100)*('3B-4B) CalcNutr (6-11)'!C$53),SUM('3B-4B) CalcNutr (6-11)'!O32/100)*('3B-4B) CalcNutr (6-11)'!C$54))","v":0},{"$f":"((IF('3B-4B) CalcNutr (6-11)'!C41=\"Boiled (<10 min)\",0.75,IF('3B-4B) CalcNutr (6-11)'!C41=\"Boiled (>10 min)\",0.65,IF('3B-4B) CalcNutr (6-11)'!C41=\"Steamed\",0.8,IF('3B-4B) CalcNutr (6-11)'!C41=\"Fried\",0.8,IF('3B-4B) CalcNutr (6-11)'!C41=\"Baked\",0.85,IF('3B-4B) CalcNutr (6-11)'!C41=\"Raw (no cooking)\",1,IF('3B-4B) CalcNutr (6-11)'!C41=\"Other cooking method\",1))))))))*B49)","v":0},1.2,0,1.1000000000000001,0,1.4,0,1.2,0,1,0,0.5,0,0.4,0,0.3,0]
["Riboflavine [Vitamine B2] (mg)",{"$f":"SUM(('3B-4B) CalcNutr (6-11)'!C33/100)*('3B-4B) CalcNutr (6-11)'!C$42),SUM('3B-4B) CalcNutr (6-11)'!D33/100)*('3B-4B) CalcNutr (6-11)'!C$43),SUM('3B-4B) CalcNutr (6-11)'!E33/100)*('3B-4B) CalcNutr (6-11)'!C$44),SUM('3B-4B) CalcNutr (6-11)'!F33/100)*('3B-4B) CalcNutr (6-11)'!C$45),SUM('3B-4B) CalcNutr (6-11)'!G33/100)*('3B-4B) CalcNutr (6-11)'!C$46),SUM('3B-4B) CalcNutr (6-11)'!H33/100)*('3B-4B) CalcNutr (6-11)'!C$47),SUM('3B-4B) CalcNutr (6-11)'!I33/100)*('3B-4B) CalcNutr (6-11)'!C$48),SUM('3B-4B) CalcNutr (6-11)'!J33/100)*('3B-4B) CalcNutr (6-11)'!C$49),SUM('3B-4B) CalcNutr (6-11)'!K33/100)*('3B-4B) CalcNutr (6-11)'!C$50),SUM('3B-4B) CalcNutr (6-11)'!L33/100)*('3B-4B) CalcNutr (6-11)'!C$51),SUM('3B-4B) CalcNutr (6-11)'!M33/100)*('3B-4B) CalcNutr (6-11)'!C$52),SUM('3B-4B) CalcNutr (6-11)'!N33/100)*('3B-4B) CalcNutr (6-11)'!C$53),SUM('3B-4B) CalcNutr (6-11)'!O33/100)*('3B-4B) CalcNutr (6-11)'!C$54))","v":0},{"$f":"((IF('3B-4B) CalcNutr (6-11)'!C41=\"Boiled (<10 min)\",0.75,IF('3B-4B) CalcNutr (6-11)'!C41=\"Boiled (>10 min)\",0.65,IF('3B-4B) CalcNutr (6-11)'!C41=\"Steamed\",0.9,IF('3B-4B) CalcNutr (6-11)'!C41=\"Fried\",0.9,IF('3B-4B) CalcNutr (6-11)'!C41=\"Baked\",0.9,IF('3B-4B) CalcNutr (6-11)'!C41=\"Raw (no cooking)\",1,IF('3B-4B) CalcNutr (6-11)'!C41=\"Other cooking method\",1))))))))*B50)","v":0},1.3,0,1.1000000000000001,0,1.5,0,1.1499999999999999,0,4,0,0.5,0,0.4,0,0.4,0]
["Equiv. Niacine [Vitamine B3] (mg)",{"$f":"SUM(('3B-4B) CalcNutr (6-11)'!C34/100)*('3B-4B) CalcNutr (6-11)'!C$42),SUM('3B-4B) CalcNutr (6-11)'!D34/100)*('3B-4B) CalcNutr (6-11)'!C$43),SUM('3B-4B) CalcNutr (6-11)'!E34/100)*('3B-4B) CalcNutr (6-11)'!C$44),SUM('3B-4B) CalcNutr (6-11)'!F34/100)*('3B-4B) CalcNutr (6-11)'!C$45),SUM('3B-4B) CalcNutr (6-11)'!G34/100)*('3B-4B) CalcNutr (6-11)'!C$46),SUM('3B-4B) CalcNutr (6-11)'!H34/100)*('3B-4B) CalcNutr (6-11)'!C$47),SUM('3B-4B) CalcNutr (6-11)'!I34/100)*('3B-4B) CalcNutr (6-11)'!C$48),SUM('3B-4B) CalcNutr (6-11)'!J34/100)*('3B-4B) CalcNutr (6-11)'!C$49),SUM('3B-4B) CalcNutr (6-11)'!K34/100)*('3B-4B) CalcNutr (6-11)'!C$50),SUM('3B-4B) CalcNutr (6-11)'!L34/100)*('3B-4B) CalcNutr (6-11)'!C$51),SUM('3B-4B) CalcNutr (6-11)'!M34/100)*('3B-4B) CalcNutr (6-11)'!C$52),SUM('3B-4B) CalcNutr (6-11)'!N34/100)*('3B-4B) CalcNutr (6-11)'!C$53),SUM('3B-4B) CalcNutr (6-11)'!O34/100)*('3B-4B) CalcNutr (6-11)'!C$54))","v":0},{"$f":"((IF('3B-4B) CalcNutr (6-11)'!C41=\"Boiled (<10 min)\",0.8,IF('3B-4B) CalcNutr (6-11)'!C41=\"Boiled (>10 min)\",0.75,IF('3B-4B) CalcNutr (6-11)'!C41=\"Steamed\",0.9,IF('3B-4B) CalcNutr (6-11)'!C41=\"Fried\",0.9,IF('3B-4B) CalcNutr (6-11)'!C41=\"Baked\",0.9,IF('3B-4B) CalcNutr (6-11)'!C41=\"Raw (no cooking)\",1,IF('3B-4B) CalcNutr (6-11)'!C41=\"Other cooking method\",1))))))))*B51)","v":0},16,0,14,0,18,0,15,0,8,0,6,0,5,0,4,0]
["Folate EFA (mcg)",{"$f":"SUM(('3B-4B) CalcNutr (6-11)'!C35/100)*('3B-4B) CalcNutr (6-11)'!C$42),SUM('3B-4B) CalcNutr (6-11)'!D35/100)*('3B-4B) CalcNutr (6-11)'!C$43),SUM('3B-4B) CalcNutr (6-11)'!E35/100)*('3B-4B) CalcNutr (6-11)'!C$44),SUM('3B-4B) CalcNutr (6-11)'!F35/100)*('3B-4B) CalcNutr (6-11)'!C$45),SUM('3B-4B) CalcNutr (6-11)'!G35/100)*('3B-4B) CalcNutr (6-11)'!C$46),SUM('3B-4B) CalcNutr (6-11)'!H35/100)*('3B-4B) CalcNutr (6-11)'!C$47),SUM('3B-4B) CalcNutr (6-11)'!I35/100)*('3B-4B) CalcNutr (6-11)'!C$48),SUM('3B-4B) CalcNutr (6-11)'!J35/100)*('3B-4B) CalcNutr (6-11)'!C$49),SUM('3B-4B) CalcNutr (6-11)'!K35/100)*('3B-4B) CalcNutr (6-11)'!C$50),SUM('3B-4B) CalcNutr (6-11)'!L35/100)*('3B-4B) CalcNutr (6-11)'!C$51),SUM('3B-4B) CalcNutr (6-11)'!M35/100)*('3B-4B) CalcNutr (6-11)'!C52),SUM('3B-4B) CalcNutr (6-11)'!N35/100)*('3B-4B) CalcNutr (6-11)'!C53),SUM('3B-4B) CalcNutr (6-11)'!O35/100)*('3B-4B) CalcNutr (6-11)'!C54))","v":0},{"$f":"((IF('3B-4B) CalcNutr (6-11)'!C41=\"Boiled (<10 min)\",0.8,IF('3B-4B) CalcNutr (6-11)'!C41=\"Boiled (>10 min)\",0.7,IF('3B-4B) CalcNutr (6-11)'!C41=\"Steamed\",0.85,IF('3B-4B) CalcNutr (6-11)'!C41=\"Fried\",0.85,IF('3B-4B) CalcNutr (6-11)'!C41=\"Baked\",0.9,IF('3B-4B) CalcNutr (6-11)'!C41=\"Raw (no cooking)\",1,IF('3B-4B) CalcNutr (6-11)'!C41=\"Other cooking method\",1))))))))*B52)","v":0},400,0,400,0,600,0,400,0,200,0,150,0,120,0,80,0]
["Vitamine B12 (mcg)",{"$f":"SUM(('3B-4B) CalcNutr (6-11)'!C36/100)*('3B-4B) CalcNutr (6-11)'!C$42),SUM('3B-4B) CalcNutr (6-11)'!D36/100)*('3B-4B) CalcNutr (6-11)'!C$43),SUM('3B-4B) CalcNutr (6-11)'!E36/100)*('3B-4B) CalcNutr (6-11)'!C$44),SUM('3B-4B) CalcNutr (6-11)'!F36/100)*('3B-4B) CalcNutr (6-11)'!C$45),SUM('3B-4B) CalcNutr (6-11)'!G36/100)*('3B-4B) CalcNutr (6-11)'!C$46),SUM('3B-4B) CalcNutr (6-11)'!H36/100)*('3B-4B) CalcNutr (6-11)'!C$47),SUM('3B-4B) CalcNutr (6-11)'!I36/100)*('3B-4B) CalcNutr (6-11)'!C$48),SUM('3B-4B) CalcNutr (6-11)'!J36/100)*('3B-4B) CalcNutr (6-11)'!C$49),SUM('3B-4B) CalcNutr (6-11)'!K36/100)*('3B-4B) CalcNutr (6-11)'!C$50),SUM('3B-4B) CalcNutr (6-11)'!L36/100)*('3B-4B) CalcNutr (6-11)'!C$51),SUM('3B-4B) CalcNutr (6-11)'!M36/100)*('3B-4B) CalcNutr (6-11)'!C52),SUM('3B-4B) CalcNutr (6-11)'!N36/100)*('3B-4B) CalcNutr (6-11)'!C53),SUM('3B-4B) CalcNutr (6-11)'!O36/100)*('3B-4B) CalcNutr (6-11)'!C54))","v":0},{"$f":"((IF('3B-4B) CalcNutr (6-11)'!C41=\"Boiled (<10 min)\",0.9,IF('3B-4B) CalcNutr (6-11)'!C41=\"Boiled (>10 min)\",0.8,IF('3B-4B) CalcNutr (6-11)'!C41=\"Steamed\",0.9,IF('3B-4B) CalcNutr (6-11)'!C41=\"Fried\",0.9,IF('3B-4B) CalcNutr (6-11)'!C41=\"Baked\",0.9,IF('3B-4B) CalcNutr (6-11)'!C41=\"Raw (no cooking)\",1,IF('3B-4B) CalcNutr (6-11)'!C41=\"Other cooking method\",1))))))))*B53)","v":0},2.4,0,2.4,0,2.8,0,2.4,0,5,0,0.9,0,0.7,0,0.5,0]
["Vitamine C (mg)",{"$f":"SUM(('3B-4B) CalcNutr (6-11)'!C37/100)*('3B-4B) CalcNutr (6-11)'!C$42),SUM('3B-4B) CalcNutr (6-11)'!D37/100)*('3B-4B) CalcNutr (6-11)'!C$43),SUM('3B-4B) CalcNutr (6-11)'!E37/100)*('3B-4B) CalcNutr (6-11)'!C$44),SUM('3B-4B) CalcNutr (6-11)'!F37/100)*('3B-4B) CalcNutr (6-11)'!C$45),SUM('3B-4B) CalcNutr (6-11)'!G37/100)*('3B-4B) CalcNutr (6-11)'!C$46),SUM('3B-4B) CalcNutr (6-11)'!H37/100)*('3B-4B) CalcNutr (6-11)'!C$47),SUM('3B-4B) CalcNutr (6-11)'!I37/100)*('3B-4B) CalcNutr (6-11)'!C$48),SUM('3B-4B) CalcNutr (6-11)'!J37/100)*('3B-4B) CalcNutr (6-11)'!C$49),SUM('3B-4B) CalcNutr (6-11)'!K37/100)*('3B-4B) CalcNutr (6-11)'!C$50),SUM('3B-4B) CalcNutr (6-11)'!L37/100)*('3B-4B) CalcNutr (6-11)'!C$51),SUM('3B-4B) CalcNutr (6-11)'!M37/100)*('3B-4B) CalcNutr (6-11)'!C52),SUM('3B-4B) CalcNutr (6-11)'!N37/100)*('3B-4B) CalcNutr (6-11)'!C53),SUM('3B-4B) CalcNutr (6-11)'!O37/100)*('3B-4B) CalcNutr (6-11)'!C54))","v":0},{"$f":"((IF('3B-4B) CalcNutr (6-11)'!C41=\"Boiled (<10 min)\",0.8,IF('3B-4B) CalcNutr (6-11)'!C41=\"Boiled (>10 min)\",0.6,IF('3B-4B) CalcNutr (6-11)'!C41=\"Steamed\",0.8,IF('3B-4B) CalcNutr (6-11)'!C41=\"Fried\",0.8,IF('3B-4B) CalcNutr (6-11)'!C41=\"Baked\",0.8,IF('3B-4B) CalcNutr (6-11)'!C41=\"Raw (no cooking)\",1,IF('3B-4B) CalcNutr (6-11)'!C41=\"Other cooking method\",1))))))))*B54)","v":0},90,0,75,0,120,0,70,0,150,0,15,0,13,0,50,0]
[]
[null,null,null,null,null,null,null,null,null,null,null,null,null,null,null,null,null,"= >30% VJ","= >30% VJ"]
[]
[]
[]
[]
[]
[]
[null,null,null,null,null,null,null,null,null,null,null,"Norme de l'OMS"]
[null,null,null,null,null,null,null,null,null,null,null,"Composition nutritionnelle proposée pour les aliments complémentaires utilisés dans la prise en charge de la malnutrition aiguë modérée chez l'enfant"]
[null,null,null,null,null,null,null,null,null,null,null,"MIN.","MAX."]
[]
[]
[null,null,null,null,null,null,null,null,null,null,null,20,43]
[]
[]
[null,null,null,null,null,null,null,null,null,null,null,25,65]
[]
[null,null,null,null,null,null,null,null,null,null,null,2000,3000]
[null,null,null,null,null,null,null,null,null,null,null,1]
[null,null,null,null,null,null,null,null,null,null,null,4]
[]
[]
[null,null,null,null,null,null,null,null,null,null,null,2]
[]
[null,null,null,null,null,null,null,null,null,null,null,5]
[null,null,null,null,null,null,null,null,null,null,null,150]
[null,null,null,null,null,null,null,null,null,null,null,20,60]
[]
[null,null,null,null,null,null,null,null,null,null,null,30]
[]
[]
[null,null,null,null,null,null,null,null,null,null,null,18,30]
[null,null,null,null,null,null,null,null,null,null,null,20,35]
[null,null,null,null,null,null,null,null,null,null,null,150,250]
[null,null,null,null,null,null,null,null,null,null,null,1500,2200]
[null,null,null,null,null,null,null,null,null,null,null,850,1400]
[null,null,null,null,null,null,null,null,null,null,null,1000,1400]
[null,null,null,null,null,null,null,null,null,null,null,20]
[null,null,null,null,null,null,null,null,null,null,null,1,3.5]
[null,null,null,null,null,null,null,null,null,null,null,280,420]
[null,null,null,null,null,null,null,null,null,null,null,35,90]

{"sheet":"RBAMFE Nº2 (Détails)","index":12,"n_rows":57,"n_cols":19,"rows_kept":57,"cut":false,"hidden":true,"merged":[[33,1,33,2]]}
[{"$f":"_xlfn.CONCAT(#REF!,\" Nutrition Composition\")","v":{"$error":"#REF!"}}]
["Poids =",{"$f":"#REF!","v":{"$error":"#REF!"}}]
["Nutriments \n(avant et après la cuisson)","Énergie\n(kcal, ou calories)","Protéines (g)","Matières grasses totales (g)","Graisses saturées (g)","Acides gras monoinsaturés (g)","Acides gras polyinsaturés (g)","Glucides (g)","Fibres (g)","Sucre (g)","Calcium [Ca] (mg)","Fer [Fe] (mg)","Magnésium [Mg] (mg)","Phosphore [P] (mg)","Potassium [K] (mg)",null,null,"Sodium [Na] (mg)","Zinc [Zn] (mg)"]
["RBA crue Ingrédients",{"$f":"((#REF!/100)*#REF!)+((#REF!/100)*#REF!)+((#REF!/100)*#REF!)+((#REF!/100)*#REF!)+((#REF!/100)*#REF!)+((#REF!/100)*#REF!)+((#REF!/100)*#REF!)+((#REF!/100)*#REF!)+((#REF!/100)*#REF!)+((#REF!/100)*#REF!)+((#REF!/100)*#REF!)+((#REF!/100)*#REF!)","v":{"$error":"#REF!"}},{"$f":"((#REF!/100)*#REF!)+((#REF!/100)*#REF!)+((#REF!/100)*#REF!)+((#REF!/100)*#REF!)+((#REF!/100)*#REF!)+((#REF!/100)*#REF!)+((#REF!/100)*#REF!)+((#REF!/100)*#REF!)+((#REF!/100)*#REF!)+((#REF!/100)*#REF!)+((#REF!/100)*#REF!)+((#REF!/100)*#REF!)","v":{"$error":"#REF!"}},{"$f":"((#REF!/100)*#REF!)+((#REF!/100)*#REF!)+((#REF!/100)*#REF!)+((#REF!/100)*#REF!)+((#REF!/100)*#REF!)+((#REF!/100)*#REF!)+((#REF!/100)*#REF!)+((#REF!/100)*#REF!)+((#REF!/100)*#REF!)+((#REF!/100)*#REF!)+((#REF!/100)*#REF!)+((#REF!/100)*#REF!)","v":{"$error":"#REF!"}},{"$f":"((#REF!/100)*#REF!)+((#REF!/100)*#REF!)+((#REF!/100)*#REF!)+((#REF!/100)*#REF!)+((#REF!/100)*#REF!)+((#REF!/100)*#REF!)+((#REF!/100)*#REF!)+((#REF!/100)*#REF!)+((#REF!/100)*#REF!)+((#REF!/100)*#REF!)+((#REF!/100)*#REF!)+((#REF!/100)*#REF!)","v":{"$error":"#REF!"}},{"$f":"((#REF!/100)*#REF!)+((#REF!/100)*#REF!)+((#REF!/100)*#REF!)+((#REF!/100)*#REF!)+((#REF!/100)*#REF!)+((#REF!/100)*#REF!)+((#REF!/100)*#REF!)+((#REF!/100)*#REF!)+((#REF!/100)*#REF!)+((#REF!/100)*#REF!)+((#REF!/100)*#REF!)+((#REF!/100)*#REF!)","v":{"$error":"#REF!"}},{"$f":"((#REF!/100)*#REF!)+((#REF!/100)*#REF!)+((#REF!/100)*#REF!)+((#REF!/100)*#REF!)+((#REF!/100)*#REF!)+((#REF!/100)*#REF!)+((#REF!/100)*#REF!)+((#REF!/100)*#REF!)+((#REF!/100)*#REF!)+((#REF!/100)*#REF!)+((#REF!/100)*#REF!)+((#REF!/100)*#REF!)","v":{"$error":"#REF!"}},{"$f":"((#REF!/100)*#REF!)+((#REF!/100)*#REF!)+((#REF!/100)*#REF!)+((#REF!/100)*#REF!)+((#REF!/100)*#REF!)+((#REF!/100)*#REF!)+((#REF!/100)*#REF!)+((#REF!/100)*#REF!)+((#REF!/100)*#REF!)+((#REF!/100)*#REF!)+((#REF!/100)*#REF!)+((#REF!/100)*#REF!)","v":{"$error":"#REF!"}},{"$f":"((#REF!/100)*#REF!)+((#REF!/100)*#REF!)+((#REF!/100)*#REF!)+((#REF!/100)*#REF!)+((#REF!/100)*#REF!)+((#REF!/100)*#REF!)+((#REF!/100)*#REF!)+((#REF!/100)*#REF!)+((#REF!/100)*#REF!)+((#REF!/100)*#REF!)+((#REF!/100)*#REF!)+((#REF!/100)*#REF!)","v":{"$error":"#REF!"}},{"$f":"((#REF!/100)*#REF!)+((#REF!/100)*#REF!)+((#REF!/100)*#REF!)+((#REF!/100)*#REF!)+((#REF!/100)*#REF!)+((#REF!/100)*#REF!)+((#REF!/100)*#REF!)+((#REF!/100)*#REF!)+((#REF!/100)*#REF!)+((#REF!/100)*#REF!)+((#REF!/100)*#REF!)+((#REF!/100)*#REF!)","v":{"$error":"#REF!"}},{"$f":"((#REF!/100)*#REF!)+((#REF!/100)*#REF!)+((#REF!/100)*#REF!)+((#REF!/100)*#REF!)+((#REF!/100)*#REF!)+((#REF!/100)*#REF!)+((#REF!/100)*#REF!)+((#REF!/100)*#REF!)+((#REF!/100)*#REF!)+((#REF!/100)*#REF!)+((#REF!/100)*#REF!)+((#REF!/100)*#REF!)","v":{"$error":"#REF!"}},0.11,{"$f":"((#REF!/100)*#REF!)+((#REF!/100)*#REF!)+((#REF!/100)*#REF!)+((#REF!/100)*#REF!)+((#REF!/100)*#REF!)+((#REF!/100)*#REF!)+((#REF!/100)*#REF!)+((#REF!/100)*#REF!)+((#REF!/100)*#REF!)+((#REF!/100)*#REF!)+((#REF!/100)*#REF!)+((#REF!/100)*#REF!)","v":{"$error":"#REF!"}},{"$f":"((#REF!/100)*#REF!)+((#REF!/100)*#REF!)+((#REF!/100)*#REF!)+((#REF!/100)*#REF!)+((#REF!/100)*#REF!)+((#REF!/100)*#REF!)+((#REF!/100)*#REF!)+((#REF!/100)*#REF!)+((#REF!/100)*#REF!)+((#REF!/100)*#REF!)+((#REF!/100)*#REF!)+((#REF!/100)*#REF!)","v":{"$error":"#REF!"}},{"$f":"((#REF!/100)*#REF!)+((#REF!/100)*#REF!)+((#REF!/100)*#REF!)+((#REF!/100)*#REF!)+((#REF!/100)*#REF!)+((#REF!/100)*#REF!)+((#REF!/100)*#REF!)+((#REF!/100)*#REF!)+((#REF!/100)*#REF!)+((#REF!/100)*#REF!)+((#REF!/100)*#REF!)+((#REF!/100)*#REF!)","v":{"$error":"#REF!"}},null,null,{"$f":"((#REF!/100)*#REF!)+((#REF!/100)*#REF!)+((#REF!/100)*#REF!)+((#REF!/100)*#REF!)+((#REF!/100)*#REF!)+((#REF!/100)*#REF!)+((#REF!/100)*#REF!)+((#REF!/100)*#REF!)+((#REF!/100)*#REF!)+((#REF!/100)*#REF!)+((#REF!/100)*#REF!)+((#REF!/100)*#REF!)","v":{"$error":"#REF!"}},{"$f":"((#REF!/100)*#REF!)+((#REF!/100)*#REF!)+((#REF!/100)*#REF!)+((#REF!/100)*#REF!)+((#REF!/100)*#REF!)+((#REF!/100)*#REF!)+((#REF!/100)*#REF!)+((#REF!/100)*#REF!)+((#REF!/100)*#REF!)+((#REF!/100)*#REF!)+((#REF!/100)*#REF!)+((#REF!/100)*#REF!)","v":{"$error":"#REF!"}}]
["RBA cuite (+ facteur de rétention)",{"$f":"B4","v":{"$error":"#REF!"}},{"$error":"#REF!"},{"$error":"#REF!"},{"$error":"#REF!"},{"$error":"#REF!"},{"$error":"#REF!"},{"$error":"#REF!"},{"$error":"#REF!"},{"$error":"#REF!"},{"$error":"#REF!"},0.11,{"$error":"#REF!"},{"$error":"#REF!"},{"$error":"#REF!"},null,null,{"$f":"R4","v":{"$error":"#REF!"}},{"$error":"#REF!"}]
[]
["Valeurs nutritives journalières pour \nsélectionner des populations","Énergie\n(kcal, ou calories)","Protéines (g)","Matières grasses totales (g)","Graisses saturées (g)","Acides gras monoinsaturés (g)","Acides gras polyinsaturés (g)","Glucides (g)","Fibres (g)","Sucre (g)","Calcium [Ca] (mg)","Fer [Fe] (mg)","Magnésium [Mg] (mg)","Phosphore [P] (mg)","Potassium [K] (mg)",null,null,"Sodium [Na] (mg)","Zinc [Zn] (mg)"]
["Hommes, adultes, AJR (régime de 2 000 calories)",2400,{"$f":"(B8*0.15)/4","v":90},{"$f":"(B8*0.35)/9","v":93.333333333333329},{"$f":"(B8*0.1)/9","v":26.666666666666668},{"$f":"((D8-E8)*0.6)","v":39.999999999999993},{"$f":"((D8-E8)*0.4)","v":26.666666666666664},{"$f":"(B8*0.5)/4","v":300},38,36,1000,8,420,1250,3400,null,null,2000,11]
["Hommes, adultes, % Valeur journalière",{"$f":"B$5/B8","v":{"$error":"#REF!"}},{"$error":"#REF!"},{"$error":"#REF!"},{"$error":"#REF!"},{"$error":"#REF!"},{"$error":"#REF!"},{"$error":"#REF!"},{"$error":"#REF!"},{"$error":"#REF!"},{"$error":"#REF!"},1.375E-2,{"$error":"#REF!"},{"$error":"#REF!"},{"$error":"#REF!"},null,null,{"$f":"R$5/R8","v":{"$error":"#REF!"}},{"$error":"#REF!"}]
[null,"Énergie\n(kcal, ou calories)","Protéines (g)","Matières grasses totales (g)","Graisses saturées (g)","Acides gras monoinsaturés (g)","Acides gras polyinsaturés (g)","Glucides (g)","Fibres (g)","Sucre (g)","Calcium [Ca] (mg)","Fer [Fe] (mg)","Magnésium [Mg] (mg)","Phosphore [P] (mg)","Potassium [K] (mg)",null,null,"Sodium [Na] (mg)","Zinc [Zn] (mg)"]
["Femmes, adultes, AJR (régime de 2 000 calories)",2000,{"$f":"(B11*0.15)/4","v":75},{"$f":"(B11*0.35)/9","v":77.777777777777771},{"$f":"(B11*0.1)/9","v":22.222222222222221},{"$f":"((D11-E11)*0.6)","v":33.333333333333329},{"$f":"((D11-E11)*0.4)","v":22.222222222222221},{"$f":"(B11*0.5)/4","v":250},25,25,1000,18,320,1250,2600,null,null,2000,8]
["Femmes, adultes, % Valeur journalière",{"$f":"B$5/B11","v":{"$error":"#REF!"}},{"$error":"#REF!"},{"$error":"#REF!"},{"$error":"#REF!"},{"$error":"#REF!"},{"$error":"#REF!"},{"$error":"#REF!"},{"$error":"#REF!"},{"$error":"#REF!"},{"$error":"#REF!"},6.1111111111111114E-3,{"$error":"#REF!"},{"$error":"#REF!"},{"$error":"#REF!"},null,null,{"$f":"R$5/R11","v":{"$error":"#REF!"}},{"$error":"#REF!"}]
[null,"Énergie\n(kcal, ou calories)","Protéines (g)","Matières grasses totales (g)","Graisses saturées (g)","Acides gras monoinsaturés (g)","Acides gras polyinsaturés (g)","Glucides (g)","Fibres (g)","Sucre (g)","Calcium [Ca] (mg)","Fer [Fe] (mg)","Magnésium [Mg] (mg)","Phosphore [P] (mg)","Potassium [K] (mg)",null,null,"Sodium [Na] (mg)","Zinc [Zn] (mg)"]
["FEA, Adultes, AJR",2200,{"$f":"(B14*0.15)/4","v":82.5},{"$f":"(B14*0.35)/9","v":85.555555555555557},{"$f":"(B14*0.1)/9","v":24.444444444444443},{"$f":"((D14-E14)*0.6)","v":36.666666666666664},{"$f":"((D14-E14)*0.4)","v":24.444444444444446},{"$f":"(B14*0.5)/4","v":275},29,28,1000,27,350,700,2900,null,null,2000,11]
["FEA, Adultes, % Valeur journalière",{"$f":"B$5/B14","v":{"$error":"#REF!"}},{"$error":"#REF!"},{"$error":"#REF!"},{"$error":"#REF!"},{"$error":"#REF!"},{"$error":"#REF!"},{"$error":"#REF!"},{"$error":"#REF!"},{"$error":"#REF!"},{"$error":"#REF!"},4.0740740740740737E-3,{"$error":"#REF!"},{"$error":"#REF!"},{"$error":"#REF!"},null,null,{"$f":"R$5/R14","v":{"$error":"#REF!"}},{"$error":"#REF!"}]
[null,"Énergie\n(kcal, ou calories)","Protéines (g)","Matières grasses totales (g)","Graisses saturées (g)","Acides gras monoinsaturés (g)","Acides gras polyinsaturés (g)","Glucides (g)","Fibres (g)","Sucre (g)","Calcium [Ca] (mg)","Fer [Fe] (mg)","Magnésium [Mg] (mg)","Phosphore [P] (mg)","Potassium [K] (mg)",null,null,"Sodium [Na] (mg)","Zinc [Zn] (mg)"]
["Adolescents (14 à 18 ans), AJR",2000,{"$f":"(B17*0.15)/4","v":75},{"$f":"(B17*0.35)/9","v":77.777777777777771},{"$f":"(B17*0.1)/9","v":22.222222222222221},{"$f":"((D17-E17)*0.6)","v":33.333333333333329},{"$f":"((D17-E17)*0.4)","v":22.222222222222221},{"$f":"(B17*0.5)/4","v":250},26,25,1300,13,380,1250,2600,null,null,2000,10]
["Adolescents (14 à 18 ans), % Valeur journalière",{"$f":"B$5/B17","v":{"$error":"#REF!"}},{"$error":"#REF!"},{"$error":"#REF!"},{"$error":"#REF!"},{"$error":"#REF!"},{"$error":"#REF!"},{"$error":"#REF!"},{"$error":"#REF!"},{"$error":"#REF!"},{"$error":"#REF!"},8.4615384615384613E-3,{"$error":"#REF!"},{"$error":"#REF!"},{"$error":"#REF!"},null,null,{"$f":"R$5/R17","v":{"$error":"#REF!"}},{"$error":"#REF!"}]
[null,"Énergie\n(kcal, ou calories)","Protéines (g)","Matières grasses totales (g)","Graisses saturées (g)","Acides gras monoinsaturés (g)","Acides gras polyinsaturés (g)","Glucides (g)","Fibres (g)","Sucre (g)","Calcium [Ca] (mg)","Fer [Fe] (mg)","Magnésium [Mg] (mg)","Phosphore [P] (mg)","Potassium [K] (mg)",null,null,"Sodium [Na] (mg)","Zinc [Zn] (mg)"]
["Enfants (4 à 8 ans), AJR",1400,{"$f":"(B20*0.15)/4","v":52.5},{"$f":"(B20*0.35)/9","v":54.444444444444436},{"$f":"(B20*0.1)/9","v":15.555555555555555},{"$f":"((D20-E20)*0.6)","v":23.333333333333325},{"$f":"((D20-E20)*0.4)","v":15.555555555555552},{"$f":"(B20*0.5)/4","v":175},25,20,1000,10,130,500,2300,null,null,1200,5]
["Enfants (4 à 8 ans), % Valeur journalière",{"$f":"B$5/B20","v":{"$error":"#REF!"}},{"$error":"#REF!"},{"$error":"#REF!"},{"$error":"#REF!"},{"$error":"#REF!"},{"$error":"#REF!"},{"$error":"#REF!"},{"$error":"#REF!"},{"$error":"#REF!"},{"$error":"#REF!"},1.0999999999999999E-2,{"$error":"#REF!"},{"$error":"#REF!"},{"$error":"#REF!"},null,null,{"$f":"R$5/R20","v":{"$error":"#REF!"}},{"$error":"#REF!"}]
[null,"Énergie\n(kcal, ou calories)","Protéines (g)","Matières grasses totales (g)","Graisses saturées (g)","Acides gras monoinsaturés (g)","Acides gras polyinsaturés (g)","Glucides (g)","Fibres (g)","Sucre (g)","Calcium [Ca] (mg)","Fer [Fe] (mg)","Magnésium [Mg] (mg)","Phosphore [P] (mg)","Potassium [K] (mg)",null,null,"Sodium [Na] (mg)","Zinc [Zn] (mg)"]
["Enfants (1 à 3 ans), AJR",1200,{"$f":"(B23*0.15)/4","v":45},{"$f":"(B23*0.35)/9","v":46.666666666666664},{"$f":"(B23*0.1)/9","v":13.333333333333334},{"$f":"((D23-E23)*0.6)","v":19.999999999999996},{"$f":"((D23-E23)*0.4)","v":13.333333333333332},{"$f":"(B23*0.5)/4","v":150},19,{"$f":"(B23*0.06)/4","v":18},700,7,80,460,2000,null,null,800,3]
["Enfants (1 à 3 ans), % Valeur journalière",{"$f":"B$5/B23","v":{"$error":"#REF!"}},{"$error":"#REF!"},{"$error":"#REF!"},{"$error":"#REF!"},{"$error":"#REF!"},{"$error":"#REF!"},{"$error":"#REF!"},{"$error":"#REF!"},{"$error":"#REF!"},{"$error":"#REF!"},1.5714285714285715E-2,{"$error":"#REF!"},{"$error":"#REF!"},{"$error":"#REF!"},null,null,{"$f":"R$5/R23","v":{"$error":"#REF!"}},{"$error":"#REF!"}]
[null,"Énergie\n(kcal, ou calories)","Protéines (g)","Matières grasses totales (g)","Graisses saturées (g)","Acides gras monoinsaturés (g)","Acides gras polyinsaturés (g)","Glucides (g)","Fibres (g)","Sucre (g)","Calcium [Ca] (mg)","Fer [Fe] (mg)","Magnésium [Mg] (mg)","Phosphore [P] (mg)","Potassium [K] (mg)",null,null,"Sodium [Na] (mg)","Zinc [Zn] (mg)"]
["Nourrisson (6 à 12 mois), AJR",1000,{"$f":"(B26*0.15)/4","v":37.5},{"$f":"(B26*0.35)/9","v":38.888888888888886},"NA","NA","NA",{"$f":"(B26*0.5)/4","v":125},"NA","NA",260,11,75,275,860,null,null,400,3]
["Nourrisson (6 à 12 mois), % Valeur journalière",{"$f":"B$5/B26","v":{"$error":"#REF!"}},{"$error":"#REF!"},{"$error":"#REF!"},"na","na","na",{"$f":"H$5/H26","v":{"$error":"#REF!"}},"na","na",{"$f":"K$5/K26","v":{"$error":"#REF!"}},0.01,{"$error":"#REF!"},{"$error":"#REF!"},{"$error":"#REF!"},null,null,{"$f":"R$5/R26","v":{"$error":"#REF!"}},{"$error":"#REF!"}]
[null,null,null,null,"> 25 % valeur journalière",null,null,"> 30 % Valeur journalière, nutriment à limiter (graisses saturées, sucre, sodium)"]
["Facteurs de durabilité\n(en fonction de la Phase 2)","Rendement des cultures","Rentabilité","Facilité de transformation","Abordabilité","Accessibilité","Sécurité","Facilité de production","Préférence des consommateurs","Charge de travail des femmes","Résistance à la sécheresse","Tolérance à la chaleur","Intrants agrochimiques"]
[]
["Note annuelle de saisonnalité \n(en fonction de la Phase 3)"]
[]
[{"$f":"_xlfn.CONCAT('3B-4B) CalcNutr (6-11)'!D40,\" - Summary Dashboard\")","v":"RBA Nº2 - Summary Dashboard"}]
["Composition des nutriments",null,null,"Valeurs nutritionnelles journalières pour certaines populations","% Valeur journalière (VJ) des nutriments pour certaines populations                ",null,null,null,null,null,null,{"$f":"L33","v":0},null,{"$f":"N33","v":0},0,null,null,{"$f":"R33","v":0},0]
["Nutriments","RBA crue / Ingrédients MFE","RBA cuite / MFE (avec facteur de rétention)","Hommes, adultes, AJR (régime de 2 000 calories)","Hommes, adultes, % VJ","Femmes, adultes, AJR (régime de 2 000 calories)","Femmes, adultes, % VJ","FEA, Adultes, AJR","FEA, Adultes, % VJ","Adolescents (14 à 18 ans), AJR","Adolescents (14 à 18 ans), % VJ","Enfants (2 à 5 ans), OMS","Enfants (2 à 5 ans), % VJ","Enfants (1 à 3 ans), AJR","Enfants (2 à 3 ans), % VJ","Nourrisson (12 à 24 mois), % AJR","Nourrisson (12 à 24 mois), % VJ","Nourrisson (6 à 12 mois), AJR","Nourrissons (6 à 12 mois), % VJ"]
["Énergie (kcal, ou calories)",{"$f":"SUM(('3B-4B) CalcNutr (6-11)'!C19/100)*('3B-4B) CalcNutr (6-11)'!D$42),SUM('3B-4B) CalcNutr (6-11)'!D19/100)*('3B-4B) CalcNutr (6-11)'!D$43),SUM('3B-4B) CalcNutr (6-11)'!E19/100)*('3B-4B) CalcNutr (6-11)'!D$44),SUM('3B-4B) CalcNutr (6-11)'!F19/100)*('3B-4B) CalcNutr (6-11)'!D$45),SUM('3B-4B) CalcNutr (6-11)'!G19/100)*('3B-4B) CalcNutr (6-11)'!D$46),SUM('3B-4B) CalcNutr (6-11)'!H19/100)*('3B-4B) CalcNutr (6-11)'!D$47),SUM('3B-4B) CalcNutr (6-11)'!I19/100)*('3B-4B) CalcNutr (6-11)'!D$48),SUM('3B-4B) CalcNutr (6-11)'!J19/100)*('3B-4B) CalcNutr (6-11)'!D$49),SUM('3B-4B) CalcNutr (6-11)'!K19/100)*('3B-4B) CalcNutr (6-11)'!D$50),SUM('3B-4B) CalcNutr (6-11)'!L19/100)*('3B-4B) CalcNutr (6-11)'!D$51),SUM('3B-4B) CalcNutr (6-11)'!M19/100)*('3B-4B) CalcNutr (6-11)'!D52),SUM('3B-4B) CalcNutr (6-11)'!N19/100)*('3B-4B) CalcNutr (6-11)'!D53),SUM('3B-4B) CalcNutr (6-11)'!O19/100)*('3B-4B) CalcNutr (6-11)'!D54))","v":0},{"$f":"B36","v":0},2400,{"$f":"$C36/D36","v":0},2000,{"$f":"$C36/F36","v":0},2200,{"$f":"$C36/H36","v":0},2000,{"$f":"$C36/J36","v":0},1100,{"$f":"$C36/L36","v":0},1200,{"$f":"$C36/N36","v":0},1000,{"$f":"$C36/P36","v":0},800,{"$f":"$C36/R36","v":0}]
["Protéines (g)",{"$f":"SUM(('3B-4B) CalcNutr (6-11)'!C20/100)*('3B-4B) CalcNutr (6-11)'!D$42),SUM('3B-4B) CalcNutr (6-11)'!D20/100)*('3B-4B) CalcNutr (6-11)'!D$43),SUM('3B-4B) CalcNutr (6-11)'!E20/100)*('3B-4B) CalcNutr (6-11)'!D$44),SUM('3B-4B) CalcNutr (6-11)'!F20/100)*('3B-4B) CalcNutr (6-11)'!D$45),SUM('3B-4B) CalcNutr (6-11)'!G20/100)*('3B-4B) CalcNutr (6-11)'!D$46),SUM('3B-4B) CalcNutr (6-11)'!H20/100)*('3B-4B) CalcNutr (6-11)'!D$47),SUM('3B-4B) CalcNutr (6-11)'!I20/100)*('3B-4B) CalcNutr (6-11)'!D$48),SUM('3B-4B) CalcNutr (6-11)'!J20/100)*('3B-4B) CalcNutr (6-11)'!D$49),SUM('3B-4B) CalcNutr (6-11)'!K20/100)*('3B-4B) CalcNutr (6-11)'!D$50),SUM('3B-4B) CalcNutr (6-11)'!L20/100)*('3B-4B) CalcNutr (6-11)'!D$51),SUM('3B-4B) CalcNutr (6-11)'!M20/100)*('3B-4B) CalcNutr (6-11)'!D52),SUM('3B-4B) CalcNutr (6-11)'!N20/100)*('3B-4B) CalcNutr (6-11)'!D53),SUM('3B-4B) CalcNutr (6-11)'!O20/100)*('3B-4B) CalcNutr (6-11)'!D54))","v":0},0,{"$f":"(D36*0.15)/4","v":90},0,75,0,{"$f":"(H36*0.15)/4","v":82.5},0,{"$f":"(J36*0.15)/4","v":75},0,{"$f":"(L36*0.15)/4","v":41.25},0,{"$f":"(N36*0.15)/4","v":45},0,{"$f":"(P36*0.15)/4","v":37.5},0,{"$f":"(R36*0.15)/4","v":30},0]
["Matières grasses totales (g)",{"$f":"SUM(('3B-4B) CalcNutr (6-11)'!C21/100)*('3B-4B) CalcNutr (6-11)'!D$42),SUM('3B-4B) CalcNutr (6-11)'!D21/100)*('3B-4B) CalcNutr (6-11)'!D$43),SUM('3B-4B) CalcNutr (6-11)'!E21/100)*('3B-4B) CalcNutr (6-11)'!D$44),SUM('3B-4B) CalcNutr (6-11)'!F21/100)*('3B-4B) CalcNutr (6-11)'!D$45),SUM('3B-4B) CalcNutr (6-11)'!G21/100)*('3B-4B) CalcNutr (6-11)'!D$46),SUM('3B-4B) CalcNutr (6-11)'!H21/100)*('3B-4B) CalcNutr (6-11)'!D$47),SUM('3B-4B) CalcNutr (6-11)'!I21/100)*('3B-4B) CalcNutr (6-11)'!D$48),SUM('3B-4B) CalcNutr (6-11)'!J21/100)*('3B-4B) CalcNutr (6-11)'!D$49),SUM('3B-4B) CalcNutr (6-11)'!K21/100)*('3B-4B) CalcNutr (6-11)'!D$50),SUM('3B-4B) CalcNutr (6-11)'!L21/100)*('3B-4B) CalcNutr (6-11)'!D$51),SUM('3B-4B) CalcNutr (6-11)'!M21/100)*('3B-4B) CalcNutr (6-11)'!D52),SUM('3B-4B) CalcNutr (6-11)'!N21/100)*('3B-4B) CalcNutr (6-11)'!D53),SUM('3B-4B) CalcNutr (6-11)'!O21/100)*('3B-4B) CalcNutr (6-11)'!D54))","v":0},0,{"$f":"(D36*0.35)/9","v":93.333333333333329},0,77.777777777777771,0,{"$f":"(H36*0.35)/9","v":85.555555555555557},0,{"$f":"(J36*0.35)/9","v":77.777777777777771},0,{"$f":"(L36*0.35)/9","v":42.777777777777779},0,{"$f":"(N36*0.35)/9","v":46.666666666666664},0,{"$f":"(P36*0.35)/9","v":38.888888888888886},0,{"$f":"(R36*0.35)/9","v":31.111111111111111},0]
["Glucides (g)",{"$f":"SUM(('3B-4B) CalcNutr (6-11)'!C22/100)*('3B-4B) CalcNutr (6-11)'!D$42),SUM('3B-4B) CalcNutr (6-11)'!D22/100)*('3B-4B) CalcNutr (6-11)'!D$43),SUM('3B-4B) CalcNutr (6-11)'!E22/100)*('3B-4B) CalcNutr (6-11)'!D$44),SUM('3B-4B) CalcNutr (6-11)'!F22/100)*('3B-4B) CalcNutr (6-11)'!D$45),SUM('3B-4B) CalcNutr (6-11)'!G22/100)*('3B-4B) CalcNutr (6-11)'!D$46),SUM('3B-4B) CalcNutr (6-11)'!H22/100)*('3B-4B) CalcNutr (6-11)'!D$47),SUM('3B-4B) CalcNutr (6-11)'!I22/100)*('3B-4B) CalcNutr (6-11)'!D$48),SUM('3B-4B) CalcNutr (6-11)'!J22/100)*('3B-4B) CalcNutr (6-11)'!D$49),SUM('3B-4B) CalcNutr (6-11)'!K22/100)*('3B-4B) CalcNutr (6-11)'!D$50),SUM('3B-4B) CalcNutr (6-11)'!L22/100)*('3B-4B) CalcNutr (6-11)'!D$51),SUM('3B-4B) CalcNutr (6-11)'!M22/100)*('3B-4B) CalcNutr (6-11)'!D52),SUM('3B-4B) CalcNutr (6-11)'!N22/100)*('3B-4B) CalcNutr (6-11)'!D53),SUM('3B-4B) CalcNutr (6-11)'!O22/100)*('3B-4B) CalcNutr (6-11)'!D54))","v":0},0,{"$f":"(D36*0.5)/4","v":300},0,250,0,{"$f":"(H36*0.5)/4","v":275},0,{"$f":"(J36*0.5)/4","v":250},0,{"$f":"(L36*0.5)/4","v":137.5},0,{"$f":"(N36*0.5)/4","v":150},0,{"$f":"(P36*0.5)/4","v":125},0,{"$f":"(R36*0.5)/4","v":100},0]
["Fibres (g)",{"$f":"SUM(('3B-4B) CalcNutr (6-11)'!C23/100)*('3B-4B) CalcNutr (6-11)'!D$42),SUM('3B-4B) CalcNutr (6-11)'!D23/100)*('3B-4B) CalcNutr (6-11)'!D$43),SUM('3B-4B) CalcNutr (6-11)'!E23/100)*('3B-4B) CalcNutr (6-11)'!D$44),SUM('3B-4B) CalcNutr (6-11)'!F23/100)*('3B-4B) CalcNutr (6-11)'!D$45),SUM('3B-4B) CalcNutr (6-11)'!G23/100)*('3B-4B) CalcNutr (6-11)'!D$46),SUM('3B-4B) CalcNutr (6-11)'!H23/100)*('3B-4B) CalcNutr (6-11)'!D$47),SUM('3B-4B) CalcNutr (6-11)'!I23/100)*('3B-4B) CalcNutr (6-11)'!D$48),SUM('3B-4B) CalcNutr (6-11)'!J23/100)*('3B-4B) CalcNutr (6-11)'!D$49),SUM('3B-4B) CalcNutr (6-11)'!K23/100)*('3B-4B) CalcNutr (6-11)'!D$50),SUM('3B-4B) CalcNutr (6-11)'!L23/100)*('3B-4B) CalcNutr (6-11)'!D$51),SUM('3B-4B) CalcNutr (6-11)'!M23/100)*('3B-4B) CalcNutr (6-11)'!D52),SUM('3B-4B) CalcNutr (6-11)'!N23/100)*('3B-4B) CalcNutr (6-11)'!D53),SUM('3B-4B) CalcNutr (6-11)'!O23/100)*('3B-4B) CalcNutr (6-11)'!D54))","v":0},0,38,0,25,0,29,0,26,0,25,0,19,0,17,0,"NA","NA"]
["Sucre (g)",{"$f":"SUM(('3B-4B) CalcNutr (6-11)'!C24/100)*('3B-4B) CalcNutr (6-11)'!D$42),SUM('3B-4B) CalcNutr (6-11)'!D24/100)*('3B-4B) CalcNutr (6-11)'!D$43),SUM('3B-4B) CalcNutr (6-11)'!E24/100)*('3B-4B) CalcNutr (6-11)'!D$44),SUM('3B-4B) CalcNutr (6-11)'!F24/100)*('3B-4B) CalcNutr (6-11)'!D$45),SUM('3B-4B) CalcNutr (6-11)'!G24/100)*('3B-4B) CalcNutr (6-11)'!D$46),SUM('3B-4B) CalcNutr (6-11)'!H24/100)*('3B-4B) CalcNutr (6-11)'!D$47),SUM('3B-4B) CalcNutr (6-11)'!I24/100)*('3B-4B) CalcNutr (6-11)'!D$48),SUM('3B-4B) CalcNutr (6-11)'!J24/100)*('3B-4B) CalcNutr (6-11)'!D$49),SUM('3B-4B) CalcNutr (6-11)'!K24/100)*('3B-4B) CalcNutr (6-11)'!D$50),SUM('3B-4B) CalcNutr (6-11)'!L24/100)*('3B-4B) CalcNutr (6-11)'!D$51),SUM('3B-4B) CalcNutr (6-11)'!M24/100)*('3B-4B) CalcNutr (6-11)'!D52),SUM('3B-4B) CalcNutr (6-11)'!N24/100)*('3B-4B) CalcNutr (6-11)'!D53),SUM('3B-4B) CalcNutr (6-11)'!O24/100)*('3B-4B) CalcNutr (6-11)'!D54))","v":0},0,36,0,25,0,28,0,25,0,20,0,{"$f":"(N36*0.06)/4","v":18},0,"NA","NA","NA","NA"]
["Calcium [Ca] (mg)",{"$f":"SUM(('3B-4B) CalcNutr (6-11)'!C25/100)*('3B-4B) CalcNutr (6-11)'!D$42),SUM('3B-4B) CalcNutr (6-11)'!D25/100)*('3B-4B) CalcNutr (6-11)'!D$43),SUM('3B-4B) CalcNutr (6-11)'!E25/100)*('3B-4B) CalcNutr (6-11)'!D$44),SUM('3B-4B) CalcNutr (6-11)'!F25/100)*('3B-4B) CalcNutr (6-11)'!D$45),SUM('3B-4B) CalcNutr (6-11)'!G25/100)*('3B-4B) CalcNutr (6-11)'!D$46),SUM('3B-4B) CalcNutr (6-11)'!H25/100)*('3B-4B) CalcNutr (6-11)'!D$47),SUM('3B-4B) CalcNutr (6-11)'!I25/100)*('3B-4B) CalcNutr (6-11)'!D$48),SUM('3B-4B) CalcNutr (6-11)'!J25/100)*('3B-4B) CalcNutr (6-11)'!D$49),SUM('3B-4B) CalcNutr (6-11)'!K25/100)*('3B-4B) CalcNutr (6-11)'!D$50),SUM('3B-4B) CalcNutr (6-11)'!L25/100)*('3B-4B) CalcNutr (6-11)'!D$51),SUM('3B-4B) CalcNutr (6-11)'!M25/100)*('3B-4B) CalcNutr (6-11)'!D52),SUM('3B-4B) CalcNutr (6-11)'!N25/100)*('3B-4B) CalcNutr (6-11)'!D53),SUM('3B-4B) CalcNutr (6-11)'!O25/100)*('3B-4B) CalcNutr (6-11)'!D54))","v":0},0,1000,0,1000,0,1000,0,1300,0,1200,0,700,0,400,{"$f":"$C42/P42","v":0},260,{"$f":"$C42/R42","v":0}]
["Fer [Fe] (mg)",{"$f":"SUM(('3B-4B) CalcNutr (6-11)'!C26/100)*('3B-4B) CalcNutr (6-11)'!D$42),SUM('3B-4B) CalcNutr (6-11)'!D26/100)*('3B-4B) CalcNutr (6-11)'!D$43),SUM('3B-4B) CalcNutr (6-11)'!E26/100)*('3B-4B) CalcNutr (6-11)'!D$44),SUM('3B-4B) CalcNutr (6-11)'!F26/100)*('3B-4B) CalcNutr (6-11)'!D$45),SUM('3B-4B) CalcNutr (6-11)'!G26/100)*('3B-4B) CalcNutr (6-11)'!D$46),SUM('3B-4B) CalcNutr (6-11)'!H26/100)*('3B-4B) CalcNutr (6-11)'!D$47),SUM('3B-4B) CalcNutr (6-11)'!I26/100)*('3B-4B) CalcNutr (6-11)'!D$48),SUM('3B-4B) CalcNutr (6-11)'!J26/100)*('3B-4B) CalcNutr (6-11)'!D$49),SUM('3B-4B) CalcNutr (6-11)'!K26/100)*('3B-4B) CalcNutr (6-11)'!D$50),SUM('3B-4B) CalcNutr (6-11)'!L26/100)*('3B-4B) CalcNutr (6-11)'!D$51),SUM('3B-4B) CalcNutr (6-11)'!M26/100)*('3B-4B) CalcNutr (6-11)'!D52),SUM('3B-4B) CalcNutr (6-11)'!N26/100)*('3B-4B) CalcNutr (6-11)'!D53),SUM('3B-4B) CalcNutr (6-11)'!O26/100)*('3B-4B) CalcNutr (6-11)'!D54))","v":0},0,8,0,18,0,27,0,13,0,22,0,7,0,7,0,11,0]
["Magnésium [Mg] (mg)",{"$f":"SUM(('3B-4B) CalcNutr (6-11)'!C27/100)*('3B-4B) CalcNutr (6-11)'!D$42),SUM('3B-4B) CalcNutr (6-11)'!D27/100)*('3B-4B) CalcNutr (6-11)'!D$43),SUM('3B-4B) CalcNutr (6-11)'!E27/100)*('3B-4B) CalcNutr (6-11)'!D$44),SUM('3B-4B) CalcNutr (6-11)'!F27/100)*('3B-4B) CalcNutr (6-11)'!D$45),SUM('3B-4B) CalcNutr (6-11)'!G27/100)*('3B-4B) CalcNutr (6-11)'!D$46),SUM('3B-4B) CalcNutr (6-11)'!H27/100)*('3B-4B) CalcNutr (6-11)'!D$47),SUM('3B-4B) CalcNutr (6-11)'!I27/100)*('3B-4B) CalcNutr (6-11)'!D$48),SUM('3B-4B) CalcNutr (6-11)'!J27/100)*('3B-4B) CalcNutr (6-11)'!D$49),SUM('3B-4B) CalcNutr (6-11)'!K27/100)*('3B-4B) CalcNutr (6-11)'!D$50),SUM('3B-4B) CalcNutr (6-11)'!L27/100)*('3B-4B) CalcNutr (6-11)'!D$51),SUM('3B-4B) CalcNutr (6-11)'!M27/100)*('3B-4B) CalcNutr (6-11)'!D52),SUM('3B-4B) CalcNutr (6-11)'!N27/100)*('3B-4B) CalcNutr (6-11)'!D53),SUM('3B-4B) CalcNutr (6-11)'!O27/100)*('3B-4B) CalcNutr (6-11)'!D54))","v":0},0,420,0,320,0,350,0,380,0,{"$f":"(280+420)/2","v":350},0,80,0,65,0,75,0]
["Potassium [K] (mg)",{"$f":"SUM(('3B-4B) CalcNutr (6-11)'!C28/100)*('3B-4B) CalcNutr (6-11)'!D$42),SUM('3B-4B) CalcNutr (6-11)'!D28/100)*('3B-4B) CalcNutr (6-11)'!D$43),SUM('3B-4B) CalcNutr (6-11)'!E28/100)*('3B-4B) CalcNutr (6-11)'!D$44),SUM('3B-4B) CalcNutr (6-11)'!F28/100)*('3B-4B) CalcNutr (6-11)'!D$45),SUM('3B-4B) CalcNutr (6-11)'!G28/100)*('3B-4B) CalcNutr (6-11)'!D$46),SUM('3B-4B) CalcNutr (6-11)'!H28/100)*('3B-4B) CalcNutr (6-11)'!D$47),SUM('3B-4B) CalcNutr (6-11)'!I28/100)*('3B-4B) CalcNutr (6-11)'!D$48),SUM('3B-4B) CalcNutr (6-11)'!J28/100)*('3B-4B) CalcNutr (6-11)'!D$49),SUM('3B-4B) CalcNutr (6-11)'!K28/100)*('3B-4B) CalcNutr (6-11)'!D$50),SUM('3B-4B) CalcNutr (6-11)'!L28/100)*('3B-4B) CalcNutr (6-11)'!D$51),SUM('3B-4B) CalcNutr (6-11)'!M28/100)*('3B-4B) CalcNutr (6-11)'!D52),SUM('3B-4B) CalcNutr (6-11)'!N28/100)*('3B-4B) CalcNutr (6-11)'!D53),SUM('3B-4B) CalcNutr (6-11)'!O28/100)*('3B-4B) CalcNutr (6-11)'!D54))","v":0},0,3400,0,2600,0,2900,0,2600,0,{"$f":"(1500+2200)/2","v":1850},0,2000,0,900,0,860,0]
["Sodium [Na] (mg)",{"$f":"SUM(('3B-4B) CalcNutr (6-11)'!C29/100)*('3B-4B) CalcNutr (6-11)'!D$42),SUM('3B-4B) CalcNutr (6-11)'!D29/100)*('3B-4B) CalcNutr (6-11)'!D$43),SUM('3B-4B) CalcNutr (6-11)'!E29/100)*('3B-4B) CalcNutr (6-11)'!D$44),SUM('3B-4B) CalcNutr (6-11)'!F29/100)*('3B-4B) CalcNutr (6-11)'!D$45),SUM('3B-4B) CalcNutr (6-11)'!G29/100)*('3B-4B) CalcNutr (6-11)'!D$46),SUM('3B-4B) CalcNutr (6-11)'!H29/100)*('3B-4B) CalcNutr (6-11)'!D$47),SUM('3B-4B) CalcNutr (6-11)'!I29/100)*('3B-4B) CalcNutr (6-11)'!D$48),SUM('3B-4B) CalcNutr (6-11)'!J29/100)*('3B-4B) CalcNutr (6-11)'!D$49),SUM('3B-4B) CalcNutr (6-11)'!K29/100)*('3B-4B) CalcNutr (6-11)'!D$50),SUM('3B-4B) CalcNutr (6-11)'!L29/100)*('3B-4B) CalcNutr (6-11)'!D$51),SUM('3B-4B) CalcNutr (6-11)'!M29/100)*('3B-4B) CalcNutr (6-11)'!D52),SUM('3B-4B) CalcNutr (6-11)'!N29/100)*('3B-4B) CalcNutr (6-11)'!D53),SUM('3B-4B) CalcNutr (6-11)'!O29/100)*('3B-4B) CalcNutr (6-11)'!D54))","v":0},0,2000,0,2000,0,2000,0,2000,0,1200,0,800,0,600,0,400,0]
["Zinc [Zn] (mg)",{"$f":"SUM(('3B-4B) CalcNutr (6-11)'!C30/100)*('3B-4B) CalcNutr (6-11)'!D$42),SUM('3B-4B) CalcNutr (6-11)'!D30/100)*('3B-4B) CalcNutr (6-11)'!D$43),SUM('3B-4B) CalcNutr (6-11)'!E30/100)*('3B-4B) CalcNutr (6-11)'!D$44),SUM('3B-4B) CalcNutr (6-11)'!F30/100)*('3B-4B) CalcNutr (6-11)'!D$45),SUM('3B-4B) CalcNutr (6-11)'!G30/100)*('3B-4B) CalcNutr (6-11)'!D$46),SUM('3B-4B) CalcNutr (6-11)'!H30/100)*('3B-4B) CalcNutr (6-11)'!D$47),SUM('3B-4B) CalcNutr (6-11)'!I30/100)*('3B-4B) CalcNutr (6-11)'!D$48),SUM('3B-4B) CalcNutr (6-11)'!J30/100)*('3B-4B) CalcNutr (6-11)'!D$49),SUM('3B-4B) CalcNutr (6-11)'!K30/100)*('3B-4B) CalcNutr (6-11)'!D$50),SUM('3B-4B) CalcNutr (6-11)'!L30/100)*('3B-4B) CalcNutr (6-11)'!D$51),SUM('3B-4B) CalcNutr (6-11)'!M30/100)*('3B-4B) CalcNutr (6-11)'!D52),SUM('3B-4B) CalcNutr (6-11)'!N30/100)*('3B-4B) CalcNutr (6-11)'!D53),SUM('3B-4B) CalcNutr (6-11)'!O30/100)*('3B-4B) CalcNutr (6-11)'!D54))","v":0},0,11,0,8,0,11,0,10,0,{"$f":"(20+35)/2","v":27.5},0,3,0,2.5,0,3,0]
["Vitamine A EAR (mcg)",{"$f":"SUM(('3B-4B) CalcNutr (6-11)'!C31/100)*('3B-4B) CalcNutr (6-11)'!D$42),SUM('3B-4B) CalcNutr (6-11)'!D31/100)*('3B-4B) CalcNutr (6-11)'!D$43),SUM('3B-4B) CalcNutr (6-11)'!E31/100)*('3B-4B) CalcNutr (6-11)'!D$44),SUM('3B-4B) CalcNutr (6-11)'!F31/100)*('3B-4B) CalcNutr (6-11)'!D$45),SUM('3B-4B) CalcNutr (6-11)'!G31/100)*('3B-4B) CalcNutr (6-11)'!D$46),SUM('3B-4B) CalcNutr (6-11)'!H31/100)*('3B-4B) CalcNutr (6-11)'!D$47),SUM('3B-4B) CalcNutr (6-11)'!I31/100)*('3B-4B) CalcNutr (6-11)'!D$48),SUM('3B-4B) CalcNutr (6-11)'!J31/100)*('3B-4B) CalcNutr (6-11)'!D$49),SUM('3B-4B) CalcNutr (6-11)'!K31/100)*('3B-4B) CalcNutr (6-11)'!D$50),SUM('3B-4B) CalcNutr (6-11)'!L31/100)*('3B-4B) CalcNutr (6-11)'!D$51),SUM('3B-4B) CalcNutr (6-11)'!M31/100)*('3B-4B) CalcNutr (6-11)'!D52),SUM('3B-4B) CalcNutr (6-11)'!N31/100)*('3B-4B) CalcNutr (6-11)'!D53),SUM('3B-4B) CalcNutr (6-11)'!O31/100)*('3B-4B) CalcNutr (6-11)'!D54))","v":0},{"$f":"((IF('3B-4B) CalcNutr (6-11)'!D41=\"Boiled (<10 min)\",0.8,IF('3B-4B) CalcNutr (6-11)'!D41=\"Boiled (>10 min)\",0.75,IF('3B-4B) CalcNutr (6-11)'!D41=\"Steamed\",0.9,IF('3B-4B) CalcNutr (6-11)'!D41=\"Fried\",0.9,IF('3B-4B) CalcNutr (6-11)'!D41=\"Baked\",0.9,IF('3B-4B) CalcNutr (6-11)'!D41=\"Raw (no cooking)\",1,IF('3B-4B) CalcNutr (6-11)'!D41=\"Other cooking method\",1))))))))*B48)","v":0},900,0,700,0,1300,0,700,0,{"$f":"2500*0.3","v":750},0,300,0,210,0,500,0]
["Thiamine [Vitamine B1] (mg)",{"$f":"SUM(('3B-4B) CalcNutr (6-11)'!C32/100)*('3B-4B) CalcNutr (6-11)'!D$42),SUM('3B-4B) CalcNutr (6-11)'!D32/100)*('3B-4B) CalcNutr (6-11)'!D$43),SUM('3B-4B) CalcNutr (6-11)'!E32/100)*('3B-4B) CalcNutr (6-11)'!D$44),SUM('3B-4B) CalcNutr (6-11)'!F32/100)*('3B-4B) CalcNutr (6-11)'!D$45),SUM('3B-4B) CalcNutr (6-11)'!G32/100)*('3B-4B) CalcNutr (6-11)'!D$46),SUM('3B-4B) CalcNutr (6-11)'!H32/100)*('3B-4B) CalcNutr (6-11)'!D$47),SUM('3B-4B) CalcNutr (6-11)'!I32/100)*('3B-4B) CalcNutr (6-11)'!D$48),SUM('3B-4B) CalcNutr (6-11)'!J32/100)*('3B-4B) CalcNutr (6-11)'!D$49),SUM('3B-4B) CalcNutr (6-11)'!K32/100)*('3B-4B) CalcNutr (6-11)'!D$50),SUM('3B-4B) CalcNutr (6-11)'!L32/100)*('3B-4B) CalcNutr (6-11)'!D$51),SUM('3B-4B) CalcNutr (6-11)'!M32/100)*('3B-4B) CalcNutr (6-11)'!D$52),SUM('3B-4B) CalcNutr (6-11)'!N32/100)*('3B-4B) CalcNutr (6-11)'!D$53),SUM('3B-4B) CalcNutr (6-11)'!O32/100)*('3B-4B) CalcNutr (6-11)'!D$54))","v":0},{"$f":"((IF('3B-4B) CalcNutr (6-11)'!D41=\"Boiled (<10 min)\",0.75,IF('3B-4B) CalcNutr (6-11)'!D41=\"Boiled (>10 min)\",0.65,IF('3B-4B) CalcNutr (6-11)'!D41=\"Steamed\",0.8,IF('3B-4B) CalcNutr (6-11)'!D41=\"Fried\",0.8,IF('3B-4B) CalcNutr (6-11)'!D41=\"Baked\",0.85,IF('3B-4B) CalcNutr (6-11)'!D41=\"Raw (no cooking)\",1,IF('3B-4B) CalcNutr (6-11)'!D41=\"Other cooking method\",1))))))))*B49)","v":0},1.2,0,1.1000000000000001,0,1.4,0,1.2,0,1,0,0.5,0,0.4,0,0.3,0]
["Riboflavine [Vitamine B2] (mg)",{"$f":"SUM(('3B-4B) CalcNutr (6-11)'!C33/100)*('3B-4B) CalcNutr (6-11)'!D$42),SUM('3B-4B) CalcNutr (6-11)'!D33/100)*('3B-4B) CalcNutr (6-11)'!D$43),SUM('3B-4B) CalcNutr (6-11)'!E33/100)*('3B-4B) CalcNutr (6-11)'!D$44),SUM('3B-4B) CalcNutr (6-11)'!F33/100)*('3B-4B) CalcNutr (6-11)'!D$45),SUM('3B-4B) CalcNutr (6-11)'!G33/100)*('3B-4B) CalcNutr (6-11)'!D$46),SUM('3B-4B) CalcNutr (6-11)'!H33/100)*('3B-4B) CalcNutr (6-11)'!D$47),SUM('3B-4B) CalcNutr (6-11)'!I33/100)*('3B-4B) CalcNutr (6-11)'!D$48),SUM('3B-4B) CalcNutr (6-11)'!J33/100)*('3B-4B) CalcNutr (6-11)'!D$49),SUM('3B-4B) CalcNutr (6-11)'!K33/100)*('3B-4B) CalcNutr (6-11)'!D$50),SUM('3B-4B) CalcNutr (6-11)'!L33/100)*('3B-4B) CalcNutr (6-11)'!D$51),SUM('3B-4B) CalcNutr (6-11)'!M33/100)*('3B-4B) CalcNutr (6-11)'!D$52),SUM('3B-4B) CalcNutr (6-11)'!N33/100)*('3B-4B) CalcNutr (6-11)'!D$53),SUM('3B-4B) CalcNutr (6-11)'!O33/100)*('3B-4B) CalcNutr (6-11)'!D$54))","v":0},{"$f":"((IF('3B-4B) CalcNutr (6-11)'!D41=\"Boiled (<10 min)\",0.75,IF('3B-4B) CalcNutr (6-11)'!D41=\"Boiled (>10 min)\",0.65,IF('3B-4B) CalcNutr (6-11)'!D41=\"Steamed\",0.9,IF('3B-4B) CalcNutr (6-11)'!D41=\"Fried\",0.9,IF('3B-4B) CalcNutr (6-11)'!D41=\"Baked\",0.9,IF('3B-4B) CalcNutr (6-11)'!D41=\"Raw (no cooking)\",1,IF('3B-4B) CalcNutr (6-11)'!D41=\"Other cooking method\",1))))))))*B50)","v":0},1.3,0,1.1000000000000001,0,1.5,0,1.1499999999999999,0,4,0,0.5,0,0.4,0,0.4,0]
["Equiv. Niacine [Vitamine B3] (mg)",{"$f":"SUM(('3B-4B) CalcNutr (6-11)'!C34/100)*('3B-4B) CalcNutr (6-11)'!D$42),SUM('3B-4B) CalcNutr (6-11)'!D34/100)*('3B-4B) CalcNutr (6-11)'!D$43),SUM('3B-4B) CalcNutr (6-11)'!E34/100)*('3B-4B) CalcNutr (6-11)'!D$44),SUM('3B-4B) CalcNutr (6-11)'!F34/100)*('3B-4B) CalcNutr (6-11)'!D$45),SUM('3B-4B) CalcNutr (6-11)'!G34/100)*('3B-4B) CalcNutr (6-11)'!D$46),SUM('3B-4B) CalcNutr (6-11)'!H34/100)*('3B-4B) CalcNutr (6-11)'!D$47),SUM('3B-4B) CalcNutr (6-11)'!I34/100)*('3B-4B) CalcNutr (6-11)'!D$48),SUM('3B-4B) CalcNutr (6-11)'!J34/100)*('3B-4B) CalcNutr (6-11)'!D$49),SUM('3B-4B) CalcNutr (6-11)'!K34/100)*('3B-4B) CalcNutr (6-11)'!D$50),SUM('3B-4B) CalcNutr (6-11)'!L34/100)*('3B-4B) CalcNutr (6-11)'!D$51),SUM('3B-4B) CalcNutr (6-11)'!M34/100)*('3B-4B) CalcNutr (6-11)'!D$52),SUM('3B-4B) CalcNutr (6-11)'!N34/100)*('3B-4B) CalcNutr (6-11)'!D$53),SUM('3B-4B) CalcNutr (6-11)'!O34/100)*('3B-4B) CalcNutr (6-11)'!D$54))","v":0},{"$f":"((IF('3B-4B) CalcNutr (6-11)'!D41=\"Boiled (<10 min)\",0.8,IF('3B-4B) CalcNutr (6-11)'!D41=\"Boiled (>10 min)\",0.75,IF('3B-4B) CalcNutr (6-11)'!D41=\"Steamed\",0.9,IF('3B-4B) CalcNutr (6-11)'!D41=\"Fried\",0.9,IF('3B-4B) CalcNutr (6-11)'!D41=\"Baked\",0.9,IF('3B-4B) CalcNutr (6-11)'!D41=\"Raw (no cooking)\",1,IF('3B-4B) CalcNutr (6-11)'!D41=\"Other cooking method\",1))))))))*B51)","v":0},16,0,14,0,18,0,15,0,8,0,6,0,5,0,4,0]
["Folate EFA (mcg)",{"$f":"SUM(('3B-4B) CalcNutr (6-11)'!C35/100)*('3B-4B) CalcNutr (6-11)'!D$42),SUM('3B-4B) CalcNutr (6-11)'!D35/100)*('3B-4B) CalcNutr (6-11)'!D$43),SUM('3B-4B) CalcNutr (6-11)'!E35/100)*('3B-4B) CalcNutr (6-11)'!D$44),SUM('3B-4B) CalcNutr (6-11)'!F35/100)*('3B-4B) CalcNutr (6-11)'!D$45),SUM('3B-4B) CalcNutr (6-11)'!G35/100)*('3B-4B) CalcNutr (6-11)'!D$46),SUM('3B-4B) CalcNutr (6-11)'!H35/100)*('3B-4B) CalcNutr (6-11)'!D$47),SUM('3B-4B) CalcNutr (6-11)'!I35/100)*('3B-4B) CalcNutr (6-11)'!D$48),SUM('3B-4B) CalcNutr (6-11)'!J35/100)*('3B-4B) CalcNutr (6-11)'!D$49),SUM('3B-4B) CalcNutr (6-11)'!K35/100)*('3B-4B) CalcNutr (6-11)'!D$50),SUM('3B-4B) CalcNutr (6-11)'!L35/100)*('3B-4B) CalcNutr (6-11)'!D$51),SUM('3B-4B) CalcNutr (6-11)'!M31/100)*('3B-4B) CalcNutr (6-11)'!D52),SUM('3B-4B) CalcNutr (6-11)'!N31/100)*('3B-4B) CalcNutr (6-11)'!D53),SUM('3B-4B) CalcNutr (6-11)'!O31/100)*('3B-4B) CalcNutr (6-11)'!D54))","v":0},{"$f":"((IF('3B-4B) CalcNutr (6-11)'!D41=\"Boiled (<10 min)\",0.8,IF('3B-4B) CalcNutr (6-11)'!D41=\"Boiled (>10 min)\",0.7,IF('3B-4B) CalcNutr (6-11)'!D41=\"Steamed\",0.85,IF('3B-4B) CalcNutr (6-11)'!D41=\"Fried\",0.85,IF('3B-4B) CalcNutr (6-11)'!D41=\"Baked\",0.9,IF('3B-4B) CalcNutr (6-11)'!D41=\"Raw (no cooking)\",1,IF('3B-4B) CalcNutr (6-11)'!D41=\"Other cooking method\",1))))))))*B52)","v":0},400,0,400,0,600,0,400,0,200,0,150,0,120,0,80,0]
["Vitamine B12 (mcg)",{"$f":"SUM(('3B-4B) CalcNutr (6-11)'!C36/100)*('3B-4B) CalcNutr (6-11)'!D$42),SUM('3B-4B) CalcNutr (6-11)'!D36/100)*('3B-4B) CalcNutr (6-11)'!D$43),SUM('3B-4B) CalcNutr (6-11)'!E36/100)*('3B-4B) CalcNutr (6-11)'!D$44),SUM('3B-4B) CalcNutr (6-11)'!F36/100)*('3B-4B) CalcNutr (6-11)'!D$45),SUM('3B-4B) CalcNutr (6-11)'!G36/100)*('3B-4B) CalcNutr (6-11)'!D$46),SUM('3B-4B) CalcNutr (6-11)'!H36/100)*('3B-4B) CalcNutr (6-11)'!D$47),SUM('3B-4B) CalcNutr (6-11)'!I36/100)*('3B-4B) CalcNutr (6-11)'!D$48),SUM('3B-4B) CalcNutr (6-11)'!J36/100)*('3B-4B) CalcNutr (6-11)'!D$49),SUM('3B-4B) CalcNutr (6-11)'!K36/100)*('3B-4B) CalcNutr (6-11)'!D$50),SUM('3B-4B) CalcNutr (6-11)'!L36/100)*('3B-4B) CalcNutr (6-11)'!D$51),SUM('3B-4B) CalcNutr (6-11)'!M36/100)*('3B-4B) CalcNutr (6-11)'!D52),SUM('3B-4B) CalcNutr (6-11)'!N36/100)*('3B-4B) CalcNutr (6-11)'!D53),SUM('3B-4B) CalcNutr (6-11)'!O36/100)*('3B-4B) CalcNutr (6-11)'!D54))","v":0},{"$f":"((IF('3B-4B) CalcNutr (6-11)'!D41=\"Boiled (<10 min)\",0.9,IF('3B-4B) CalcNutr (6-11)'!D41=\"Boiled (>10 min)\",0.8,IF('3B-4B) CalcNutr (6-11)'!D41=\"Steamed\",0.9,IF('3B-4B) CalcNutr (6-11)'!D41=\"Fried\",0.9,IF('3B-4B) CalcNutr (6-11)'!D41=\"Baked\",0.9,IF('3B-4B) CalcNutr (6-11)'!D41=\"Raw (no cooking)\",1,IF('3B-4B) CalcNutr (6-11)'!D41=\"Other cooking method\",1))))))))*B53)","v":0},2.4,0,2.4,0,2.8,0,2.4,0,5,0,0.9,0,0.7,0,0.5,0]
["Vitamine C (mg)",{"$f":"SUM(('3B-4B) CalcNutr (6-11)'!C37/100)*('3B-4B) CalcNutr (6-11)'!D$42),SUM('3B-4B) CalcNutr (6-11)'!D37/100)*('3B-4B) CalcNutr (6-11)'!D$43),SUM('3B-4B) CalcNutr (6-11)'!E37/100)*('3B-4B) CalcNutr (6-11)'!D$44),SUM('3B-4B) CalcNutr (6-11)'!F37/100)*('3B-4B) CalcNutr (6-11)'!D$45),SUM('3B-4B) CalcNutr (6-11)'!G37/100)*('3B-4B) CalcNutr (6-11)'!D$46),SUM('3B-4B) CalcNutr (6-11)'!H37/100)*('3B-4B) CalcNutr (6-11)'!D$47),SUM('3B-4B) CalcNutr (6-11)'!I37/100)*('3B-4B) CalcNutr (6-11)'!D$48),SUM('3B-4B) CalcNutr (6-11)'!J37/100)*('3B-4B) CalcNutr (6-11)'!D$49),SUM('3B-4B) CalcNutr (6-11)'!K37/100)*('3B-4B) CalcNutr (6-11)'!D$50),SUM('3B-4B) CalcNutr (6-11)'!L37/100)*('3B-4B) CalcNutr (6-11)'!D$51),SUM('3B-4B) CalcNutr (6-11)'!M37/100)*('3B-4B) CalcNutr (6-11)'!D52),SUM('3B-4B) CalcNutr (6-11)'!N37/100)*('3B-4B) CalcNutr (6-11)'!D53),SUM('3B-4B) CalcNutr (6-11)'!O37/100)*('3B-4B) CalcNutr (6-11)'!D54))","v":0},{"$f":"((IF('3B-4B) CalcNutr (6-11)'!D41=\"Boiled (<10 min)\",0.8,IF('3B-4B) CalcNutr (6-11)'!D41=\"Boiled (>10 min)\",0.6,IF('3B-4B) CalcNutr (6-11)'!D41=\"Steamed\",0.8,IF('3B-4B) CalcNutr (6-11)'!D41=\"Fried\",0.8,IF('3B-4B) CalcNutr (6-11)'!D41=\"Baked\",0.8,IF('3B-4B) CalcNutr (6-11)'!D41=\"Raw (no cooking)\",1,IF('3B-4B) CalcNutr (6-11)'!D41=\"Other cooking method\",1))))))))*B54)","v":0},90,0,75,0,120,0,70,0,150,0,15,0,13,0,50,0]
[]
[]
[null,null,null,null,null,null,null,null,null,null,null,null,null,null,null,null,null,"= >30% VJ","= >30% VJ"]

{"sheet":"RBAMFE Nº3 (Détails)","index":13,"n_rows":56,"n_cols":10,"rows_kept":56,"cut":false,"hidden":true,"merged":[[33,1,33,2]]}
[{"$f":"_xlfn.CONCAT(#REF!,\" Nutrition Composition\")","v":{"$error":"#REF!"}}]
["Poids =",{"$f":"#REF!","v":{"$error":"#REF!"}}]
["Nutriments \n(avant et après la cuisson)","Énergie\n(kcal, ou calories)","Protéines (g)","Matières grasses totales (g)",null,null,null,null,"Sodium [Na] (mg)","Zinc [Zn] (mg)"]
["RBA crue Ingrédients",{"$f":"((#REF!/100)*#REF!)+((#REF!/100)*#REF!)+((#REF!/100)*#REF!)+((#REF!/100)*#REF!)+((#REF!/100)*#REF!)+((#REF!/100)*#REF!)+((#REF!/100)*#REF!)+((#REF!/100)*#REF!)+((#REF!/100)*#REF!)+((#REF!/100)*#REF!)+((#REF!/100)*#REF!)+((#REF!/100)*#REF!)","v":{"$error":"#REF!"}},{"$f":"((#REF!/100)*#REF!)+((#REF!/100)*#REF!)+((#REF!/100)*#REF!)+((#REF!/100)*#REF!)+((#REF!/100)*#REF!)+((#REF!/100)*#REF!)+((#REF!/100)*#REF!)+((#REF!/100)*#REF!)+((#REF!/100)*#REF!)+((#REF!/100)*#REF!)+((#REF!/100)*#REF!)+((#REF!/100)*#REF!)","v":{"$error":"#REF!"}},{"$f":"((#REF!/100)*#REF!)+((#REF!/100)*#REF!)+((#REF!/100)*#REF!)+((#REF!/100)*#REF!)+((#REF!/100)*#REF!)+((#REF!/100)*#REF!)+((#REF!/100)*#REF!)+((#REF!/100)*#REF!)+((#REF!/100)*#REF!)+((#REF!/100)*#REF!)+((#REF!/100)*#REF!)+((#REF!/100)*#REF!)","v":{"$error":"#REF!"}},null,null,null,null,{"$f":"((#REF!/100)*#REF!)+((#REF!/100)*#REF!)+((#REF!/100)*#REF!)+((#REF!/100)*#REF!)+((#REF!/100)*#REF!)+((#REF!/100)*#REF!)+((#REF!/100)*#REF!)+((#REF!/100)*#REF!)+((#REF!/100)*#REF!)+((#REF!/100)*#REF!)+((#REF!/100)*#REF!)+((#REF!/100)*#REF!)","v":{"$error":"#REF!"}},{"$f":"((#REF!/100)*#REF!)+((#REF!/100)*#REF!)+((#REF!/100)*#REF!)+((#REF!/100)*#REF!)+((#REF!/100)*#REF!)+((#REF!/100)*#REF!)+((#REF!/100)*#REF!)+((#REF!/100)*#REF!)+((#REF!/100)*#REF!)+((#REF!/100)*#REF!)+((#REF!/100)*#REF!)+((#REF!/100)*#REF!)","v":{"$error":"#REF!"}}]
["RBA cuite (+ facteur de rétention)",{"$f":"B4","v":{"$error":"#REF!"}},{"$error":"#REF!"},{"$error":"#REF!"},null,null,null,null,{"$f":"I4","v":{"$error":"#REF!"}},{"$error":"#REF!"}]
[]
["Valeurs nutritives journalières pour \nsélectionner des populations","Énergie\n(kcal, ou calories)","Protéines (g)","Matières grasses totales (g)",null,null,null,null,"Sodium [Na] (mg)","Zinc [Zn] (mg)"]
["Hommes, adultes, AJR (régime de 2 000 calories)",2400,{"$f":"(B8*0.15)/4","v":90},{"$f":"(B8*0.35)/9","v":93.333333333333329},null,null,null,null,2000,11]
["Hommes, adultes, % Valeur journalière",{"$f":"B$5/B8","v":{"$error":"#REF!"}},{"$error":"#REF!"},{"$error":"#REF!"},null,null,null,null,{"$f":"I$5/I8","v":{"$error":"#REF!"}},{"$error":"#REF!"}]
[null,"Énergie\n(kcal, ou calories)","Protéines (g)","Matières grasses totales (g)",null,null,null,null,"Sodium [Na] (mg)","Zinc [Zn] (mg)"]
["Femmes, adultes, AJR (régime de 2 000 calories)",2000,{"$f":"(B11*0.15)/4","v":75},{"$f":"(B11*0.35)/9","v":77.777777777777771},null,null,null,null,2000,8]
["Femmes, adultes, % Valeur journalière",{"$f":"B$5/B11","v":{"$error":"#REF!"}},{"$error":"#REF!"},{"$error":"#REF!"},null,null,null,null,{"$f":"I$5/I11","v":{"$error":"#REF!"}},{"$error":"#REF!"}]
[null,"Énergie\n(kcal, ou calories)","Protéines (g)","Matières grasses totales (g)",null,null,null,null,"Sodium [Na] (mg)","Zinc [Zn] (mg)"]
["FEA, Adultes, AJR",2200,{"$f":"(B14*0.15)/4","v":82.5},{"$f":"(B14*0.35)/9","v":85.555555555555557},null,null,null,null,2000,11]
["FEA, Adultes, % Valeur journalière",{"$f":"B$5/B14","v":{"$error":"#REF!"}},{"$error":"#REF!"},{"$error":"#REF!"},null,null,null,null,{"$f":"I$5/I14","v":{"$error":"#REF!"}},{"$error":"#REF!"}]
[null,"Énergie\n(kcal, ou calories)","Protéines (g)","Matières grasses totales (g)",null,null,null,null,"Sodium [Na] (mg)","Zinc [Zn] (mg)"]
["Adolescents (14 à 18 ans), AJR",2000,{"$f":"(B17*0.15)/4","v":75},{"$f":"(B17*0.35)/9","v":77.777777777777771},null,null,null,null,2000,10]
["Adolescents (14 à 18 ans), % Valeur journalière",{"$f":"B$5/B17","v":{"$error":"#REF!"}},{"$error":"#REF!"},{"$error":"#REF!"},null,null,null,null,{"$f":"I$5/I17","v":{"$error":"#REF!"}},{"$error":"#REF!"}]
[null,"Énergie\n(kcal, ou calories)","Protéines (g)","Matières grasses totales (g)",null,null,null,null,"Sodium [Na] (mg)","Zinc [Zn] (mg)"]
["Enfants (4 à 8 ans), AJR",1400,{"$f":"(B20*0.15)/4","v":52.5},{"$f":"(B20*0.35)/9","v":54.444444444444436},null,null,null,null,1200,5]
["Enfants (4 à 8 ans), % Valeur journalière",{"$f":"B$5/B20","v":{"$error":"#REF!"}},{"$error":"#REF!"},{"$error":"#REF!"},null,null,null,null,{"$f":"I$5/I20","v":{"$error":"#REF!"}},{"$error":"#REF!"}]
[null,"Énergie\n(kcal, ou calories)","Protéines (g)","Matières grasses totales (g)",null,null,null,null,"Sodium [Na] (mg)","Zinc [Zn] (mg)"]
["Enfants (1 à 3 ans), AJR",1200,{"$f":"(B23*0.15)/4","v":45},{"$f":"(B23*0.35)/9","v":46.666666666666664},null,null,null,null,800,3]
["Enfants (1 à 3 ans), % Valeur journalière",{"$f":"B$5/B23","v":{"$error":"#REF!"}},{"$error":"#REF!"},{"$error":"#REF!"},null,null,null,null,{"$f":"I$5/I23","v":{"$error":"#REF!"}},{"$error":"#REF!"}]
[null,"Énergie\n(kcal, ou calories)","Protéines (g)","Matières grasses totales (g)",null,null,null,null,"Sodium [Na] (mg)","Zinc [Zn] (mg)"]
["Nourrisson (6 à 12 mois), AJR",1000,{"$f":"(B26*0.15)/4","v":37.5},{"$f":"(B26*0.35)/9","v":38.888888888888886},null,null,null,null,400,3]
["Nourrisson (6 à 12 mois), % Valeur journalière",{"$f":"B$5/B26","v":{"$error":"#REF!"}},{"$error":"#REF!"},{"$error":"#REF!"},null,null,null,null,{"$f":"I$5/I26","v":{"$error":"#REF!"}},{"$error":"#REF!"}]
[]
["Facteurs de durabilité\n(en fonction de la Phase 2)","Rendement des cultures","Rentabilité","Facilité de transformation"]
[]
["Note annuelle de saisonnalité \n(en fonction de la Phase 3)"]
[]
[{"$f":"_xlfn.CONCAT('3B-4B) CalcNutr (6-11)'!E40,\" - Summary Dashboard\")","v":"RBA Nº3 - Summary Dashboard"}]
["Composition des nutriments",null,null,"Valeurs nutritionnelles journalières pour certaines populations",{"$f":"E33","v":0},null,null,null,{"$f":"I33","v":0},0]
["Nutriments","RBA crue / Ingrédients MFE","RBA cuite / MFE (avec facteur de rétention)","Hommes, adultes, AJR (régime de 2 000 calories)","Enfants (2 à 5 ans), OMS","Enfants (2 à 5 ans), % VJ","Nourrisson (12 à 24 mois), % AJR","Nourrisson (12 à 24 mois), % VJ","Nourrisson (6 à 12 mois), AJR","Nourrissons (6 à 12 mois), % VJ"]
["Énergie (kcal, ou calories)",{"$f":"SUM(('3B-4B) CalcNutr (6-11)'!C19/100)*('3B-4B) CalcNutr (6-11)'!E$42),SUM('3B-4B) CalcNutr (6-11)'!D19/100)*('3B-4B) CalcNutr (6-11)'!E$43),SUM('3B-4B) CalcNutr (6-11)'!E19/100)*('3B-4B) CalcNutr (6-11)'!E$44),SUM('3B-4B) CalcNutr (6-11)'!F19/100)*('3B-4B) CalcNutr (6-11)'!E$45),SUM('3B-4B) CalcNutr (6-11)'!G19/100)*('3B-4B) CalcNutr (6-11)'!E$46),SUM('3B-4B) CalcNutr (6-11)'!H19/100)*('3B-4B) CalcNutr (6-11)'!E$47),SUM('3B-4B) CalcNutr (6-11)'!I19/100)*('3B-4B) CalcNutr (6-11)'!E$48),SUM('3B-4B) CalcNutr (6-11)'!J19/100)*('3B-4B) CalcNutr (6-11)'!E$49),SUM('3B-4B) CalcNutr (6-11)'!K19/100)*('3B-4B) CalcNutr (6-11)'!E$50),SUM('3B-4B) CalcNutr (6-11)'!L19/100)*('3B-4B) CalcNutr (6-11)'!E$51),SUM('3B-4B) CalcNutr (6-11)'!M19/100)*('3B-4B) CalcNutr (6-11)'!E52),SUM('3B-4B) CalcNutr (6-11)'!N19/100)*('3B-4B) CalcNutr (6-11)'!E53),SUM('3B-4B) CalcNutr (6-11)'!O19/100)*('3B-4B) CalcNutr (6-11)'!E54))","v":0},{"$f":"B36","v":0},2400,1100,{"$f":"$C36/E36","v":0},1000,{"$f":"$C36/G36","v":0},800,{"$f":"$C36/I36","v":0}]
["Protéines (g)",{"$f":"SUM(('3B-4B) CalcNutr (6-11)'!C20/100)*('3B-4B) CalcNutr (6-11)'!E$42),SUM('3B-4B) CalcNutr (6-11)'!D20/100)*('3B-4B) CalcNutr (6-11)'!E$43),SUM('3B-4B) CalcNutr (6-11)'!E20/100)*('3B-4B) CalcNutr (6-11)'!E$44),SUM('3B-4B) CalcNutr (6-11)'!F20/100)*('3B-4B) CalcNutr (6-11)'!E$45),SUM('3B-4B) CalcNutr (6-11)'!G20/100)*('3B-4B) CalcNutr (6-11)'!E$46),SUM('3B-4B) CalcNutr (6-11)'!H20/100)*('3B-4B) CalcNutr (6-11)'!E$47),SUM('3B-4B) CalcNutr (6-11)'!I20/100)*('3B-4B) CalcNutr (6-11)'!E$48),SUM('3B-4B) CalcNutr (6-11)'!J20/100)*('3B-4B) CalcNutr (6-11)'!E$49),SUM('3B-4B) CalcNutr (6-11)'!K20/100)*('3B-4B) CalcNutr (6-11)'!E$50),SUM('3B-4B) CalcNutr (6-11)'!L20/100)*('3B-4B) CalcNutr (6-11)'!E$51),SUM('3B-4B) CalcNutr (6-11)'!M20/100)*('3B-4B) CalcNutr (6-11)'!E52),SUM('3B-4B) CalcNutr (6-11)'!N20/100)*('3B-4B) CalcNutr (6-11)'!E53),SUM('3B-4B) CalcNutr (6-11)'!O20/100)*('3B-4B) CalcNutr (6-11)'!E54))","v":0},0,{"$f":"(D36*0.15)/4","v":90},{"$f":"(E36*0.15)/4","v":41.25},{"$f":"$C37/E37","v":0},37.5,0,{"$f":"(I36*0.15)/4","v":30},0]
["Matières grasses totales (g)",{"$f":"SUM(('3B-4B) CalcNutr (6-11)'!C21/100)*('3B-4B) CalcNutr (6-11)'!E$42),SUM('3B-4B) CalcNutr (6-11)'!D21/100)*('3B-4B) CalcNutr (6-11)'!E$43),SUM('3B-4B) CalcNutr (6-11)'!E21/100)*('3B-4B) CalcNutr (6-11)'!E$44),SUM('3B-4B) CalcNutr (6-11)'!F21/100)*('3B-4B) CalcNutr (6-11)'!E$45),SUM('3B-4B) CalcNutr (6-11)'!G21/100)*('3B-4B) CalcNutr (6-11)'!E$46),SUM('3B-4B) CalcNutr (6-11)'!H21/100)*('3B-4B) CalcNutr (6-11)'!E$47),SUM('3B-4B) CalcNutr (6-11)'!I21/100)*('3B-4B) CalcNutr (6-11)'!E$48),SUM('3B-4B) CalcNutr (6-11)'!J21/100)*('3B-4B) CalcNutr (6-11)'!E$49),SUM('3B-4B) CalcNutr (6-11)'!K21/100)*('3B-4B) CalcNutr (6-11)'!E$50),SUM('3B-4B) CalcNutr (6-11)'!L21/100)*('3B-4B) CalcNutr (6-11)'!E$51),SUM('3B-4B) CalcNutr (6-11)'!M21/100)*('3B-4B) CalcNutr (6-11)'!E52),SUM('3B-4B) CalcNutr (6-11)'!N21/100)*('3B-4B) CalcNutr (6-11)'!E53),SUM('3B-4B) CalcNutr (6-11)'!O21/100)*('3B-4B) CalcNutr (6-11)'!E54))","v":0},0,{"$f":"(D36*0.35)/9","v":93.333333333333329},{"$f":"(E36*0.35)/9","v":42.777777777777779},0,38.888888888888886,0,{"$f":"(I36*0.35)/9","v":31.111111111111111},0]
["Glucides (g)",{"$f":"SUM(('3B-4B) CalcNutr (6-11)'!C22/100)*('3B-4B) CalcNutr (6-11)'!E$42),SUM('3B-4B) CalcNutr (6-11)'!D22/100)*('3B-4B) CalcNutr (6-11)'!E$43),SUM('3B-4B) CalcNutr (6-11)'!E22/100)*('3B-4B) CalcNutr (6-11)'!E$44),SUM('3B-4B) CalcNutr (6-11)'!F22/100)*('3B-4B) CalcNutr (6-11)'!E$45),SUM('3B-4B) CalcNutr (6-11)'!G22/100)*('3B-4B) CalcNutr (6-11)'!E$46),SUM('3B-4B) CalcNutr (6-11)'!H22/100)*('3B-4B) CalcNutr (6-11)'!E$47),SUM('3B-4B) CalcNutr (6-11)'!I22/100)*('3B-4B) CalcNutr (6-11)'!E$48),SUM('3B-4B) CalcNutr (6-11)'!J22/100)*('3B-4B) CalcNutr (6-11)'!E$49),SUM('3B-4B) CalcNutr (6-11)'!K22/100)*('3B-4B) CalcNutr (6-11)'!E$50),SUM('3B-4B) CalcNutr (6-11)'!L22/100)*('3B-4B) CalcNutr (6-11)'!E$51),SUM('3B-4B) CalcNutr (6-11)'!M22/100)*('3B-4B) CalcNutr (6-11)'!E52),SUM('3B-4B) CalcNutr (6-11)'!N22/100)*('3B-4B) CalcNutr (6-11)'!E53),SUM('3B-4B) CalcNutr (6-11)'!O22/100)*('3B-4B) CalcNutr (6-11)'!E54))","v":0},0,{"$f":"(D36*0.5)/4","v":300},{"$f":"(E36*0.5)/4","v":137.5},0,125,0,{"$f":"(I36*0.5)/4","v":100},0]
["Fibres (g)",{"$f":"SUM(('3B-4B) CalcNutr (6-11)'!C23/100)*('3B-4B) CalcNutr (6-11)'!E$42),SUM('3B-4B) CalcNutr (6-11)'!D23/100)*('3B-4B) CalcNutr (6-11)'!E$43),SUM('3B-4B) CalcNutr (6-11)'!E23/100)*('3B-4B) CalcNutr (6-11)'!E$44),SUM('3B-4B) CalcNutr (6-11)'!F23/100)*('3B-4B) CalcNutr (6-11)'!E$45),SUM('3B-4B) CalcNutr (6-11)'!G23/100)*('3B-4B) CalcNutr (6-11)'!E$46),SUM('3B-4B) CalcNutr (6-11)'!H23/100)*('3B-4B) CalcNutr (6-11)'!E$47),SUM('3B-4B) CalcNutr (6-11)'!I23/100)*('3B-4B) CalcNutr (6-11)'!E$48),SUM('3B-4B) CalcNutr (6-11)'!J23/100)*('3B-4B) CalcNutr (6-11)'!E$49),SUM('3B-4B) CalcNutr (6-11)'!K23/100)*('3B-4B) CalcNutr (6-11)'!E$50),SUM('3B-4B) CalcNutr (6-11)'!L23/100)*('3B-4B) CalcNutr (6-11)'!E$51),SUM('3B-4B) CalcNutr (6-11)'!M23/100)*('3B-4B) CalcNutr (6-11)'!E52),SUM('3B-4B) CalcNutr (6-11)'!N23/100)*('3B-4B) CalcNutr (6-11)'!E53),SUM('3B-4B) CalcNutr (6-11)'!O23/100)*('3B-4B) CalcNutr (6-11)'!E54))","v":0},0,38,25,0,17,0,"NA","NA"]
["Sucre (g)",{"$f":"SUM(('3B-4B) CalcNutr (6-11)'!C24/100)*('3B-4B) CalcNutr (6-11)'!E$42),SUM('3B-4B) CalcNutr (6-11)'!D24/100)*('3B-4B) CalcNutr (6-11)'!E$43),SUM('3B-4B) CalcNutr (6-11)'!E24/100)*('3B-4B) CalcNutr (6-11)'!E$44),SUM('3B-4B) CalcNutr (6-11)'!F24/100)*('3B-4B) CalcNutr (6-11)'!E$45),SUM('3B-4B) CalcNutr (6-11)'!G24/100)*('3B-4B) CalcNutr (6-11)'!E$46),SUM('3B-4B) CalcNutr (6-11)'!H24/100)*('3B-4B) CalcNutr (6-11)'!E$47),SUM('3B-4B) CalcNutr (6-11)'!I24/100)*('3B-4B) CalcNutr (6-11)'!E$48),SUM('3B-4B) CalcNutr (6-11)'!J24/100)*('3B-4B) CalcNutr (6-11)'!E$49),SUM('3B-4B) CalcNutr (6-11)'!K24/100)*('3B-4B) CalcNutr (6-11)'!E$50),SUM('3B-4B) CalcNutr (6-11)'!L24/100)*('3B-4B) CalcNutr (6-11)'!E$51),SUM('3B-4B) CalcNutr (6-11)'!M24/100)*('3B-4B) CalcNutr (6-11)'!E52),SUM('3B-4B) CalcNutr (6-11)'!N24/100)*('3B-4B) CalcNutr (6-11)'!E53),SUM('3B-4B) CalcNutr (6-11)'!O24/100)*('3B-4B) CalcNutr (6-11)'!E54))","v":0},0,36,20,0,"NA","NA","NA","NA"]
["Calcium [Ca] (mg)",{"$f":"SUM(('3B-4B) CalcNutr (6-11)'!C25/100)*('3B-4B) CalcNutr (6-11)'!E$42),SUM('3B-4B) CalcNutr (6-11)'!D25/100)*('3B-4B) CalcNutr (6-11)'!E$43),SUM('3B-4B) CalcNutr (6-11)'!E25/100)*('3B-4B) CalcNutr (6-11)'!E$44),SUM('3B-4B) CalcNutr (6-11)'!F25/100)*('3B-4B) CalcNutr (6-11)'!E$45),SUM('3B-4B) CalcNutr (6-11)'!G25/100)*('3B-4B) CalcNutr (6-11)'!E$46),SUM('3B-4B) CalcNutr (6-11)'!H25/100)*('3B-4B) CalcNutr (6-11)'!E$47),SUM('3B-4B) CalcNutr (6-11)'!I25/100)*('3B-4B) CalcNutr (6-11)'!E$48),SUM('3B-4B) CalcNutr (6-11)'!J25/100)*('3B-4B) CalcNutr (6-11)'!E$49),SUM('3B-4B) CalcNutr (6-11)'!K25/100)*('3B-4B) CalcNutr (6-11)'!E$50),SUM('3B-4B) CalcNutr (6-11)'!L25/100)*('3B-4B) CalcNutr (6-11)'!E$51),SUM('3B-4B) CalcNutr (6-11)'!M25/100)*('3B-4B) CalcNutr (6-11)'!E52),SUM('3B-4B) CalcNutr (6-11)'!N25/100)*('3B-4B) CalcNutr (6-11)'!E53),SUM('3B-4B) CalcNutr (6-11)'!O25/100)*('3B-4B) CalcNutr (6-11)'!E54))","v":0},0,1000,1200,0,400,{"$f":"$C42/G42","v":0},260,{"$f":"$C42/I42","v":0}]
["Fer [Fe] (mg)",{"$f":"SUM(('3B-4B) CalcNutr (6-11)'!C26/100)*('3B-4B) CalcNutr (6-11)'!E$42),SUM('3B-4B) CalcNutr (6-11)'!D26/100)*('3B-4B) CalcNutr (6-11)'!E$43),SUM('3B-4B) CalcNutr (6-11)'!E26/100)*('3B-4B) CalcNutr (6-11)'!E$44),SUM('3B-4B) CalcNutr (6-11)'!F26/100)*('3B-4B) CalcNutr (6-11)'!E$45),SUM('3B-4B) CalcNutr (6-11)'!G26/100)*('3B-4B) CalcNutr (6-11)'!E$46),SUM('3B-4B) CalcNutr (6-11)'!H26/100)*('3B-4B) CalcNutr (6-11)'!E$47),SUM('3B-4B) CalcNutr (6-11)'!I26/100)*('3B-4B) CalcNutr (6-11)'!E$48),SUM('3B-4B) CalcNutr (6-11)'!J26/100)*('3B-4B) CalcNutr (6-11)'!E$49),SUM('3B-4B) CalcNutr (6-11)'!K26/100)*('3B-4B) CalcNutr (6-11)'!E$50),SUM('3B-4B) CalcNutr (6-11)'!L26/100)*('3B-4B) CalcNutr (6-11)'!E$51),SUM('3B-4B) CalcNutr (6-11)'!M26/100)*('3B-4B) CalcNutr (6-11)'!E52),SUM('3B-4B) CalcNutr (6-11)'!N26/100)*('3B-4B) CalcNutr (6-11)'!E53),SUM('3B-4B) CalcNutr (6-11)'!O26/100)*('3B-4B) CalcNutr (6-11)'!E54))","v":0},0,8,22,0,7,0,11,0]
["Magnésium [Mg] (mg)",{"$f":"SUM(('3B-4B) CalcNutr (6-11)'!C27/100)*('3B-4B) CalcNutr (6-11)'!E$42),SUM('3B-4B) CalcNutr (6-11)'!D27/100)*('3B-4B) CalcNutr (6-11)'!E$43),SUM('3B-4B) CalcNutr (6-11)'!E27/100)*('3B-4B) CalcNutr (6-11)'!E$44),SUM('3B-4B) CalcNutr (6-11)'!F27/100)*('3B-4B) CalcNutr (6-11)'!E$45),SUM('3B-4B) CalcNutr (6-11)'!G27/100)*('3B-4B) CalcNutr (6-11)'!E$46),SUM('3B-4B) CalcNutr (6-11)'!H27/100)*('3B-4B) CalcNutr (6-11)'!E$47),SUM('3B-4B) CalcNutr (6-11)'!I27/100)*('3B-4B) CalcNutr (6-11)'!E$48),SUM('3B-4B) CalcNutr (6-11)'!J27/100)*('3B-4B) CalcNutr (6-11)'!E$49),SUM('3B-4B) CalcNutr (6-11)'!K27/100)*('3B-4B) CalcNutr (6-11)'!E$50),SUM('3B-4B) CalcNutr (6-11)'!L27/100)*('3B-4B) CalcNutr (6-11)'!E$51),SUM('3B-4B) CalcNutr (6-11)'!M27/100)*('3B-4B) CalcNutr (6-11)'!E52),SUM('3B-4B) CalcNutr (6-11)'!N27/100)*('3B-4B) CalcNutr (6-11)'!E53),SUM('3B-4B) CalcNutr (6-11)'!O27/100)*('3B-4B) CalcNutr (6-11)'!E54))","v":0},0,420,{"$f":"(280+420)/2","v":350},0,65,0,75,0]
["Potassium [K] (mg)",{"$f":"SUM(('3B-4B) CalcNutr (6-11)'!C28/100)*('3B-4B) CalcNutr (6-11)'!E$42),SUM('3B-4B) CalcNutr (6-11)'!D28/100)*('3B-4B) CalcNutr (6-11)'!E$43),SUM('3B-4B) CalcNutr (6-11)'!E28/100)*('3B-4B) CalcNutr (6-11)'!E$44),SUM('3B-4B) CalcNutr (6-11)'!F28/100)*('3B-4B) CalcNutr (6-11)'!E$45),SUM('3B-4B) CalcNutr (6-11)'!G28/100)*('3B-4B) CalcNutr (6-11)'!E$46),SUM('3B-4B) CalcNutr (6-11)'!H28/100)*('3B-4B) CalcNutr (6-11)'!E$47),SUM('3B-4B) CalcNutr (6-11)'!I28/100)*('3B-4B) CalcNutr (6-11)'!E$48),SUM('3B-4B) CalcNutr (6-11)'!J28/100)*('3B-4B) CalcNutr (6-11)'!E$49),SUM('3B-4B) CalcNutr (6-11)'!K28/100)*('3B-4B) CalcNutr (6-11)'!E$50),SUM('3B-4B) CalcNutr (6-11)'!L28/100)*('3B-4B) CalcNutr (6-11)'!E$51),SUM('3B-4B) CalcNutr (6-11)'!M28/100)*('3B-4B) CalcNutr (6-11)'!E52),SUM('3B-4B) CalcNutr (6-11)'!N28/100)*('3B-4B) CalcNutr (6-11)'!E53),SUM('3B-4B) CalcNutr (6-11)'!O28/100)*('3B-4B) CalcNutr (6-11)'!E54))","v":0},0,3400,{"$f":"(1500+2200)/2","v":1850},0,900,0,860,0]
["Sodium [Na] (mg)",{"$f":"SUM(('3B-4B) CalcNutr (6-11)'!C29/100)*('3B-4B) CalcNutr (6-11)'!E$42),SUM('3B-4B) CalcNutr (6-11)'!D29/100)*('3B-4B) CalcNutr (6-11)'!E$43),SUM('3B-4B) CalcNutr (6-11)'!E29/100)*('3B-4B) CalcNutr (6-11)'!E$44),SUM('3B-4B) CalcNutr (6-11)'!F29/100)*('3B-4B) CalcNutr (6-11)'!E$45),SUM('3B-4B) CalcNutr (6-11)'!G29/100)*('3B-4B) CalcNutr (6-11)'!E$46),SUM('3B-4B) CalcNutr (6-11)'!H29/100)*('3B-4B) CalcNutr (6-11)'!E$47),SUM('3B-4B) CalcNutr (6-11)'!I29/100)*('3B-4B) CalcNutr (6-11)'!E$48),SUM('3B-4B) CalcNutr (6-11)'!J29/100)*('3B-4B) CalcNutr (6-11)'!E$49),SUM('3B-4B) CalcNutr (6-11)'!K29/100)*('3B-4B) CalcNutr (6-11)'!E$50),SUM('3B-4B) CalcNutr (6-11)'!L29/100)*('3B-4B) CalcNutr (6-11)'!E$51),SUM('3B-4B) CalcNutr (6-11)'!M29/100)*('3B-4B) CalcNutr (6-11)'!E52),SUM('3B-4B) CalcNutr (6-11)'!N29/100)*('3B-4B) CalcNutr (6-11)'!E53),SUM('3B-4B) CalcNutr (6-11)'!O29/100)*('3B-4B) CalcNutr (6-11)'!E54))","v":0},0,2000,1200,0,600,0,400,0]
["Zinc [Zn] (mg)",{"$f":"SUM(('3B-4B) CalcNutr (6-11)'!C30/100)*('3B-4B) CalcNutr (6-11)'!E$42),SUM('3B-4B) CalcNutr (6-11)'!D30/100)*('3B-4B) CalcNutr (6-11)'!E$43),SUM('3B-4B) CalcNutr (6-11)'!E30/100)*('3B-4B) CalcNutr (6-11)'!E$44),SUM('3B-4B) CalcNutr (6-11)'!F30/100)*('3B-4B) CalcNutr (6-11)'!E$45),SUM('3B-4B) CalcNutr (6-11)'!G30/100)*('3B-4B) CalcNutr (6-11)'!E$46),SUM('3B-4B) CalcNutr (6-11)'!H30/100)*('3B-4B) CalcNutr (6-11)'!E$47),SUM('3B-4B) CalcNutr (6-11)'!I30/100)*('3B-4B) CalcNutr (6-11)'!E$48),SUM('3B-4B) CalcNutr (6-11)'!J30/100)*('3B-4B) CalcNutr (6-11)'!E$49),SUM('3B-4B) CalcNutr (6-11)'!K30/100)*('3B-4B) CalcNutr (6-11)'!E$50),SUM('3B-4B) CalcNutr (6-11)'!L30/100)*('3B-4B) CalcNutr (6-11)'!E$51),SUM('3B-4B) CalcNutr (6-11)'!M31/100)*('3B-4B) CalcNutr (6-11)'!E52),SUM('3B-4B) CalcNutr (6-11)'!N31/100)*('3B-4B) CalcNutr (6-11)'!E53),SUM('3B-4B) CalcNutr (6-11)'!O31/100)*('3B-4B) CalcNutr (6-11)'!E54))","v":0},0,11,{"$f":"(20+35)/2","v":27.5},0,2.5,0,3,0]
["Vitamine A EAR (mcg)",{"$f":"SUM(('3B-4B) CalcNutr (6-11)'!C31/100)*('3B-4B) CalcNutr (6-11)'!E$42),SUM('3B-4B) CalcNutr (6-11)'!D31/100)*('3B-4B) CalcNutr (6-11)'!E$43),SUM('3B-4B) CalcNutr (6-11)'!E31/100)*('3B-4B) CalcNutr (6-11)'!E$44),SUM('3B-4B) CalcNutr (6-11)'!F31/100)*('3B-4B) CalcNutr (6-11)'!E$45),SUM('3B-4B) CalcNutr (6-11)'!G31/100)*('3B-4B) CalcNutr (6-11)'!E$46),SUM('3B-4B) CalcNutr (6-11)'!H31/100)*('3B-4B) CalcNutr (6-11)'!E$47),SUM('3B-4B) CalcNutr (6-11)'!I31/100)*('3B-4B) CalcNutr (6-11)'!E$48),SUM('3B-4B) CalcNutr (6-11)'!J31/100)*('3B-4B) CalcNutr (6-11)'!E$49),SUM('3B-4B) CalcNutr (6-11)'!K31/100)*('3B-4B) CalcNutr (6-11)'!E$50),SUM('3B-4B) CalcNutr (6-11)'!L31/100)*('3B-4B) CalcNutr (6-11)'!E$51),SUM('3B-4B) CalcNutr (6-11)'!M31/100)*('3B-4B) CalcNutr (6-11)'!E52),SUM('3B-4B) CalcNutr (6-11)'!N31/100)*('3B-4B) CalcNutr (6-11)'!E53),SUM('3B-4B) CalcNutr (6-11)'!O31/100)*('3B-4B) CalcNutr (6-11)'!E54))","v":0},{"$f":"((IF('3B-4B) CalcNutr (6-11)'!E41=\"Boiled (<10 min)\",0.8,IF('3B-4B) CalcNutr (6-11)'!E41=\"Boiled (>10 min)\",0.75,IF('3B-4B) CalcNutr (6-11)'!E41=\"Steamed\",0.9,IF('3B-4B) CalcNutr (6-11)'!E41=\"Fried\",0.9,IF('3B-4B) CalcNutr (6-11)'!E41=\"Baked\",0.9,IF('3B-4B) CalcNutr (6-11)'!E41=\"Raw (no cooking)\",1,IF('3B-4B) CalcNutr (6-11)'!E41=\"Other cooking method\",1))))))))*B48)","v":0},900,{"$f":"2500*0.3","v":750},0,210,0,500,0]
["Thiamine [Vitamine B1] (mg)",{"$f":"SUM(('3B-4B) CalcNutr (6-11)'!C32/100)*('3B-4B) CalcNutr (6-11)'!E$42),SUM('3B-4B) CalcNutr (6-11)'!D32/100)*('3B-4B) CalcNutr (6-11)'!E$43),SUM('3B-4B) CalcNutr (6-11)'!E32/100)*('3B-4B) CalcNutr (6-11)'!E$44),SUM('3B-4B) CalcNutr (6-11)'!F32/100)*('3B-4B) CalcNutr (6-11)'!E$45),SUM('3B-4B) CalcNutr (6-11)'!G32/100)*('3B-4B) CalcNutr (6-11)'!E$46),SUM('3B-4B) CalcNutr (6-11)'!H32/100)*('3B-4B) CalcNutr (6-11)'!E$47),SUM('3B-4B) CalcNutr (6-11)'!I32/100)*('3B-4B) CalcNutr (6-11)'!E$48),SUM('3B-4B) CalcNutr (6-11)'!J32/100)*('3B-4B) CalcNutr (6-11)'!E$49),SUM('3B-4B) CalcNutr (6-11)'!K32/100)*('3B-4B) CalcNutr (6-11)'!E$50),SUM('3B-4B) CalcNutr (6-11)'!L32/100)*('3B-4B) CalcNutr (6-11)'!E$51),SUM('3B-4B) CalcNutr (6-11)'!M32/100)*('3B-4B) CalcNutr (6-11)'!E$52),SUM('3B-4B) CalcNutr (6-11)'!N32/100)*('3B-4B) CalcNutr (6-11)'!E$53),SUM('3B-4B) CalcNutr (6-11)'!O32/100)*('3B-4B) CalcNutr (6-11)'!E$54))","v":0},{"$f":"((IF('3B-4B) CalcNutr (6-11)'!E41=\"Boiled (<10 min)\",0.75,IF('3B-4B) CalcNutr (6-11)'!E41=\"Boiled (>10 min)\",0.65,IF('3B-4B) CalcNutr (6-11)'!E41=\"Steamed\",0.8,IF('3B-4B) CalcNutr (6-11)'!E41=\"Fried\",0.8,IF('3B-4B) CalcNutr (6-11)'!E41=\"Baked\",0.85,IF('3B-4B) CalcNutr (6-11)'!E41=\"Raw (no cooking)\",1,IF('3B-4B) CalcNutr (6-11)'!E41=\"Other cooking method\",1))))))))*B49)","v":0},1.2,1,0,0.4,0,0.3,0]
["Riboflavine [Vitamine B2] (mg)",{"$f":"SUM(('3B-4B) CalcNutr (6-11)'!C33/100)*('3B-4B) CalcNutr (6-11)'!E$42),SUM('3B-4B) CalcNutr (6-11)'!D33/100)*('3B-4B) CalcNutr (6-11)'!E$43),SUM('3B-4B) CalcNutr (6-11)'!E33/100)*('3B-4B) CalcNutr (6-11)'!E$44),SUM('3B-4B) CalcNutr (6-11)'!F33/100)*('3B-4B) CalcNutr (6-11)'!E$45),SUM('3B-4B) CalcNutr (6-11)'!G33/100)*('3B-4B) CalcNutr (6-11)'!E$46),SUM('3B-4B) CalcNutr (6-11)'!H33/100)*('3B-4B) CalcNutr (6-11)'!E$47),SUM('3B-4B) CalcNutr (6-11)'!I33/100)*('3B-4B) CalcNutr (6-11)'!E$48),SUM('3B-4B) CalcNutr (6-11)'!J33/100)*('3B-4B) CalcNutr (6-11)'!E$49),SUM('3B-4B) CalcNutr (6-11)'!K33/100)*('3B-4B) CalcNutr (6-11)'!E$50),SUM('3B-4B) CalcNutr (6-11)'!L33/100)*('3B-4B) CalcNutr (6-11)'!E$51),SUM('3B-4B) CalcNutr (6-11)'!M33/100)*('3B-4B) CalcNutr (6-11)'!E$52),SUM('3B-4B) CalcNutr (6-11)'!N33/100)*('3B-4B) CalcNutr (6-11)'!E$53),SUM('3B-4B) CalcNutr (6-11)'!O33/100)*('3B-4B) CalcNutr (6-11)'!E$54))","v":0},{"$f":"((IF('3B-4B) CalcNutr (6-11)'!E41=\"Boiled (<10 min)\",0.75,IF('3B-4B) CalcNutr (6-11)'!E41=\"Boiled (>10 min)\",0.65,IF('3B-4B) CalcNutr (6-11)'!E41=\"Steamed\",0.9,IF('3B-4B) CalcNutr (6-11)'!E41=\"Fried\",0.9,IF('3B-4B) CalcNutr (6-11)'!E41=\"Baked\",0.9,IF('3B-4B) CalcNutr (6-11)'!E41=\"Raw (no cooking)\",1,IF('3B-4B) CalcNutr (6-11)'!E41=\"Other cooking method\",1))))))))*B50)","v":0},1.3,4,0,0.4,0,0.4,0]
["Equiv. Niacine [Vitamine B3] (mg)",{"$f":"SUM(('3B-4B) CalcNutr (6-11)'!C34/100)*('3B-4B) CalcNutr (6-11)'!E$42),SUM('3B-4B) CalcNutr (6-11)'!D34/100)*('3B-4B) CalcNutr (6-11)'!E$43),SUM('3B-4B) CalcNutr (6-11)'!E34/100)*('3B-4B) CalcNutr (6-11)'!E$44),SUM('3B-4B) CalcNutr (6-11)'!F34/100)*('3B-4B) CalcNutr (6-11)'!E$45),SUM('3B-4B) CalcNutr (6-11)'!G34/100)*('3B-4B) CalcNutr (6-11)'!E$46),SUM('3B-4B) CalcNutr (6-11)'!H34/100)*('3B-4B) CalcNutr (6-11)'!E$47),SUM('3B-4B) CalcNutr (6-11)'!I34/100)*('3B-4B) CalcNutr (6-11)'!E$48),SUM('3B-4B) CalcNutr (6-11)'!J34/100)*('3B-4B) CalcNutr (6-11)'!E$49),SUM('3B-4B) CalcNutr (6-11)'!K34/100)*('3B-4B) CalcNutr (6-11)'!E$50),SUM('3B-4B) CalcNutr (6-11)'!L34/100)*('3B-4B) CalcNutr (6-11)'!E$51),SUM('3B-4B) CalcNutr (6-11)'!M34/100)*('3B-4B) CalcNutr (6-11)'!E$52),SUM('3B-4B) CalcNutr (6-11)'!N34/100)*('3B-4B) CalcNutr (6-11)'!E$53),SUM('3B-4B) CalcNutr (6-11)'!O34/100)*('3B-4B) CalcNutr (6-11)'!E$54))","v":0},{"$f":"((IF('3B-4B) CalcNutr (6-11)'!E41=\"Boiled (<10 min)\",0.8,IF('3B-4B) CalcNutr (6-11)'!E41=\"Boiled (>10 min)\",0.75,IF('3B-4B) CalcNutr (6-11)'!E41=\"Steamed\",0.9,IF('3B-4B) CalcNutr (6-11)'!E41=\"Fried\",0.9,IF('3B-4B) CalcNutr (6-11)'!E41=\"Baked\",0.9,IF('3B-4B) CalcNutr (6-11)'!E41=\"Raw (no cooking)\",1,IF('3B-4B) CalcNutr (6-11)'!E41=\"Other cooking method\",1))))))))*B51)","v":0},16,8,0,5,0,4,0]
["Folate EFA (mcg)",{"$f":"SUM(('3B-4B) CalcNutr (6-11)'!C35/100)*('3B-4B) CalcNutr (6-11)'!E$42),SUM('3B-4B) CalcNutr (6-11)'!D35/100)*('3B-4B) CalcNutr (6-11)'!E$43),SUM('3B-4B) CalcNutr (6-11)'!E35/100)*('3B-4B) CalcNutr (6-11)'!E$44),SUM('3B-4B) CalcNutr (6-11)'!F35/100)*('3B-4B) CalcNutr (6-11)'!E$45),SUM('3B-4B) CalcNutr (6-11)'!G35/100)*('3B-4B) CalcNutr (6-11)'!E$46),SUM('3B-4B) CalcNutr (6-11)'!H35/100)*('3B-4B) CalcNutr (6-11)'!E$47),SUM('3B-4B) CalcNutr (6-11)'!I35/100)*('3B-4B) CalcNutr (6-11)'!E$48),SUM('3B-4B) CalcNutr (6-11)'!J35/100)*('3B-4B) CalcNutr (6-11)'!E$49),SUM('3B-4B) CalcNutr (6-11)'!K35/100)*('3B-4B) CalcNutr (6-11)'!E$50),SUM('3B-4B) CalcNutr (6-11)'!L35/100)*('3B-4B) CalcNutr (6-11)'!E$51),SUM('3B-4B) CalcNutr (6-11)'!M31/100)*('3B-4B) CalcNutr (6-11)'!E52),SUM('3B-4B) CalcNutr (6-11)'!N31/100)*('3B-4B) CalcNutr (6-11)'!E53),SUM('3B-4B) CalcNutr (6-11)'!O31/100)*('3B-4B) CalcNutr (6-11)'!E54))","v":0},{"$f":"((IF('3B-4B) CalcNutr (6-11)'!E41=\"Boiled (<10 min)\",0.8,IF('3B-4B) CalcNutr (6-11)'!E41=\"Boiled (>10 min)\",0.7,IF('3B-4B) CalcNutr (6-11)'!E41=\"Steamed\",0.85,IF('3B-4B) CalcNutr (6-11)'!E41=\"Fried\",0.85,IF('3B-4B) CalcNutr (6-11)'!E41=\"Baked\",0.9,IF('3B-4B) CalcNutr (6-11)'!E41=\"Raw (no cooking)\",1,IF('3B-4B) CalcNutr (6-11)'!E41=\"Other cooking method\",1))))))))*B52)","v":0},400,200,0,120,0,80,0]
["Vitamine B12 (mcg)",{"$f":"SUM(('3B-4B) CalcNutr (6-11)'!C36/100)*('3B-4B) CalcNutr (6-11)'!E$42),SUM('3B-4B) CalcNutr (6-11)'!D36/100)*('3B-4B) CalcNutr (6-11)'!E$43),SUM('3B-4B) CalcNutr (6-11)'!E36/100)*('3B-4B) CalcNutr (6-11)'!E$44),SUM('3B-4B) CalcNutr (6-11)'!F36/100)*('3B-4B) CalcNutr (6-11)'!E$45),SUM('3B-4B) CalcNutr (6-11)'!G36/100)*('3B-4B) CalcNutr (6-11)'!E$46),SUM('3B-4B) CalcNutr (6-11)'!H36/100)*('3B-4B) CalcNutr (6-11)'!E$47),SUM('3B-4B) CalcNutr (6-11)'!I36/100)*('3B-4B) CalcNutr (6-11)'!E$48),SUM('3B-4B) CalcNutr (6-11)'!J36/100)*('3B-4B) CalcNutr (6-11)'!E$49),SUM('3B-4B) CalcNutr (6-11)'!K36/100)*('3B-4B) CalcNutr (6-11)'!E$50),SUM('3B-4B) CalcNutr (6-11)'!L36/100)*('3B-4B) CalcNutr (6-11)'!E$51),SUM('3B-4B) CalcNutr (6-11)'!M36/100)*('3B-4B) CalcNutr (6-11)'!E52),SUM('3B-4B) CalcNutr (6-11)'!N36/100)*('3B-4B) CalcNutr (6-11)'!E53),SUM('3B-4B) CalcNutr (6-11)'!O36/100)*('3B-4B) CalcNutr (6-11)'!E54))","v":0},{"$f":"((IF('3B-4B) CalcNutr (6-11)'!E41=\"Boiled (<10 min)\",0.9,IF('3B-4B) CalcNutr (6-11)'!E41=\"Boiled (>10 min)\",0.8,IF('3B-4B) CalcNutr (6-11)'!E41=\"Steamed\",0.9,IF('3B-4B) CalcNutr (6-11)'!E41=\"Fried\",0.9,IF('3B-4B) CalcNutr (6-11)'!E41=\"Baked\",0.9,IF('3B-4B) CalcNutr (6-11)'!E41=\"Raw (no cooking)\",1,IF('3B-4B) CalcNutr (6-11)'!E41=\"Other cooking method\",1))))))))*B53)","v":0},2.4,5,0,0.7,0,0.5,0]
["Vitamine C (mg)",{"$f":"SUM(('3B-4B) CalcNutr (6-11)'!C37/100)*('3B-4B) CalcNutr (6-11)'!E$42),SUM('3B-4B) CalcNutr (6-11)'!D37/100)*('3B-4B) CalcNutr (6-11)'!E$43),SUM('3B-4B) CalcNutr (6-11)'!E37/100)*('3B-4B) CalcNutr (6-11)'!E$44),SUM('3B-4B) CalcNutr (6-11)'!F37/100)*('3B-4B) CalcNutr (6-11)'!E$45),SUM('3B-4B) CalcNutr (6-11)'!G37/100)*('3B-4B) CalcNutr (6-11)'!E$46),SUM('3B-4B) CalcNutr (6-11)'!H37/100)*('3B-4B) CalcNutr (6-11)'!E$47),SUM('3B-4B) CalcNutr (6-11)'!I37/100)*('3B-4B) CalcNutr (6-11)'!E$48),SUM('3B-4B) CalcNutr (6-11)'!J37/100)*('3B-4B) CalcNutr (6-11)'!E$49),SUM('3B-4B) CalcNutr (6-11)'!K37/100)*('3B-4B) CalcNutr (6-11)'!E$50),SUM('3B-4B) CalcNutr (6-11)'!L37/100)*('3B-4B) CalcNutr (6-11)'!E$51),SUM('3B-4B) CalcNutr (6-11)'!M37/100)*('3B-4B) CalcNutr (6-11)'!E52),SUM('3B-4B) CalcNutr (6-11)'!N37/100)*('3B-4B) CalcNutr (6-11)'!E53),SUM('3B-4B) CalcNutr (6-11)'!O37/100)*('3B-4B) CalcNutr (6-11)'!E54))","v":0},{"$f":"((IF('3B-4B) CalcNutr (6-11)'!E41=\"Boiled (<10 min)\",0.8,IF('3B-4B) CalcNutr (6-11)'!E41=\"Boiled (>10 min)\",0.6,IF('3B-4B) CalcNutr (6-11)'!E41=\"Steamed\",0.8,IF('3B-4B) CalcNutr (6-11)'!E41=\"Fried\",0.8,IF('3B-4B) CalcNutr (6-11)'!E41=\"Baked\",0.8,IF('3B-4B) CalcNutr (6-11)'!E41=\"Raw (no cooking)\",1,IF('3B-4B) CalcNutr (6-11)'!E41=\"Other cooking method\",1))))))))*B54)","v":0},90,150,0,13,0,50,0]
[]
[null,null,null,null,null,null,null,null,"= >30% VJ","= >30% VJ"]

{"sheet":"RBAMFE Nº4 (Détails)","index":14,"n_rows":56,"n_cols":19,"rows_kept":56,"cut":false,"hidden":true,"merged":[[33,1,33,2]]}
[{"$f":"_xlfn.CONCAT(#REF!,\" Nutrition Composition\")","v":{"$error":"#REF!"}}]
["Poids =",{"$f":"#REF!","v":{"$error":"#REF!"}}]
["Nutriments \n(avant et après la cuisson)","Énergie\n(kcal, ou calories)","Protéines (g)","Matières grasses totales (g)","Graisses saturées (g)","Acides gras monoinsaturés (g)","Acides gras polyinsaturés (g)","Glucides (g)","Fibres (g)","Sucre (g)","Calcium [Ca] (mg)","Fer [Fe] (mg)","Magnésium [Mg] (mg)","Phosphore [P] (mg)","Potassium [K] (mg)",null,null,"Sodium [Na] (mg)","Zinc [Zn] (mg)"]
["RBA crue Ingrédients",{"$f":"((#REF!/100)*#REF!)+((#REF!/100)*#REF!)+((#REF!/100)*#REF!)+((#REF!/100)*#REF!)+((#REF!/100)*#REF!)+((#REF!/100)*#REF!)+((#REF!/100)*#REF!)+((#REF!/100)*#REF!)+((#REF!/100)*#REF!)+((#REF!/100)*#REF!)+((#REF!/100)*#REF!)+((#REF!/100)*#REF!)","v":{"$error":"#REF!"}},{"$f":"((#REF!/100)*#REF!)+((#REF!/100)*#REF!)+((#REF!/100)*#REF!)+((#REF!/100)*#REF!)+((#REF!/100)*#REF!)+((#REF!/100)*#REF!)+((#REF!/100)*#REF!)+((#REF!/100)*#REF!)+((#REF!/100)*#REF!)+((#REF!/100)*#REF!)+((#REF!/100)*#REF!)+((#REF!/100)*#REF!)","v":{"$error":"#REF!"}},{"$f":"((#REF!/100)*#REF!)+((#REF!/100)*#REF!)+((#REF!/100)*#REF!)+((#REF!/100)*#REF!)+((#REF!/100)*#REF!)+((#REF!/100)*#REF!)+((#REF!/100)*#REF!)+((#REF!/100)*#REF!)+((#REF!/100)*#REF!)+((#REF!/100)*#REF!)+((#REF!/100)*#REF!)+((#REF!/100)*#REF!)","v":{"$error":"#REF!"}},{"$f":"((#REF!/100)*#REF!)+((#REF!/100)*#REF!)+((#REF!/100)*#REF!)+((#REF!/100)*#REF!)+((#REF!/100)*#REF!)+((#REF!/100)*#REF!)+((#REF!/100)*#REF!)+((#REF!/100)*#REF!)+((#REF!/100)*#REF!)+((#REF!/100)*#REF!)+((#REF!/100)*#REF!)+((#REF!/100)*#REF!)","v":{"$error":"#REF!"}},{"$f":"((#REF!/100)*#REF!)+((#REF!/100)*#REF!)+((#REF!/100)*#REF!)+((#REF!/100)*#REF!)+((#REF!/100)*#REF!)+((#REF!/100)*#REF!)+((#REF!/100)*#REF!)+((#REF!/100)*#REF!)+((#REF!/100)*#REF!)+((#REF!/100)*#REF!)+((#REF!/100)*#REF!)+((#REF!/100)*#REF!)","v":{"$error":"#REF!"}},{"$f":"((#REF!/100)*#REF!)+((#REF!/100)*#REF!)+((#REF!/100)*#REF!)+((#REF!/100)*#REF!)+((#REF!/100)*#REF!)+((#REF!/100)*#REF!)+((#REF!/100)*#REF!)+((#REF!/100)*#REF!)+((#REF!/100)*#REF!)+((#REF!/100)*#REF!)+((#REF!/100)*#REF!)+((#REF!/100)*#REF!)","v":{"$error":"#REF!"}},{"$f":"((#REF!/100)*#REF!)+((#REF!/100)*#REF!)+((#REF!/100)*#REF!)+((#REF!/100)*#REF!)+((#REF!/100)*#REF!)+((#REF!/100)*#REF!)+((#REF!/100)*#REF!)+((#REF!/100)*#REF!)+((#REF!/100)*#REF!)+((#REF!/100)*#REF!)+((#REF!/100)*#REF!)+((#REF!/100)*#REF!)","v":{"$error":"#REF!"}},{"$f":"((#REF!/100)*#REF!)+((#REF!/100)*#REF!)+((#REF!/100)*#REF!)+((#REF!/100)*#REF!)+((#REF!/100)*#REF!)+((#REF!/100)*#REF!)+((#REF!/100)*#REF!)+((#REF!/100)*#REF!)+((#REF!/100)*#REF!)+((#REF!/100)*#REF!)+((#REF!/100)*#REF!)+((#REF!/100)*#REF!)","v":{"$error":"#REF!"}},{"$f":"((#REF!/100)*#REF!)+((#REF!/100)*#REF!)+((#REF!/100)*#REF!)+((#REF!/100)*#REF!)+((#REF!/100)*#REF!)+((#REF!/100)*#REF!)+((#REF!/100)*#REF!)+((#REF!/100)*#REF!)+((#REF!/100)*#REF!)+((#REF!/100)*#REF!)+((#REF!/100)*#REF!)+((#REF!/100)*#REF!)","v":{"$error":"#REF!"}},{"$f":"((#REF!/100)*#REF!)+((#REF!/100)*#REF!)+((#REF!/100)*#REF!)+((#REF!/100)*#REF!)+((#REF!/100)*#REF!)+((#REF!/100)*#REF!)+((#REF!/100)*#REF!)+((#REF!/100)*#REF!)+((#REF!/100)*#REF!)+((#REF!/100)*#REF!)+((#REF!/100)*#REF!)+((#REF!/100)*#REF!)","v":{"$error":"#REF!"}},0.11,{"$f":"((#REF!/100)*#REF!)+((#REF!/100)*#REF!)+((#REF!/100)*#REF!)+((#REF!/100)*#REF!)+((#REF!/100)*#REF!)+((#REF!/100)*#REF!)+((#REF!/100)*#REF!)+((#REF!/100)*#REF!)+((#REF!/100)*#REF!)+((#REF!/100)*#REF!)+((#REF!/100)*#REF!)+((#REF!/100)*#REF!)","v":{"$error":"#REF!"}},{"$f":"((#REF!/100)*#REF!)+((#REF!/100)*#REF!)+((#REF!/100)*#REF!)+((#REF!/100)*#REF!)+((#REF!/100)*#REF!)+((#REF!/100)*#REF!)+((#REF!/100)*#REF!)+((#REF!/100)*#REF!)+((#REF!/100)*#REF!)+((#REF!/100)*#REF!)+((#REF!/100)*#REF!)+((#REF!/100)*#REF!)","v":{"$error":"#REF!"}},{"$f":"((#REF!/100)*#REF!)+((#REF!/100)*#REF!)+((#REF!/100)*#REF!)+((#REF!/100)*#REF!)+((#REF!/100)*#REF!)+((#REF!/100)*#REF!)+((#REF!/100)*#REF!)+((#REF!/100)*#REF!)+((#REF!/100)*#REF!)+((#REF!/100)*#REF!)+((#REF!/100)*#REF!)+((#REF!/100)*#REF!)","v":{"$error":"#REF!"}},null,null,{"$f":"((#REF!/100)*#REF!)+((#REF!/100)*#REF!)+((#REF!/100)*#REF!)+((#REF!/100)*#REF!)+((#REF!/100)*#REF!)+((#REF!/100)*#REF!)+((#REF!/100)*#REF!)+((#REF!/100)*#REF!)+((#REF!/100)*#REF!)+((#REF!/100)*#REF!)+((#REF!/100)*#REF!)+((#REF!/100)*#REF!)","v":{"$error":"#REF!"}},{"$f":"((#REF!/100)*#REF!)+((#REF!/100)*#REF!)+((#REF!/100)*#REF!)+((#REF!/100)*#REF!)+((#REF!/100)*#REF!)+((#REF!/100)*#REF!)+((#REF!/100)*#REF!)+((#REF!/100)*#REF!)+((#REF!/100)*#REF!)+((#REF!/100)*#REF!)+((#REF!/100)*#REF!)+((#REF!/100)*#REF!)","v":{"$error":"#REF!"}}]
["RBA cuite (+ facteur de rétention)",{"$f":"B4","v":{"$error":"#REF!"}},{"$error":"#REF!"},{"$error":"#REF!"},{"$error":"#REF!"},{"$error":"#REF!"},{"$error":"#REF!"},{"$error":"#REF!"},{"$error":"#REF!"},{"$error":"#REF!"},{"$error":"#REF!"},0.11,{"$error":"#REF!"},{"$error":"#REF!"},{"$error":"#REF!"},null,null,{"$f":"R4","v":{"$error":"#REF!"}},{"$error":"#REF!"}]
[]
["Valeurs nutritives journalières pour \nsélectionner des populations","Énergie\n(kcal, ou calories)","Protéines (g)","Matières grasses totales (g)","Graisses saturées (g)","Acides gras monoinsaturés (g)","Acides gras polyinsaturés (g)","Glucides (g)","Fibres (g)","Sucre (g)","Calcium [Ca] (mg)","Fer [Fe] (mg)","Magnésium [Mg] (mg)","Phosphore [P] (mg)","Potassium [K] (mg)",null,null,"Sodium [Na] (mg)","Zinc [Zn] (mg)"]
["Hommes, adultes, AJR (régime de 2 000 calories)",2400,{"$f":"(B8*0.15)/4","v":90},{"$f":"(B8*0.35)/9","v":93.333333333333329},{"$f":"(B8*0.1)/9","v":26.666666666666668},{"$f":"((D8-E8)*0.6)","v":39.999999999999993},{"$f":"((D8-E8)*0.4)","v":26.666666666666664},{"$f":"(B8*0.5)/4","v":300},38,36,1000,8,420,1250,3400,null,null,2000,11]
["Hommes, adultes, % Valeur journalière",{"$f":"B$5/B8","v":{"$error":"#REF!"}},{"$error":"#REF!"},{"$error":"#REF!"},{"$error":"#REF!"},{"$error":"#REF!"},{"$error":"#REF!"},{"$error":"#REF!"},{"$error":"#REF!"},{"$error":"#REF!"},{"$error":"#REF!"},1.375E-2,{"$error":"#REF!"},{"$error":"#REF!"},{"$error":"#REF!"},null,null,{"$f":"R$5/R8","v":{"$error":"#REF!"}},{"$error":"#REF!"}]
[null,"Énergie\n(kcal, ou calories)","Protéines (g)","Matières grasses totales (g)","Graisses saturées (g)","Acides gras monoinsaturés (g)","Acides gras polyinsaturés (g)","Glucides (g)","Fibres (g)","Sucre (g)","Calcium [Ca] (mg)","Fer [Fe] (mg)","Magnésium [Mg] (mg)","Phosphore [P] (mg)","Potassium [K] (mg)",null,null,"Sodium [Na] (mg)","Zinc [Zn] (mg)"]
["Femmes, adultes, AJR (régime de 2 000 calories)",2000,{"$f":"(B11*0.15)/4","v":75},{"$f":"(B11*0.35)/9","v":77.777777777777771},{"$f":"(B11*0.1)/9","v":22.222222222222221},{"$f":"((D11-E11)*0.6)","v":33.333333333333329},{"$f":"((D11-E11)*0.4)","v":22.222222222222221},{"$f":"(B11*0.5)/4","v":250},25,25,1000,18,320,1250,2600,null,null,2000,8]
["Femmes, adultes, % Valeur journalière",{"$f":"B$5/B11","v":{"$error":"#REF!"}},{"$error":"#REF!"},{"$error":"#REF!"},{"$error":"#REF!"},{"$error":"#REF!"},{"$error":"#REF!"},{"$error":"#REF!"},{"$error":"#REF!"},{"$error":"#REF!"},{"$error":"#REF!"},6.1111111111111114E-3,{"$error":"#REF!"},{"$error":"#REF!"},{"$error":"#REF!"},null,null,{"$f":"R$5/R11","v":{"$error":"#REF!"}},{"$error":"#REF!"}]
[null,"Énergie\n(kcal, ou calories)","Protéines (g)","Matières grasses totales (g)","Graisses saturées (g)","Acides gras monoinsaturés (g)","Acides gras polyinsaturés (g)","Glucides (g)","Fibres (g)","Sucre (g)","Calcium [Ca] (mg)","Fer [Fe] (mg)","Magnésium [Mg] (mg)","Phosphore [P] (mg)","Potassium [K] (mg)",null,null,"Sodium [Na] (mg)","Zinc [Zn] (mg)"]
["FEA, Adultes, AJR",2200,{"$f":"(B14*0.15)/4","v":82.5},{"$f":"(B14*0.35)/9","v":85.555555555555557},{"$f":"(B14*0.1)/9","v":24.444444444444443},{"$f":"((D14-E14)*0.6)","v":36.666666666666664},{"$f":"((D14-E14)*0.4)","v":24.444444444444446},{"$f":"(B14*0.5)/4","v":275},29,28,1000,27,350,700,2900,null,null,2000,11]
["FEA, Adultes, % Valeur journalière",{"$f":"B$5/B14","v":{"$error":"#REF!"}},{"$error":"#REF!"},{"$error":"#REF!"},{"$error":"#REF!"},{"$error":"#REF!"},{"$error":"#REF!"},{"$error":"#REF!"},{"$error":"#REF!"},{"$error":"#REF!"},{"$error":"#REF!"},4.0740740740740737E-3,{"$error":"#REF!"},{"$error":"#REF!"},{"$error":"#REF!"},null,null,{"$f":"R$5/R14","v":{"$error":"#REF!"}},{"$error":"#REF!"}]
[null,"Énergie\n(kcal, ou calories)","Protéines (g)","Matières grasses totales (g)","Graisses saturées (g)","Acides gras monoinsaturés (g)","Acides gras polyinsaturés (g)","Glucides (g)","Fibres (g)","Sucre (g)","Calcium [Ca] (mg)","Fer [Fe] (mg)","Magnésium [Mg] (mg)","Phosphore [P] (mg)","Potassium [K] (mg)",null,null,"Sodium [Na] (mg)","Zinc [Zn] (mg)"]
["Adolescents (14 à 18 ans), AJR",2000,{"$f":"(B17*0.15)/4","v":75},{"$f":"(B17*0.35)/9","v":77.777777777777771},{"$f":"(B17*0.1)/9","v":22.222222222222221},{"$f":"((D17-E17)*0.6)","v":33.333333333333329},{"$f":"((D17-E17)*0.4)","v":22.222222222222221},{"$f":"(B17*0.5)/4","v":250},26,25,1300,13,380,1250,2600,null,null,2000,10]
["Adolescents (14 à 18 ans), % Valeur journalière",{"$f":"B$5/B17","v":{"$error":"#REF!"}},{"$error":"#REF!"},{"$error":"#REF!"},{"$error":"#REF!"},{"$error":"#REF!"},{"$error":"#REF!"},{"$error":"#REF!"},{"$error":"#REF!"},{"$error":"#REF!"},{"$error":"#REF!"},8.4615384615384613E-3,{"$error":"#REF!"},{"$error":"#REF!"},{"$error":"#REF!"},null,null,{"$f":"R$5/R17","v":{"$error":"#REF!"}},{"$error":"#REF!"}]
[null,"Énergie\n(kcal, ou calories)","Protéines (g)","Matières grasses totales (g)","Graisses saturées (g)","Acides gras monoinsaturés (g)","Acides gras polyinsaturés (g)","Glucides (g)","Fibres (g)","Sucre (g)","Calcium [Ca] (mg)","Fer [Fe] (mg)","Magnésium [Mg] (mg)","Phosphore [P] (mg)","Potassium [K] (mg)",null,null,"Sodium [Na] (mg)","Zinc [Zn] (mg)"]
["Enfants (4 à 8 ans), AJR",1400,{"$f":"(B20*0.15)/4","v":52.5},{"$f":"(B20*0.35)/9","v":54.444444444444436},{"$f":"(B20*0.1)/9","v":15.555555555555555},{"$f":"((D20-E20)*0.6)","v":23.333333333333325},{"$f":"((D20-E20)*0.4)","v":15.555555555555552},{"$f":"(B20*0.5)/4","v":175},25,20,1000,10,130,500,2300,null,null,1200,5]
["Enfants (4 à 8 ans), % Valeur journalière",{"$f":"B$5/B20","v":{"$error":"#REF!"}},{"$error":"#REF!"},{"$error":"#REF!"},{"$error":"#REF!"},{"$error":"#REF!"},{"$error":"#REF!"},{"$error":"#REF!"},{"$error":"#REF!"},{"$error":"#REF!"},{"$error":"#REF!"},1.0999999999999999E-2,{"$error":"#REF!"},{"$error":"#REF!"},{"$error":"#REF!"},null,null,{"$f":"R$5/R20","v":{"$error":"#REF!"}},{"$error":"#REF!"}]
[null,"Énergie\n(kcal, ou calories)","Protéines (g)","Matières grasses totales (g)","Graisses saturées (g)","Acides gras monoinsaturés (g)","Acides gras polyinsaturés (g)","Glucides (g)","Fibres (g)","Sucre (g)","Calcium [Ca] (mg)","Fer [Fe] (mg)","Magnésium [Mg] (mg)","Phosphore [P] (mg)","Potassium [K] (mg)",null,null,"Sodium [Na] (mg)","Zinc [Zn] (mg)"]
["Enfants (1 à 3 ans), AJR",1200,{"$f":"(B23*0.15)/4","v":45},{"$f":"(B23*0.35)/9","v":46.666666666666664},{"$f":"(B23*0.1)/9","v":13.333333333333334},{"$f":"((D23-E23)*0.6)","v":19.999999999999996},{"$f":"((D23-E23)*0.4)","v":13.333333333333332},{"$f":"(B23*0.5)/4","v":150},19,{"$f":"(B23*0.06)/4","v":18},700,7,80,460,2000,null,null,800,3]
["Enfants (1 à 3 ans), % Valeur journalière",{"$f":"B$5/B23","v":{"$error":"#REF!"}},{"$error":"#REF!"},{"$error":"#REF!"},{"$error":"#REF!"},{"$error":"#REF!"},{"$error":"#REF!"},{"$error":"#REF!"},{"$error":"#REF!"},{"$error":"#REF!"},{"$error":"#REF!"},1.5714285714285715E-2,{"$error":"#REF!"},{"$error":"#REF!"},{"$error":"#REF!"},null,null,{"$f":"R$5/R23","v":{"$error":"#REF!"}},{"$error":"#REF!"}]
[null,"Énergie\n(kcal, ou calories)","Protéines (g)","Matières grasses totales (g)","Graisses saturées (g)","Acides gras monoinsaturés (g)","Acides gras polyinsaturés (g)","Glucides (g)","Fibres (g)","Sucre (g)","Calcium [Ca] (mg)","Fer [Fe] (mg)","Magnésium [Mg] (mg)","Phosphore [P] (mg)","Potassium [K] (mg)",null,null,"Sodium [Na] (mg)","Zinc [Zn] (mg)"]
["Nourrisson (6 à 12 mois), AJR",1000,{"$f":"(B26*0.15)/4","v":37.5},{"$f":"(B26*0.35)/9","v":38.888888888888886},"NA","NA","NA",{"$f":"(B26*0.5)/4","v":125},"NA","NA",260,11,75,275,860,null,null,400,3]
["Nourrisson (6 à 12 mois), % Valeur journalière",{"$f":"B$5/B26","v":{"$error":"#REF!"}},{"$error":"#REF!"},{"$error":"#REF!"},"na","na","na",{"$f":"H$5/H26","v":{"$error":"#REF!"}},"na","na",{"$f":"K$5/K26","v":{"$error":"#REF!"}},0.01,{"$error":"#REF!"},{"$error":"#REF!"},{"$error":"#REF!"},null,null,{"$f":"R$5/R26","v":{"$error":"#REF!"}},{"$error":"#REF!"}]
[null,null,null,null,"> 25 % valeur journalière",null,null,"> 30 % Valeur journalière, nutriment à limiter (graisses saturées, sucre, sodium)"]
["Facteurs de durabilité\n(en fonction de la Phase 2)","Rendement des cultures","Rentabilité","Facilité de transformation","Abordabilité","Accessibilité","Sécurité","Facilité de production","Préférence des consommateurs","Charge de travail des femmes","Résistance à la sécheresse","Tolérance à la chaleur","Intrants agrochimiques"]
[]
["Note annuelle de saisonnalité \n(en fonction de la Phase 3)"]
[]
[{"$f":"_xlfn.CONCAT('3B-4B) CalcNutr (6-11)'!F40,\" - Summary Dashboard\")","v":"RBA Nº4 - Summary Dashboard"}]
["Composition des nutriments",null,null,"Valeurs nutritionnelles journalières pour certaines populations","% Valeur journalière (VJ) des nutriments pour certaines populations                ",null,null,null,null,null,null,{"$f":"L33","v":0},null,{"$f":"N33","v":0},0,null,null,{"$f":"R33","v":0},0]
["Nutriments","RBA crue / Ingrédients MFE","RBA cuite (avec facteur de rétention)","Hommes, adultes, AJR (régime de 2 000 calories)","Hommes, adultes, % VJ","Femmes, adultes, AJR (régime de 2 000 calories)","Femmes, adultes, % VJ","FEA, Adultes, AJR","FEA, Adultes, % VJ","Adolescents (14 à 18 ans), AJR","Adolescents (14 à 18 ans), % VJ","Enfants (2 à 5 ans), OMS","Enfants (2 à 5 ans), % VJ","Enfants (1 à 3 ans), AJR","Enfants (2 à 3 ans), % VJ","Nourrisson (12 à 24 mois), % AJR","Nourrisson (12 à 24 mois), % VJ","Nourrisson (6 à 12 mois), AJR","Nourrissons (6 à 12 mois), % VJ"]
["Énergie (kcal, ou calories)",{"$f":"SUM(('3B-4B) CalcNutr (6-11)'!C19/100)*('3B-4B) CalcNutr (6-11)'!F$42),SUM('3B-4B) CalcNutr (6-11)'!D19/100)*('3B-4B) CalcNutr (6-11)'!F$43),SUM('3B-4B) CalcNutr (6-11)'!E19/100)*('3B-4B) CalcNutr (6-11)'!F$44),SUM('3B-4B) CalcNutr (6-11)'!F19/100)*('3B-4B) CalcNutr (6-11)'!F$45),SUM('3B-4B) CalcNutr (6-11)'!G19/100)*('3B-4B) CalcNutr (6-11)'!F$46),SUM('3B-4B) CalcNutr (6-11)'!H19/100)*('3B-4B) CalcNutr (6-11)'!F$47),SUM('3B-4B) CalcNutr (6-11)'!I19/100)*('3B-4B) CalcNutr (6-11)'!F$48),SUM('3B-4B) CalcNutr (6-11)'!J19/100)*('3B-4B) CalcNutr (6-11)'!F$49),SUM('3B-4B) CalcNutr (6-11)'!K19/100)*('3B-4B) CalcNutr (6-11)'!F$50),SUM('3B-4B) CalcNutr (6-11)'!L19/100)*('3B-4B) CalcNutr (6-11)'!F$51),SUM('3B-4B) CalcNutr (6-11)'!M19/100)*('3B-4B) CalcNutr (6-11)'!F52),SUM('3B-4B) CalcNutr (6-11)'!N19/100)*('3B-4B) CalcNutr (6-11)'!F53),SUM('3B-4B) CalcNutr (6-11)'!O19/100)*('3B-4B) CalcNutr (6-11)'!F54))","v":0},{"$f":"B36","v":0},2400,{"$f":"$C36/D36","v":0},2000,{"$f":"$C36/F36","v":0},2200,{"$f":"$C36/H36","v":0},2000,{"$f":"$C36/J36","v":0},1100,{"$f":"$C36/L36","v":0},1200,{"$f":"$C36/N36","v":0},1000,{"$f":"$C36/P36","v":0},800,{"$f":"$C36/R36","v":0}]
["Protéines (g)",{"$f":"SUM(('3B-4B) CalcNutr (6-11)'!C20/100)*('3B-4B) CalcNutr (6-11)'!F$42),SUM('3B-4B) CalcNutr (6-11)'!D20/100)*('3B-4B) CalcNutr (6-11)'!F$43),SUM('3B-4B) CalcNutr (6-11)'!E20/100)*('3B-4B) CalcNutr (6-11)'!F$44),SUM('3B-4B) CalcNutr (6-11)'!F20/100)*('3B-4B) CalcNutr (6-11)'!F$45),SUM('3B-4B) CalcNutr (6-11)'!G20/100)*('3B-4B) CalcNutr (6-11)'!F$46),SUM('3B-4B) CalcNutr (6-11)'!H20/100)*('3B-4B) CalcNutr (6-11)'!F$47),SUM('3B-4B) CalcNutr (6-11)'!I20/100)*('3B-4B) CalcNutr (6-11)'!F$48),SUM('3B-4B) CalcNutr (6-11)'!J20/100)*('3B-4B) CalcNutr (6-11)'!F$49),SUM('3B-4B) CalcNutr (6-11)'!K20/100)*('3B-4B) CalcNutr (6-11)'!F$50),SUM('3B-4B) CalcNutr (6-11)'!L20/100)*('3B-4B) CalcNutr (6-11)'!F$51),SUM('3B-4B) CalcNutr (6-11)'!M20/100)*('3B-4B) CalcNutr (6-11)'!F52),SUM('3B-4B) CalcNutr (6-11)'!N20/100)*('3B-4B) CalcNutr (6-11)'!F53),SUM('3B-4B) CalcNutr (6-11)'!O20/100)*('3B-4B) CalcNutr (6-11)'!F54))","v":0},0,{"$f":"(D36*0.15)/4","v":90},0,75,0,{"$f":"(H36*0.15)/4","v":82.5},0,{"$f":"(J36*0.15)/4","v":75},0,{"$f":"(L36*0.15)/4","v":41.25},{"$f":"$C37/L37","v":0},{"$f":"(N36*0.15)/4","v":45},0,{"$f":"(P36*0.15)/4","v":37.5},0,{"$f":"(R36*0.15)/4","v":30},0]
["Matières grasses totales (g)",{"$f":"SUM(('3B-4B) CalcNutr (6-11)'!C21/100)*('3B-4B) CalcNutr (6-11)'!F$42),SUM('3B-4B) CalcNutr (6-11)'!D21/100)*('3B-4B) CalcNutr (6-11)'!F$43),SUM('3B-4B) CalcNutr (6-11)'!E21/100)*('3B-4B) CalcNutr (6-11)'!F$44),SUM('3B-4B) CalcNutr (6-11)'!F21/100)*('3B-4B) CalcNutr (6-11)'!F$45),SUM('3B-4B) CalcNutr (6-11)'!G21/100)*('3B-4B) CalcNutr (6-11)'!F$46),SUM('3B-4B) CalcNutr (6-11)'!H21/100)*('3B-4B) CalcNutr (6-11)'!F$47),SUM('3B-4B) CalcNutr (6-11)'!I21/100)*('3B-4B) CalcNutr (6-11)'!F$48),SUM('3B-4B) CalcNutr (6-11)'!J21/100)*('3B-4B) CalcNutr (6-11)'!F$49),SUM('3B-4B) CalcNutr (6-11)'!K21/100)*('3B-4B) CalcNutr (6-11)'!F$50),SUM('3B-4B) CalcNutr (6-11)'!L21/100)*('3B-4B) CalcNutr (6-11)'!F$51),,SUM('3B-4B) CalcNutr (6-11)'!M22/100)*('3B-4B) CalcNutr (6-11)'!F52),SUM('3B-4B) CalcNutr (6-11)'!N22/100)*('3B-4B) CalcNutr (6-11)'!F53),SUM('3B-4B) CalcNutr (6-11)'!O22/100)*('3B-4B) CalcNutr (6-11)'!F54))","v":0},0,{"$f":"(D36*0.35)/9","v":93.333333333333329},0,77.777777777777771,0,{"$f":"(H36*0.35)/9","v":85.555555555555557},0,{"$f":"(J36*0.35)/9","v":77.777777777777771},0,{"$f":"(L36*0.35)/9","v":42.777777777777779},0,{"$f":"(N36*0.35)/9","v":46.666666666666664},0,{"$f":"(P36*0.35)/9","v":38.888888888888886},0,{"$f":"(R36*0.35)/9","v":31.111111111111111},0]
["Glucides (g)",{"$f":"SUM(('3B-4B) CalcNutr (6-11)'!C22/100)*('3B-4B) CalcNutr (6-11)'!F$42),SUM('3B-4B) CalcNutr (6-11)'!D22/100)*('3B-4B) CalcNutr (6-11)'!F$43),SUM('3B-4B) CalcNutr (6-11)'!E22/100)*('3B-4B) CalcNutr (6-11)'!F$44),SUM('3B-4B) CalcNutr (6-11)'!F22/100)*('3B-4B) CalcNutr (6-11)'!F$45),SUM('3B-4B) CalcNutr (6-11)'!G22/100)*('3B-4B) CalcNutr (6-11)'!F$46),SUM('3B-4B) CalcNutr (6-11)'!H22/100)*('3B-4B) CalcNutr (6-11)'!F$47),SUM('3B-4B) CalcNutr (6-11)'!I22/100)*('3B-4B) CalcNutr (6-11)'!F$48),SUM('3B-4B) CalcNutr (6-11)'!J22/100)*('3B-4B) CalcNutr (6-11)'!F$49),SUM('3B-4B) CalcNutr (6-11)'!K22/100)*('3B-4B) CalcNutr (6-11)'!F$50),SUM('3B-4B) CalcNutr (6-11)'!L22/100)*('3B-4B) CalcNutr (6-11)'!F$51),SUM('3B-4B) CalcNutr (6-11)'!M23/100)*('3B-4B) CalcNutr (6-11)'!E52),SUM('3B-4B) CalcNutr (6-11)'!N23/100)*('3B-4B) CalcNutr (6-11)'!E53),SUM('3B-4B) CalcNutr (6-11)'!O23/100)*('3B-4B) CalcNutr (6-11)'!E54))","v":0},0,{"$f":"(D36*0.5)/4","v":300},0,250,0,{"$f":"(H36*0.5)/4","v":275},0,{"$f":"(J36*0.5)/4","v":250},0,{"$f":"(L36*0.5)/4","v":137.5},0,{"$f":"(N36*0.5)/4","v":150},0,{"$f":"(P36*0.5)/4","v":125},0,{"$f":"(R36*0.5)/4","v":100},0]
["Fibres (g)",{"$f":"SUM(('3B-4B) CalcNutr (6-11)'!C23/100)*('3B-4B) CalcNutr (6-11)'!F$42),SUM('3B-4B) CalcNutr (6-11)'!D23/100)*('3B-4B) CalcNutr (6-11)'!F$43),SUM('3B-4B) CalcNutr (6-11)'!E23/100)*('3B-4B) CalcNutr (6-11)'!F$44),SUM('3B-4B) CalcNutr (6-11)'!F23/100)*('3B-4B) CalcNutr (6-11)'!F$45),SUM('3B-4B) CalcNutr (6-11)'!G23/100)*('3B-4B) CalcNutr (6-11)'!F$46),SUM('3B-4B) CalcNutr (6-11)'!H23/100)*('3B-4B) CalcNutr (6-11)'!F$47),SUM('3B-4B) CalcNutr (6-11)'!I23/100)*('3B-4B) CalcNutr (6-11)'!F$48),SUM('3B-4B) CalcNutr (6-11)'!J23/100)*('3B-4B) CalcNutr (6-11)'!F$49),SUM('3B-4B) CalcNutr (6-11)'!K23/100)*('3B-4B) CalcNutr (6-11)'!F$50),SUM('3B-4B) CalcNutr (6-11)'!L23/100)*('3B-4B) CalcNutr (6-11)'!F$51),SUM('3B-4B) CalcNutr (6-11)'!M24/100)*('3B-4B) CalcNutr (6-11)'!F52),SUM('3B-4B) CalcNutr (6-11)'!N24/100)*('3B-4B) CalcNutr (6-11)'!F53),SUM('3B-4B) CalcNutr (6-11)'!O24/100)*('3B-4B) CalcNutr (6-11)'!F54))","v":0},0,38,0,25,0,29,0,26,0,25,0,19,0,17,0,"NA","NA"]
["Sucre (g)",{"$f":"SUM(('3B-4B) CalcNutr (6-11)'!C24/100)*('3B-4B) CalcNutr (6-11)'!F$42),SUM('3B-4B) CalcNutr (6-11)'!D24/100)*('3B-4B) CalcNutr (6-11)'!F$43),SUM('3B-4B) CalcNutr (6-11)'!E24/100)*('3B-4B) CalcNutr (6-11)'!F$44),SUM('3B-4B) CalcNutr (6-11)'!F24/100)*('3B-4B) CalcNutr (6-11)'!F$45),SUM('3B-4B) CalcNutr (6-11)'!G24/100)*('3B-4B) CalcNutr (6-11)'!F$46),SUM('3B-4B) CalcNutr (6-11)'!H24/100)*('3B-4B) CalcNutr (6-11)'!F$47),SUM('3B-4B) CalcNutr (6-11)'!I24/100)*('3B-4B) CalcNutr (6-11)'!F$48),SUM('3B-4B) CalcNutr (6-11)'!J24/100)*('3B-4B) CalcNutr (6-11)'!F$49),SUM('3B-4B) CalcNutr (6-11)'!K24/100)*('3B-4B) CalcNutr (6-11)'!F$50),SUM('3B-4B) CalcNutr (6-11)'!L24/100)*('3B-4B) CalcNutr (6-11)'!F$51),SUM('3B-4B) CalcNutr (6-11)'!M24/100)*('3B-4B) CalcNutr (6-11)'!F52),SUM('3B-4B) CalcNutr (6-11)'!N24/100)*('3B-4B) CalcNutr (6-11)'!F53),SUM('3B-4B) CalcNutr (6-11)'!O24/100)*('3B-4B) CalcNutr (6-11)'!F54))","v":0},0,36,0,25,0,28,0,25,0,20,0,{"$f":"(N36*0.06)/4","v":18},0,"NA","NA","NA","NA"]
["Calcium [Ca] (mg)",{"$f":"SUM(('3B-4B) CalcNutr (6-11)'!C25/100)*('3B-4B) CalcNutr (6-11)'!F$42),SUM('3B-4B) CalcNutr (6-11)'!D25/100)*('3B-4B) CalcNutr (6-11)'!F$43),SUM('3B-4B) CalcNutr (6-11)'!E25/100)*('3B-4B) CalcNutr (6-11)'!F$44),SUM('3B-4B) CalcNutr (6-11)'!F25/100)*('3B-4B) CalcNutr (6-11)'!F$45),SUM('3B-4B) CalcNutr (6-11)'!G25/100)*('3B-4B) CalcNutr (6-11)'!F$46),SUM('3B-4B) CalcNutr (6-11)'!H25/100)*('3B-4B) CalcNutr (6-11)'!F$47),SUM('3B-4B) CalcNutr (6-11)'!I25/100)*('3B-4B) CalcNutr (6-11)'!F$48),SUM('3B-4B) CalcNutr (6-11)'!J25/100)*('3B-4B) CalcNutr (6-11)'!F$49),SUM('3B-4B) CalcNutr (6-11)'!K25/100)*('3B-4B) CalcNutr (6-11)'!F$50),SUM('3B-4B) CalcNutr (6-11)'!L25/100)*('3B-4B) CalcNutr (6-11)'!F$51),SUM('3B-4B) CalcNutr (6-11)'!M25/100)*('3B-4B) CalcNutr (6-11)'!F52),SUM('3B-4B) CalcNutr (6-11)'!N25/100)*('3B-4B) CalcNutr (6-11)'!F53),SUM('3B-4B) CalcNutr (6-11)'!O25/100)*('3B-4B) CalcNutr (6-11)'!F54))","v":0},0,1000,0,1000,0,1000,0,1300,0,1200,0,700,0,400,{"$f":"$C42/P42","v":0},260,{"$f":"$C42/R42","v":0}]
["Fer [Fe] (mg)",{"$f":"SUM(('3B-4B) CalcNutr (6-11)'!C26/100)*('3B-4B) CalcNutr (6-11)'!F$42),SUM('3B-4B) CalcNutr (6-11)'!D26/100)*('3B-4B) CalcNutr (6-11)'!F$43),SUM('3B-4B) CalcNutr (6-11)'!E26/100)*('3B-4B) CalcNutr (6-11)'!F$44),SUM('3B-4B) CalcNutr (6-11)'!F26/100)*('3B-4B) CalcNutr (6-11)'!F$45),SUM('3B-4B) CalcNutr (6-11)'!G26/100)*('3B-4B) CalcNutr (6-11)'!F$46),SUM('3B-4B) CalcNutr (6-11)'!H26/100)*('3B-4B) CalcNutr (6-11)'!F$47),SUM('3B-4B) CalcNutr (6-11)'!I26/100)*('3B-4B) CalcNutr (6-11)'!F$48),SUM('3B-4B) CalcNutr (6-11)'!J26/100)*('3B-4B) CalcNutr (6-11)'!F$49),SUM('3B-4B) CalcNutr (6-11)'!K26/100)*('3B-4B) CalcNutr (6-11)'!F$50),SUM('3B-4B) CalcNutr (6-11)'!L26/100)*('3B-4B) CalcNutr (6-11)'!F$51),SUM('3B-4B) CalcNutr (6-11)'!M26/100)*('3B-4B) CalcNutr (6-11)'!F52),SUM('3B-4B) CalcNutr (6-11)'!N26/100)*('3B-4B) CalcNutr (6-11)'!F53),SUM('3B-4B) CalcNutr (6-11)'!O26/100)*('3B-4B) CalcNutr (6-11)'!F54))","v":0},0,8,0,18,0,27,0,13,0,22,0,7,0,7,0,11,0]
["Magnésium [Mg] (mg)",{"$f":"SUM(('3B-4B) CalcNutr (6-11)'!C27/100)*('3B-4B) CalcNutr (6-11)'!F$42),SUM('3B-4B) CalcNutr (6-11)'!D27/100)*('3B-4B) CalcNutr (6-11)'!F$43),SUM('3B-4B) CalcNutr (6-11)'!E27/100)*('3B-4B) CalcNutr (6-11)'!F$44),SUM('3B-4B) CalcNutr (6-11)'!F27/100)*('3B-4B) CalcNutr (6-11)'!F$45),SUM('3B-4B) CalcNutr (6-11)'!G27/100)*('3B-4B) CalcNutr (6-11)'!F$46),SUM('3B-4B) CalcNutr (6-11)'!H27/100)*('3B-4B) CalcNutr (6-11)'!F$47),SUM('3B-4B) CalcNutr (6-11)'!I27/100)*('3B-4B) CalcNutr (6-11)'!F$48),SUM('3B-4B) CalcNutr (6-11)'!J27/100)*('3B-4B) CalcNutr (6-11)'!F$49),SUM('3B-4B) CalcNutr (6-11)'!K27/100)*('3B-4B) CalcNutr (6-11)'!F$50),SUM('3B-4B) CalcNutr (6-11)'!L27/100)*('3B-4B) CalcNutr (6-11)'!F$51),SUM('3B-4B) CalcNutr (6-11)'!M27/100)*('3B-4B) CalcNutr (6-11)'!F52),SUM('3B-4B) CalcNutr (6-11)'!N27/100)*('3B-4B) CalcNutr (6-11)'!F53),SUM('3B-4B) CalcNutr (6-11)'!O27/100)*('3B-4B) CalcNutr (6-11)'!F54))","v":0},0,420,0,320,0,350,0,380,0,{"$f":"(280+420)/2","v":350},0,80,0,65,0,75,0]
["Potassium [K] (mg)",{"$f":"SUM(('3B-4B) CalcNutr (6-11)'!C28/100)*('3B-4B) CalcNutr (6-11)'!F$42),SUM('3B-4B) CalcNutr (6-11)'!D28/100)*('3B-4B) CalcNutr (6-11)'!F$43),SUM('3B-4B) CalcNutr (6-11)'!E28/100)*('3B-4B) CalcNutr (6-11)'!F$44),SUM('3B-4B) CalcNutr (6-11)'!F28/100)*('3B-4B) CalcNutr (6-11)'!F$45),SUM('3B-4B) CalcNutr (6-11)'!G28/100)*('3B-4B) CalcNutr (6-11)'!F$46),SUM('3B-4B) CalcNutr (6-11)'!H28/100)*('3B-4B) CalcNutr (6-11)'!F$47),SUM('3B-4B) CalcNutr (6-11)'!I28/100)*('3B-4B) CalcNutr (6-11)'!F$48),SUM('3B-4B) CalcNutr (6-11)'!J28/100)*('3B-4B) CalcNutr (6-11)'!F$49),SUM('3B-4B) CalcNutr (6-11)'!K28/100)*('3B-4B) CalcNutr (6-11)'!F$50),SUM('3B-4B) CalcNutr (6-11)'!L28/100)*('3B-4B) CalcNutr (6-11)'!F$51),SUM('3B-4B) CalcNutr (6-11)'!M28/100)*('3B-4B) CalcNutr (6-11)'!F52),SUM('3B-4B) CalcNutr (6-11)'!N28/100)*('3B-4B) CalcNutr (6-11)'!F53),SUM('3B-4B) CalcNutr (6-11)'!O28/100)*('3B-4B) CalcNutr (6-11)'!F54))","v":0},0,3400,0,2600,0,2900,0,2600,0,{"$f":"(1500+2200)/2","v":1850},0,2000,0,900,0,860,0]
["Sodium [Na] (mg)",{"$f":"SUM(('3B-4B) CalcNutr (6-11)'!C29/100)*('3B-4B) CalcNutr (6-11)'!F$42),SUM('3B-4B) CalcNutr (6-11)'!D29/100)*('3B-4B) CalcNutr (6-11)'!F$43),SUM('3B-4B) CalcNutr (6-11)'!E29/100)*('3B-4B) CalcNutr (6-11)'!F$44),SUM('3B-4B) CalcNutr (6-11)'!F29/100)*('3B-4B) CalcNutr (6-11)'!F$45),SUM('3B-4B) CalcNutr (6-11)'!G29/100)*('3B-4B) CalcNutr (6-11)'!F$46),SUM('3B-4B) CalcNutr (6-11)'!H29/100)*('3B-4B) CalcNutr (6-11)'!F$47),SUM('3B-4B) CalcNutr (6-11)'!I29/100)*('3B-4B) CalcNutr (6-11)'!F$48),SUM('3B-4B) CalcNutr (6-11)'!J29/100)*('3B-4B) CalcNutr (6-11)'!F$49),SUM('3B-4B) CalcNutr (6-11)'!K29/100)*('3B-4B) CalcNutr (6-11)'!F$50),SUM('3B-4B) CalcNutr (6-11)'!L29/100)*('3B-4B) CalcNutr (6-11)'!F$51),SUM('3B-4B) CalcNutr (6-11)'!M29/100)*('3B-4B) CalcNutr (6-11)'!F52),SUM('3B-4B) CalcNutr (6-11)'!N29/100)*('3B-4B) CalcNutr (6-11)'!F53),SUM('3B-4B) CalcNutr (6-11)'!O29/100)*('3B-4B) CalcNutr (6-11)'!F54))","v":0},0,2000,0,2000,0,2000,0,2000,0,1200,0,800,0,600,0,400,0]
["Zinc [Zn] (mg)",{"$f":"SUM(('3B-4B) CalcNutr (6-11)'!C30/100)*('3B-4B) CalcNutr (6-11)'!F$42),SUM('3B-4B) CalcNutr (6-11)'!D30/100)*('3B-4B) CalcNutr (6-11)'!F$43),SUM('3B-4B) CalcNutr (6-11)'!E30/100)*('3B-4B) CalcNutr (6-11)'!F$44),SUM('3B-4B) CalcNutr (6-11)'!F30/100)*('3B-4B) CalcNutr (6-11)'!F$45),SUM('3B-4B) CalcNutr (6-11)'!G30/100)*('3B-4B) CalcNutr (6-11)'!F$46),SUM('3B-4B) CalcNutr (6-11)'!H30/100)*('3B-4B) CalcNutr (6-11)'!F$47),SUM('3B-4B) CalcNutr (6-11)'!I30/100)*('3B-4B) CalcNutr (6-11)'!F$48),SUM('3B-4B) CalcNutr (6-11)'!J30/100)*('3B-4B) CalcNutr (6-11)'!F$49),SUM('3B-4B) CalcNutr (6-11)'!K30/100)*('3B-4B) CalcNutr (6-11)'!F$50),SUM('3B-4B) CalcNutr (6-11)'!L30/100)*('3B-4B) CalcNutr (6-11)'!F$51),SUM('3B-4B) CalcNutr (6-11)'!M30/100)*('3B-4B) CalcNutr (6-11)'!F52),SUM('3B-4B) CalcNutr (6-11)'!N30/100)*('3B-4B) CalcNutr (6-11)'!F53),SUM('3B-4B) CalcNutr (6-11)'!O30/100)*('3B-4B) CalcNutr (6-11)'!F54))","v":0},0,11,0,8,0,11,0,10,0,{"$f":"(20+35)/2","v":27.5},0,3,0,2.5,0,3,0]
["Vitamine A EAR (mcg)",{"$f":"SUM(('3B-4B) CalcNutr (6-11)'!C31/100)*('3B-4B) CalcNutr (6-11)'!F$42),SUM('3B-4B) CalcNutr (6-11)'!D31/100)*('3B-4B) CalcNutr (6-11)'!F$43),SUM('3B-4B) CalcNutr (6-11)'!E31/100)*('3B-4B) CalcNutr (6-11)'!F$44),SUM('3B-4B) CalcNutr (6-11)'!F31/100)*('3B-4B) CalcNutr (6-11)'!F$45),SUM('3B-4B) CalcNutr (6-11)'!G31/100)*('3B-4B) CalcNutr (6-11)'!F$46),SUM('3B-4B) CalcNutr (6-11)'!H31/100)*('3B-4B) CalcNutr (6-11)'!F$47),SUM('3B-4B) CalcNutr (6-11)'!I31/100)*('3B-4B) CalcNutr (6-11)'!F$48),SUM('3B-4B) CalcNutr (6-11)'!J31/100)*('3B-4B) CalcNutr (6-11)'!F$49),SUM('3B-4B) CalcNutr (6-11)'!K31/100)*('3B-4B) CalcNutr (6-11)'!F$50),SUM('3B-4B) CalcNutr (6-11)'!L31/100)*('3B-4B) CalcNutr (6-11)'!F$51),SUM('3B-4B) CalcNutr (6-11)'!M31/100)*('3B-4B) CalcNutr (6-11)'!F52),SUM('3B-4B) CalcNutr (6-11)'!N31/100)*('3B-4B) CalcNutr (6-11)'!F53),SUM('3B-4B) CalcNutr (6-11)'!O31/100)*('3B-4B) CalcNutr (6-11)'!F54))","v":0},{"$f":"((IF('3B-4B) CalcNutr (6-11)'!F41=\"Boiled (<10 min)\",0.8,IF('3B-4B) CalcNutr (6-11)'!F41=\"Boiled (>10 min)\",0.75,IF('3B-4B) CalcNutr (6-11)'!F41=\"Steamed\",0.9,IF('3B-4B) CalcNutr (6-11)'!F41=\"Fried\",0.9,IF('3B-4B) CalcNutr (6-11)'!F41=\"Baked\",0.9,IF('3B-4B) CalcNutr (6-11)'!F41=\"Raw (no cooking)\",1,IF('3B-4B) CalcNutr (6-11)'!F41=\"Other cooking method\",1))))))))*B48)","v":0},900,0,700,0,1300,0,700,0,{"$f":"2500*0.3","v":750},0,300,0,210,0,500,0]
["Thiamine [Vitamine B1] (mg)",{"$f":"SUM(('3B-4B) CalcNutr (6-11)'!C32/100)*('3B-4B) CalcNutr (6-11)'!F$42),SUM('3B-4B) CalcNutr (6-11)'!D32/100)*('3B-4B) CalcNutr (6-11)'!F$43),SUM('3B-4B) CalcNutr (6-11)'!E32/100)*('3B-4B) CalcNutr (6-11)'!F$44),SUM('3B-4B) CalcNutr (6-11)'!F32/100)*('3B-4B) CalcNutr (6-11)'!F$45),SUM('3B-4B) CalcNutr (6-11)'!G32/100)*('3B-4B) CalcNutr (6-11)'!F$46),SUM('3B-4B) CalcNutr (6-11)'!H32/100)*('3B-4B) CalcNutr (6-11)'!F$47),SUM('3B-4B) CalcNutr (6-11)'!I32/100)*('3B-4B) CalcNutr (6-11)'!F$48),SUM('3B-4B) CalcNutr (6-11)'!J32/100)*('3B-4B) CalcNutr (6-11)'!F$49),SUM('3B-4B) CalcNutr (6-11)'!K32/100)*('3B-4B) CalcNutr (6-11)'!F$50),SUM('3B-4B) CalcNutr (6-11)'!L32/100)*('3B-4B) CalcNutr (6-11)'!F$51),SUM('3B-4B) CalcNutr (6-11)'!M32/100)*('3B-4B) CalcNutr (6-11)'!F$52),SUM('3B-4B) CalcNutr (6-11)'!N32/100)*('3B-4B) CalcNutr (6-11)'!F$53),SUM('3B-4B) CalcNutr (6-11)'!O32/100)*('3B-4B) CalcNutr (6-11)'!F$54))","v":0},{"$f":"((IF('3B-4B) CalcNutr (6-11)'!F41=\"Boiled (<10 min)\",0.75,IF('3B-4B) CalcNutr (6-11)'!F41=\"Boiled (>10 min)\",0.65,IF('3B-4B) CalcNutr (6-11)'!F41=\"Steamed\",0.8,IF('3B-4B) CalcNutr (6-11)'!F41=\"Fried\",0.8,IF('3B-4B) CalcNutr (6-11)'!F41=\"Baked\",0.85,IF('3B-4B) CalcNutr (6-11)'!F41=\"Raw (no cooking)\",1,IF('3B-4B) CalcNutr (6-11)'!F41=\"Other cooking method\",1))))))))*B49)","v":0},1.2,0,1.1000000000000001,0,1.4,0,1.2,0,1,0,0.5,0,0.4,0,0.3,0]
["Riboflavine [Vitamine B2] (mg)",{"$f":"SUM(('3B-4B) CalcNutr (6-11)'!C33/100)*('3B-4B) CalcNutr (6-11)'!F$42),SUM('3B-4B) CalcNutr (6-11)'!D33/100)*('3B-4B) CalcNutr (6-11)'!F$43),SUM('3B-4B) CalcNutr (6-11)'!E33/100)*('3B-4B) CalcNutr (6-11)'!F$44),SUM('3B-4B) CalcNutr (6-11)'!F33/100)*('3B-4B) CalcNutr (6-11)'!F$45),SUM('3B-4B) CalcNutr (6-11)'!G33/100)*('3B-4B) CalcNutr (6-11)'!F$46),SUM('3B-4B) CalcNutr (6-11)'!H33/100)*('3B-4B) CalcNutr (6-11)'!F$47),SUM('3B-4B) CalcNutr (6-11)'!I33/100)*('3B-4B) CalcNutr (6-11)'!F$48),SUM('3B-4B) CalcNutr (6-11)'!J33/100)*('3B-4B) CalcNutr (6-11)'!F$49),SUM('3B-4B) CalcNutr (6-11)'!K33/100)*('3B-4B) CalcNutr (6-11)'!F$50),SUM('3B-4B) CalcNutr (6-11)'!L33/100)*('3B-4B) CalcNutr (6-11)'!F$51),SUM('3B-4B) CalcNutr (6-11)'!M33/100)*('3B-4B) CalcNutr (6-11)'!F$52),SUM('3B-4B) CalcNutr (6-11)'!N33/100)*('3B-4B) CalcNutr (6-11)'!F$53),SUM('3B-4B) CalcNutr (6-11)'!O33/100)*('3B-4B) CalcNutr (6-11)'!F$54))","v":0},{"$f":"((IF('3B-4B) CalcNutr (6-11)'!F41=\"Boiled (<10 min)\",0.75,IF('3B-4B) CalcNutr (6-11)'!F41=\"Boiled (>10 min)\",0.65,IF('3B-4B) CalcNutr (6-11)'!F41=\"Steamed\",0.9,IF('3B-4B) CalcNutr (6-11)'!F41=\"Fried\",0.9,IF('3B-4B) CalcNutr (6-11)'!F41=\"Baked\",0.9,IF('3B-4B) CalcNutr (6-11)'!F41=\"Raw (no cooking)\",1,IF('3B-4B) CalcNutr (6-11)'!F41=\"Other cooking method\",1))))))))*B50)","v":0},1.3,0,1.1000000000000001,0,1.5,0,1.1499999999999999,0,4,0,0.5,0,0.4,0,0.4,0]
["Equiv. Niacine [Vitamine B3] (mg)",{"$f":"SUM(('3B-4B) CalcNutr (6-11)'!C34/100)*('3B-4B) CalcNutr (6-11)'!F$42),SUM('3B-4B) CalcNutr (6-11)'!D34/100)*('3B-4B) CalcNutr (6-11)'!F$43),SUM('3B-4B) CalcNutr (6-11)'!E34/100)*('3B-4B) CalcNutr (6-11)'!F$44),SUM('3B-4B) CalcNutr (6-11)'!F34/100)*('3B-4B) CalcNutr (6-11)'!F$45),SUM('3B-4B) CalcNutr (6-11)'!G34/100)*('3B-4B) CalcNutr (6-11)'!F$46),SUM('3B-4B) CalcNutr (6-11)'!H34/100)*('3B-4B) CalcNutr (6-11)'!F$47),SUM('3B-4B) CalcNutr (6-11)'!I34/100)*('3B-4B) CalcNutr (6-11)'!F$48),SUM('3B-4B) CalcNutr (6-11)'!J34/100)*('3B-4B) CalcNutr (6-11)'!F$49),SUM('3B-4B) CalcNutr (6-11)'!K34/100)*('3B-4B) CalcNutr (6-11)'!F$50),SUM('3B-4B) CalcNutr (6-11)'!L34/100)*('3B-4B) CalcNutr (6-11)'!F$51),SUM('3B-4B) CalcNutr (6-11)'!M34/100)*('3B-4B) CalcNutr (6-11)'!F$52),SUM('3B-4B) CalcNutr (6-11)'!N34/100)*('3B-4B) CalcNutr (6-11)'!FF$53),SUM('3B-4B) CalcNutr (6-11)'!O34/100)*('3B-4B) CalcNutr (6-11)'!F$54))","v":0},{"$f":"((IF('3B-4B) CalcNutr (6-11)'!F41=\"Boiled (<10 min)\",0.8,IF('3B-4B) CalcNutr (6-11)'!F41=\"Boiled (>10 min)\",0.75,IF('3B-4B) CalcNutr (6-11)'!F41=\"Steamed\",0.9,IF('3B-4B) CalcNutr (6-11)'!F41=\"Fried\",0.9,IF('3B-4B) CalcNutr (6-11)'!F41=\"Baked\",0.9,IF('3B-4B) CalcNutr (6-11)'!F41=\"Raw (no cooking)\",1,IF('3B-4B) CalcNutr (6-11)'!F41=\"Other cooking method\",1))))))))*B51)","v":0},16,0,14,0,18,0,15,0,8,0,6,0,5,0,4,0]
["Folate EFA (mcg)",{"$f":"SUM(('3B-4B) CalcNutr (6-11)'!C35/100)*('3B-4B) CalcNutr (6-11)'!F$42),SUM('3B-4B) CalcNutr (6-11)'!D35/100)*('3B-4B) CalcNutr (6-11)'!F$43),SUM('3B-4B) CalcNutr (6-11)'!E35/100)*('3B-4B) CalcNutr (6-11)'!F$44),SUM('3B-4B) CalcNutr (6-11)'!F35/100)*('3B-4B) CalcNutr (6-11)'!F$45),SUM('3B-4B) CalcNutr (6-11)'!G35/100)*('3B-4B) CalcNutr (6-11)'!F$46),SUM('3B-4B) CalcNutr (6-11)'!H35/100)*('3B-4B) CalcNutr (6-11)'!F$47),SUM('3B-4B) CalcNutr (6-11)'!I35/100)*('3B-4B) CalcNutr (6-11)'!F$48),SUM('3B-4B) CalcNutr (6-11)'!J35/100)*('3B-4B) CalcNutr (6-11)'!F$49),SUM('3B-4B) CalcNutr (6-11)'!K35/100)*('3B-4B) CalcNutr (6-11)'!F$50),SUM('3B-4B) CalcNutr (6-11)'!L35/100)*('3B-4B) CalcNutr (6-11)'!F$51),SUM('3B-4B) CalcNutr (6-11)'!M31/100)*('3B-4B) CalcNutr (6-11)'!F52),SUM('3B-4B) CalcNutr (6-11)'!N31/100)*('3B-4B) CalcNutr (6-11)'!F53),SUM('3B-4B) CalcNutr (6-11)'!O31/100)*('3B-4B) CalcNutr (6-11)'!F54))","v":0},{"$f":"((IF('3B-4B) CalcNutr (6-11)'!F41=\"Boiled (<10 min)\",0.8,IF('3B-4B) CalcNutr (6-11)'!F41=\"Boiled (>10 min)\",0.7,IF('3B-4B) CalcNutr (6-11)'!F41=\"Steamed\",0.85,IF('3B-4B) CalcNutr (6-11)'!F41=\"Fried\",0.85,IF('3B-4B) CalcNutr (6-11)'!F41=\"Baked\",0.9,IF('3B-4B) CalcNutr (6-11)'!F41=\"Raw (no cooking)\",1,IF('3B-4B) CalcNutr (6-11)'!F41=\"Other cooking method\",1))))))))*B52)","v":0},400,0,400,0,600,0,400,0,200,0,150,0,120,0,80,0]
["Vitamine B12 (mcg)",{"$f":"SUM(('3B-4B) CalcNutr (6-11)'!C36/100)*('3B-4B) CalcNutr (6-11)'!F$42),SUM('3B-4B) CalcNutr (6-11)'!D36/100)*('3B-4B) CalcNutr (6-11)'!F$43),SUM('3B-4B) CalcNutr (6-11)'!E36/100)*('3B-4B) CalcNutr (6-11)'!F$44),SUM('3B-4B) CalcNutr (6-11)'!F36/100)*('3B-4B) CalcNutr (6-11)'!F$45),SUM('3B-4B) CalcNutr (6-11)'!G36/100)*('3B-4B) CalcNutr (6-11)'!F$46),SUM('3B-4B) CalcNutr (6-11)'!H36/100)*('3B-4B) CalcNutr (6-11)'!F$47),SUM('3B-4B) CalcNutr (6-11)'!I36/100)*('3B-4B) CalcNutr (6-11)'!F$48),SUM('3B-4B) CalcNutr (6-11)'!J36/100)*('3B-4B) CalcNutr (6-11)'!F$49),SUM('3B-4B) CalcNutr (6-11)'!K36/100)*('3B-4B) CalcNutr (6-11)'!F$50),SUM('3B-4B) CalcNutr (6-11)'!L36/100)*('3B-4B) CalcNutr (6-11)'!F$51),SUM('3B-4B) CalcNutr (6-11)'!M36/100)*('3B-4B) CalcNutr (6-11)'!F52),SUM('3B-4B) CalcNutr (6-11)'!N36/100)*('3B-4B) CalcNutr (6-11)'!F53),SUM('3B-4B) CalcNutr (6-11)'!O36/100)*('3B-4B) CalcNutr (6-11)'!F54))","v":0},{"$f":"((IF('3B-4B) CalcNutr (6-11)'!F41=\"Boiled (<10 min)\",0.9,IF('3B-4B) CalcNutr (6-11)'!F41=\"Boiled (>10 min)\",0.8,IF('3B-4B) CalcNutr (6-11)'!F41=\"Steamed\",0.9,IF('3B-4B) CalcNutr (6-11)'!F41=\"Fried\",0.9,IF('3B-4B) CalcNutr (6-11)'!F41=\"Baked\",0.9,IF('3B-4B) CalcNutr (6-11)'!F41=\"Raw (no cooking)\",1,IF('3B-4B) CalcNutr (6-11)'!F41=\"Other cooking method\",1))))))))*B53)","v":0},2.4,0,2.4,0,2.8,0,2.4,0,5,0,0.9,0,0.7,0,0.5,0]
["Vitamine C (mg)",{"$f":"SUM(('3B-4B) CalcNutr (6-11)'!C37/100)*('3B-4B) CalcNutr (6-11)'!F$42),SUM('3B-4B) CalcNutr (6-11)'!D37/100)*('3B-4B) CalcNutr (6-11)'!F$43),SUM('3B-4B) CalcNutr (6-11)'!E37/100)*('3B-4B) CalcNutr (6-11)'!F$44),SUM('3B-4B) CalcNutr (6-11)'!F37/100)*('3B-4B) CalcNutr (6-11)'!F$45),SUM('3B-4B) CalcNutr (6-11)'!G37/100)*('3B-4B) CalcNutr (6-11)'!F$46),SUM('3B-4B) CalcNutr (6-11)'!H37/100)*('3B-4B) CalcNutr (6-11)'!F$47),SUM('3B-4B) CalcNutr (6-11)'!I37/100)*('3B-4B) CalcNutr (6-11)'!F$48),SUM('3B-4B) CalcNutr (6-11)'!J37/100)*('3B-4B) CalcNutr (6-11)'!F$49),SUM('3B-4B) CalcNutr (6-11)'!K37/100)*('3B-4B) CalcNutr (6-11)'!F$50),SUM('3B-4B) CalcNutr (6-11)'!L37/100)*('3B-4B) CalcNutr (6-11)'!F$51),SUM('3B-4B) CalcNutr (6-11)'!M37/100)*('3B-4B) CalcNutr (6-11)'!F52),SUM('3B-4B) CalcNutr (6-11)'!N37/100)*('3B-4B) CalcNutr (6-11)'!F53),SUM('3B-4B) CalcNutr (6-11)'!O37/100)*('3B-4B) CalcNutr (6-11)'!F54))","v":0},{"$f":"((IF('3B-4B) CalcNutr (6-11)'!F41=\"Boiled (<10 min)\",0.8,IF('3B-4B) CalcNutr (6-11)'!F41=\"Boiled (>10 min)\",0.6,IF('3B-4B) CalcNutr (6-11)'!F41=\"Steamed\",0.8,IF('3B-4B) CalcNutr (6-11)'!F41=\"Fried\",0.8,IF('3B-4B) CalcNutr (6-11)'!F41=\"Baked\",0.8,IF('3B-4B) CalcNutr (6-11)'!F41=\"Raw (no cooking)\",1,IF('3B-4B) CalcNutr (6-11)'!F41=\"Other cooking method\",1))))))))*B54)","v":0},90,0,75,0,120,0,70,0,150,0,15,0,13,0,50,0]
[]
[null,null,null,null,null,null,null,null,null,null,null,null,null,null,null,null,null,"= >30% VJ","= >30% VJ"]